BEGIN:VCALENDAR
VERSION:2.0
PRODID:-//Mountain BizWorks - ECPv6.15.20//NONSGML v1.0//EN
CALSCALE:GREGORIAN
METHOD:PUBLISH
X-WR-CALNAME:Mountain BizWorks
X-ORIGINAL-URL:https://wpengine.mountainbizworks.org
X-WR-CALDESC:Events for Mountain BizWorks
REFRESH-INTERVAL;VALUE=DURATION:PT1H
X-Robots-Tag:noindex
X-PUBLISHED-TTL:PT1H
BEGIN:VTIMEZONE
TZID:America/Halifax
BEGIN:DAYLIGHT
TZOFFSETFROM:-0400
TZOFFSETTO:-0300
TZNAME:ADT
DTSTART:20160313T060000
END:DAYLIGHT
BEGIN:STANDARD
TZOFFSETFROM:-0300
TZOFFSETTO:-0400
TZNAME:AST
DTSTART:20161106T050000
END:STANDARD
BEGIN:DAYLIGHT
TZOFFSETFROM:-0400
TZOFFSETTO:-0300
TZNAME:ADT
DTSTART:20170312T060000
END:DAYLIGHT
BEGIN:STANDARD
TZOFFSETFROM:-0300
TZOFFSETTO:-0400
TZNAME:AST
DTSTART:20171105T050000
END:STANDARD
BEGIN:DAYLIGHT
TZOFFSETFROM:-0400
TZOFFSETTO:-0300
TZNAME:ADT
DTSTART:20180311T060000
END:DAYLIGHT
BEGIN:STANDARD
TZOFFSETFROM:-0300
TZOFFSETTO:-0400
TZNAME:AST
DTSTART:20181104T050000
END:STANDARD
END:VTIMEZONE
BEGIN:VEVENT
DTSTART;TZID=America/Halifax:20170228T180000
DTEND;TZID=America/Halifax:20170228T200000
DTSTAMP:20260424T123849
CREATED:20161221T172539Z
LAST-MODIFIED:20170217T214753Z
UID:10001725-1488304800-1488312000@wpengine.mountainbizworks.org
SUMMARY:Wilksboro\, NC:  Crowdfunding for Small Businesses
DESCRIPTION:Crowdfunding is quickly becoming a popular financing option for aspiring entrepreneurs. This seminar will focus on defining the concept of crowdfunding\, identifying available platforms\, how to choose the best platform\, and planning equity crowdfunding for the future. Chris Grasinger will share his own experiences with several crowdfunding campaigns and how it can lead to other funding opportunities.\n\n\nCost: FREE\n\nCLICK HERE TO REGISTER\n\nIf you have any questions\, please contact Ascent at: info@ascentbusinessnetwork.com
URL:https://wpengine.mountainbizworks.org/event/wilksboro-nc-crowdfunding-for-small-businesses/
LOCATION:Wilkes Community College – Beacon Hall\, 1328 South Collegiate Drive\, Wilksboro\, NC\, 28697\, United States
GEO:36.1371351;-81.1827753
X-APPLE-STRUCTURED-LOCATION;VALUE=URI;X-ADDRESS=Wilkes Community College – Beacon Hall 1328 South Collegiate Drive Wilksboro NC 28697 United States;X-APPLE-RADIUS=500;X-TITLE=1328 South Collegiate Drive:geo:-81.1827753,36.1371351
END:VEVENT
END:VCALENDAR