BEGIN:VCALENDAR
VERSION:2.0
PRODID:-//Mountain BizWorks - ECPv6.15.20//NONSGML v1.0//EN
CALSCALE:GREGORIAN
METHOD:PUBLISH
X-WR-CALNAME:Mountain BizWorks
X-ORIGINAL-URL:https://wpengine.mountainbizworks.org
X-WR-CALDESC:Events for Mountain BizWorks
REFRESH-INTERVAL;VALUE=DURATION:PT1H
X-Robots-Tag:noindex
X-PUBLISHED-TTL:PT1H
BEGIN:VTIMEZONE
TZID:America/New_York
BEGIN:DAYLIGHT
TZOFFSETFROM:-0500
TZOFFSETTO:-0400
TZNAME:EDT
DTSTART:20230312T070000
END:DAYLIGHT
BEGIN:STANDARD
TZOFFSETFROM:-0400
TZOFFSETTO:-0500
TZNAME:EST
DTSTART:20231105T060000
END:STANDARD
BEGIN:DAYLIGHT
TZOFFSETFROM:-0500
TZOFFSETTO:-0400
TZNAME:EDT
DTSTART:20240310T070000
END:DAYLIGHT
BEGIN:STANDARD
TZOFFSETFROM:-0400
TZOFFSETTO:-0500
TZNAME:EST
DTSTART:20241103T060000
END:STANDARD
BEGIN:DAYLIGHT
TZOFFSETFROM:-0500
TZOFFSETTO:-0400
TZNAME:EDT
DTSTART:20250309T070000
END:DAYLIGHT
BEGIN:STANDARD
TZOFFSETFROM:-0400
TZOFFSETTO:-0500
TZNAME:EST
DTSTART:20251102T060000
END:STANDARD
END:VTIMEZONE
BEGIN:VEVENT
DTSTART;TZID=America/New_York:20241106T170000
DTEND;TZID=America/New_York:20241106T180000
DTSTAMP:20260424T111237
CREATED:20241030T214843Z
LAST-MODIFIED:20241101T192825Z
UID:10002743-1730912400-1730916000@wpengine.mountainbizworks.org
SUMMARY:Sesión Informativa: Subvenciones para la Recuperación de Pequeñas Empresas
DESCRIPTION:Reunión para conocer más sobre varias oportunidades de financiamiento para las empresas afectadas por la tormenta en el oeste de Carolina del Norte\, incluida la recientemente lanzada Iniciativa para Pequeñas Empresas del Oeste de Carolina del Norte (WNCSBI). Esta iniciativa\, liderada por Appalachian Community Capital (ACC)\, ofrecerá becas de ayuda inmediata hasta de $25\,000 a empresas pequeñas en los 18 condados de Dogwood que sufrieron daños físicos por la tormenta\, y que tienen menos de $1 millón en ingresos anuales. \nEl seminario hablará sobre los requisitos de elegibilidad\, el proceso de solicitud\, la documentación requerida para la verificación de los daños de la tormenta\, consejos para maximizar el éxito de su solicitud y recursos adicionales disponibles para las empresas afectadas. \nDespués de la presentación tendremos una sesión de preguntas y respuestas. \n \nEsta sesión informativa forma parte de la iniciativa WNC Strong.
URL:https://wpengine.mountainbizworks.org/event/sesion-informativa-sobre-subvenciones/
LOCATION:Western Women’s Business Center\, 3 S Tunnel Rd\, Ste A-08\, Asheville\, 28805\, United States
CATEGORIES:Class,Latinx Entrepreneurship Programming,Learn,Workshop
END:VEVENT
END:VCALENDAR