BEGIN:VCALENDAR
VERSION:2.0
PRODID:-//Mountain BizWorks - ECPv6.15.20//NONSGML v1.0//EN
CALSCALE:GREGORIAN
METHOD:PUBLISH
X-WR-CALNAME:Mountain BizWorks
X-ORIGINAL-URL:https://wpengine.mountainbizworks.org
X-WR-CALDESC:Events for Mountain BizWorks
REFRESH-INTERVAL;VALUE=DURATION:PT1H
X-Robots-Tag:noindex
X-PUBLISHED-TTL:PT1H
BEGIN:VTIMEZONE
TZID:America/Halifax
BEGIN:DAYLIGHT
TZOFFSETFROM:-0400
TZOFFSETTO:-0300
TZNAME:ADT
DTSTART:20150308T060000
END:DAYLIGHT
BEGIN:STANDARD
TZOFFSETFROM:-0300
TZOFFSETTO:-0400
TZNAME:AST
DTSTART:20151101T050000
END:STANDARD
BEGIN:DAYLIGHT
TZOFFSETFROM:-0400
TZOFFSETTO:-0300
TZNAME:ADT
DTSTART:20160313T060000
END:DAYLIGHT
BEGIN:STANDARD
TZOFFSETFROM:-0300
TZOFFSETTO:-0400
TZNAME:AST
DTSTART:20161106T050000
END:STANDARD
BEGIN:DAYLIGHT
TZOFFSETFROM:-0400
TZOFFSETTO:-0300
TZNAME:ADT
DTSTART:20170312T060000
END:DAYLIGHT
BEGIN:STANDARD
TZOFFSETFROM:-0300
TZOFFSETTO:-0400
TZNAME:AST
DTSTART:20171105T050000
END:STANDARD
END:VTIMEZONE
BEGIN:VEVENT
DTSTART;TZID=America/Halifax:20161006T180000
DTEND;TZID=America/Halifax:20161006T210000
DTSTAMP:20260424T104046
CREATED:20160912T150043Z
LAST-MODIFIED:20160912T150323Z
UID:10001696-1475776800-1475787600@wpengine.mountainbizworks.org
SUMMARY:6-Week Business Planning Course in West Jefferson (Ashe Co.)
DESCRIPTION:The 6-Week Business Planning Course helps aspiring entrepreneurs and existing business owners to create a comprehensive business plan and gain the goals needed to successfully launch or improve your business. Participants acquire a clear aerial perspective of operations\, financials\, product/service development\, and marketing. The concepts of start-up and overhead costs\, units\, break-even point\, cash flow\, mission and vision\, target markets\, and marketing strategy are featured. This course is an refined version of the popular Foundations course that has helped to launch and expand hundreds of WNC’s most successful small businesses. \nThis course will take place in West Jefferson (location TBD) beginning Thursday October 6 and running until November 10th from 6pm-9pm each week. This course will be facilitated by Carol Coulter. \nClick here to register\n \nThe course is part of Mountain BizWorks’ 2016-17 High Country training series offered in partnership with Ascent Business Network and with funding support from USDA Rural Development and Appalachian Regional Commission. \nIn 18 hours over 6 weekly sessions\, participants will gain a clear aerial perspective of their business operations\, financials\, research and development\, and marketing strategies. Participants will leave the course with a comprehensive business plan\, a clear vision for their business\, and concrete tasks for future work. \n\nWeek 1 Gaining Perspective: We start by viewing our business concepts from a high altitude\, in order to define our visions and get a good look at the main topics to be addressed.\nWeek 2 Laying the Foundation: Next\, we return to the ground level to define our lines of business and analyze financial essentials\, from overhead costs to break-even points.\nWeek 3 Getting into the Flow: In the third session\, we’ll cover the financial bases of cash flow\, sales forecasting\, and financial documents.\nWeek 4 Mission & Markets: Then\, we’ll revisit our mission\, discuss market research\, and identify competitors in order to align with our target markets.\nWeek 5 Get the Word Out: Next\, we’ll discuss creative marketing strategies and give peer feedback on marketing materials.\nWeek 6 Goodbye & Good Luck: Finally\, we’ll present our business plans\, share final pitches\, and plan for next steps.
URL:https://wpengine.mountainbizworks.org/event/6-week-business-planning-course-in-west-jefferson-ashe-co/
LOCATION:West Jefferson TBD\, West Jefferson\, NC\, 28694
CATEGORIES:Class,High Country Classes & Workshops
GEO:36.4037364;-81.4928829
END:VEVENT
END:VCALENDAR