BEGIN:VCALENDAR
VERSION:2.0
PRODID:-//Mountain BizWorks - ECPv6.15.20//NONSGML v1.0//EN
CALSCALE:GREGORIAN
METHOD:PUBLISH
X-WR-CALNAME:Mountain BizWorks
X-ORIGINAL-URL:https://wpengine.mountainbizworks.org
X-WR-CALDESC:Events for Mountain BizWorks
REFRESH-INTERVAL;VALUE=DURATION:PT1H
X-Robots-Tag:noindex
X-PUBLISHED-TTL:PT1H
BEGIN:VTIMEZONE
TZID:America/Halifax
BEGIN:DAYLIGHT
TZOFFSETFROM:-0400
TZOFFSETTO:-0300
TZNAME:ADT
DTSTART:20160313T060000
END:DAYLIGHT
BEGIN:STANDARD
TZOFFSETFROM:-0300
TZOFFSETTO:-0400
TZNAME:AST
DTSTART:20161106T050000
END:STANDARD
BEGIN:DAYLIGHT
TZOFFSETFROM:-0400
TZOFFSETTO:-0300
TZNAME:ADT
DTSTART:20170312T060000
END:DAYLIGHT
BEGIN:STANDARD
TZOFFSETFROM:-0300
TZOFFSETTO:-0400
TZNAME:AST
DTSTART:20171105T050000
END:STANDARD
BEGIN:DAYLIGHT
TZOFFSETFROM:-0400
TZOFFSETTO:-0300
TZNAME:ADT
DTSTART:20180311T060000
END:DAYLIGHT
BEGIN:STANDARD
TZOFFSETFROM:-0300
TZOFFSETTO:-0400
TZNAME:AST
DTSTART:20181104T050000
END:STANDARD
END:VTIMEZONE
BEGIN:VEVENT
DTSTART;TZID=America/Halifax:20171116T100000
DTEND;TZID=America/Halifax:20171116T113000
DTSTAMP:20260425T141055
CREATED:20171031T160524Z
LAST-MODIFIED:20171108T155756Z
UID:10001652-1510826400-1510831800@wpengine.mountainbizworks.org
SUMMARY:Business Resolutions
DESCRIPTION:An upcoming workshop entitled “Business Resolutions\,” is aimed at helping our local businesses\, especially those owned by people of color\, thrive in the new year.  This workshop\, sponsored by the New Economy Coalition\, will introduce attendees to the work of the New Economy Coalition\, a collaborative community collective working to develop more inclusive and equitable models for local economic development.  It will also guide attendees through some of the findings of the coalition’s recent leakage study\, which identifies existing exports or gaps in local services and products\, i.e. areas for potential new business development or expansion by businesses owned by people of color in our region. \nInformation will also be presented at these workshops about an upcoming 2018 series of workshops to be sponsored by the New Economy Coalition\, where participants can attain more in-depth information on the results of the leakage study. \nFinally\, it will look at how we can all support locally-owned businesses with our holiday shopping\, by making an effort to “Buy Black and Brown” (inspired by the national “Buy Black” campaign).  Business owners are encouraged to wear branded material and bring small collateral to the workshop\, in order to build awareness of those products for a wider audience. 
URL:https://wpengine.mountainbizworks.org/event/business-resolutions-2/
LOCATION:United Way of Asheville\, 50 S French Broad Ave\, Asheville\, NC\, 28801\, United States
CATEGORIES:Class,NEC Event
GEO:35.5916818;-82.5586007
X-APPLE-STRUCTURED-LOCATION;VALUE=URI;X-ADDRESS=United Way of Asheville 50 S French Broad Ave Asheville NC 28801 United States;X-APPLE-RADIUS=500;X-TITLE=50 S French Broad Ave:geo:-82.5586007,35.5916818
END:VEVENT
END:VCALENDAR