BEGIN:VCALENDAR
VERSION:2.0
PRODID:-//Mountain BizWorks - ECPv6.15.20//NONSGML v1.0//EN
CALSCALE:GREGORIAN
METHOD:PUBLISH
X-WR-CALNAME:Mountain BizWorks
X-ORIGINAL-URL:https://wpengine.mountainbizworks.org
X-WR-CALDESC:Events for Mountain BizWorks
REFRESH-INTERVAL;VALUE=DURATION:PT1H
X-Robots-Tag:noindex
X-PUBLISHED-TTL:PT1H
BEGIN:VTIMEZONE
TZID:America/New_York
BEGIN:DAYLIGHT
TZOFFSETFROM:-0500
TZOFFSETTO:-0400
TZNAME:EDT
DTSTART:20210314T070000
END:DAYLIGHT
BEGIN:STANDARD
TZOFFSETFROM:-0400
TZOFFSETTO:-0500
TZNAME:EST
DTSTART:20211107T060000
END:STANDARD
BEGIN:DAYLIGHT
TZOFFSETFROM:-0500
TZOFFSETTO:-0400
TZNAME:EDT
DTSTART:20220313T070000
END:DAYLIGHT
BEGIN:STANDARD
TZOFFSETFROM:-0400
TZOFFSETTO:-0500
TZNAME:EST
DTSTART:20221106T060000
END:STANDARD
BEGIN:DAYLIGHT
TZOFFSETFROM:-0500
TZOFFSETTO:-0400
TZNAME:EDT
DTSTART:20230312T070000
END:DAYLIGHT
BEGIN:STANDARD
TZOFFSETFROM:-0400
TZOFFSETTO:-0500
TZNAME:EST
DTSTART:20231105T060000
END:STANDARD
BEGIN:DAYLIGHT
TZOFFSETFROM:-0500
TZOFFSETTO:-0400
TZNAME:EDT
DTSTART:20240310T070000
END:DAYLIGHT
BEGIN:STANDARD
TZOFFSETFROM:-0400
TZOFFSETTO:-0500
TZNAME:EST
DTSTART:20241103T060000
END:STANDARD
BEGIN:DAYLIGHT
TZOFFSETFROM:-0500
TZOFFSETTO:-0400
TZNAME:EDT
DTSTART:20250309T070000
END:DAYLIGHT
BEGIN:STANDARD
TZOFFSETFROM:-0400
TZOFFSETTO:-0500
TZNAME:EST
DTSTART:20251102T060000
END:STANDARD
END:VTIMEZONE
BEGIN:VEVENT
DTSTART;TZID=America/New_York:20240124T173000
DTEND;TZID=America/New_York:20240124T203000
DTSTAMP:20260421T171343
CREATED:20231117T185722Z
LAST-MODIFIED:20240116T153045Z
UID:10002379-1706117400-1706128200@wpengine.mountainbizworks.org
SUMMARY:Fundaciones Planeación de Negocios - Cupo completo
DESCRIPTION:Planifique\, crezca y administre su negocio con nuestro curso de planeación de negocios\, Fundaciones! \nFecha: La clase se reunirá todos los lunes a partir del 24 de enero. \nHora: 5:30 pm – 8:30 pm \nUbicación:  Oficina de Mountain BizWorks; 153 S. Lexington Ave.\, Asheville\, Carolina del Norte 28801 \nPrecio del Curso\nEl costo del curso es de $225 dólares; Tenemos algunas becas parciales que están disponibles para las personas que necesitan ayuda. Se requiere de un depósito mínimo de 50% del total al momento de la inscripción para reservar su lugar. Hay disponibilidad de proporcionarle un plan de pago si su situación lo requiere. Le enviaremos un correo electrónico con instrucciones para saber cuales son los siguientes pasos. Esperamos que aproveche esta oportunidad y no deje que el dinero sea un obstáculo para ser parte de la clase de Fundaciones.  \nEn Mountain Bizwork\, valoramos las conexiones y relaciones humanas que se desarrollan a través de conocerlo y comprender mejor su negocio y situación actual. Se incluirá un enlace de pago en su correo electrónico de confirmación\, pero también le invitamos a que se comunique con nosotros a través de correo electrónico o llamarnos directamente. \n \nInformación de Becas\nSi vive en la ciudad de Asheville o en el WNC rural y tiene ingresos bajos a moderados\, puede calificar para una beca. Complete el formulario de registro en línea y acceda a la solicitud de beca dentro del formulario. Cada clase tiene un número limitado de becas disponibles por orden de llegada.  \n \nHorario de Clase\nSi no tiene acceso a una computadora\, Mountain BizWorks puede prestarle una computadora portátil para la clase. Para solicitar una computadora portátil\, envíe un correo electrónico jenny@mountainbizworks.org \nNos reuniremos el mismo día y hora puntual a las 5:30 PM. Favor de llegar temprano cada semana durante seis semanas. Se recomienda asistir a todas las clases para no quedarse atrás en ninguno de los materiales.  \nLa 1era sesión de Fundaciones es requerida\, pero si tiene un conflicto de horario en el que perderá cualquier otra clase\, requerimos que nos avise con tiempo. Avísale a Jenny. Si pierde alguna clase le apoyaremos con enviarle el material de la sesión para que en su tiempo individual pueda ponerse al tanto de las tareas y esté listo en la siguiente sesión. \n 
URL:https://wpengine.mountainbizworks.org/event/fundaciones-planeacion-de-negocios-7/
LOCATION:Unete\, 55 Adams Hill Rd\, Asheville\, NC\, 28806\, United States
CATEGORIES:Course,En Espanol,Event,Fundaciones,In-Person,Learn
END:VEVENT
BEGIN:VEVENT
DTSTART;TZID=America/New_York:20230831T090000
DTEND;TZID=America/New_York:20230831T120000
DTSTAMP:20260421T171343
CREATED:20221120T195759Z
LAST-MODIFIED:20230830T205029Z
UID:10002314-1693472400-1693483200@wpengine.mountainbizworks.org
SUMMARY:Fundaciones Planeación de Negocios
DESCRIPTION:Planifique\, crezca y administre su negocio con nuestro curso de planeación de negocios\, Fundaciones! \nFecha: La clase se reunirá todos los jueves 8/31 – 10/5 \nHora: 9:00 am – 12:00 pm \nUbicación: Unete\, 55 Adams Hill Rd. Asheville\, NC 28806 \nPrecio del Curso\nEl costo del curso es de $225 dólares; Tenemos algunas becas parciales que están disponibles para las personas que necesitan ayuda. Se requiere de un depósito mínimo de 50% del total al momento de la inscripción para reservar su lugar. Hay disponibilidad de proporcionarle un plan de pago si su situación lo requiere. Le enviaremos un correo electrónico con instrucciones para saber cuales son los siguientes pasos. Esperamos que aproveche esta oportunidad y no deje que el dinero sea un obstáculo para ser parte de la clase de Fundaciones.  \nEn Mountain Bizwork\, valoramos las conexiones y relaciones humanas que se desarrollan a través de conocerlo y comprender mejor su negocio y situación actual. Se incluirá un enlace de pago en su correo electrónico de confirmación\, pero también le invitamos a que se comunique con nosotros a través de correo electrónico o llamarnos directamente. \n \nInformación de Becas\nSi vive en la ciudad de Asheville o en el WNC rural y tiene ingresos bajos a moderados\, puede calificar para una beca. Complete el formulario de registro en línea y acceda a la solicitud de beca dentro del formulario. Cada clase tiene un número limitado de becas disponibles por orden de llegada.  \n \nHorario de Clase\nSi no tiene acceso a una computadora\, Mountain BizWorks puede prestarle una computadora portátil para la clase. Para solicitar una computadora portátil\, envíe un correo electrónico jenny@mountainbizworks.org \nNos reuniremos el mismo día y hora puntual a las 10:00 AM. Favor de llegar temprano cada semana durante seis semanas. Se recomienda asistir a todas las clases para no quedarse atrás en ninguno de los materiales.  \nLa 1era sesión de Fundaciones es requerida\, pero si tiene un conflicto de horario en el que perderá cualquier otra clase\, requerimos que nos avise con tiempo. Avísale a Jenny. Si pierde alguna clase le apoyaremos con enviarle el material de la sesión para que en su tiempo individual pueda ponerse al tanto de las tareas y esté listo en la siguiente sesión. \n 
URL:https://wpengine.mountainbizworks.org/event/fundaciones-planeacion-de-negocios-6/
LOCATION:Unete\, 55 Adams Hill Rd\, Asheville\, NC\, 28806\, United States
CATEGORIES:Course,En Espanol,Event,Fundaciones,In-Person,Learn
END:VEVENT
BEGIN:VEVENT
DTSTART;TZID=America/New_York:20220922T100000
DTEND;TZID=America/New_York:20220922T130000
DTSTAMP:20260421T171343
CREATED:20220623T160716Z
LAST-MODIFIED:20220922T135644Z
UID:10002276-1663840800-1663851600@wpengine.mountainbizworks.org
SUMMARY:Fundaciones Planeación de Negocios
DESCRIPTION:Planifique\, crezca y administre su negocio con nuestro curso de planeación de negocios\, Fundaciones! \nEmpieza: El 22 de Septiembre\, 2022 (la clase se reunirá todos los jueves del 22 de Septiembre al  27 de Octubre\, 10am-1:00pm).  \nUbicación: Unete – 55 Adams Hill Rd Asheville\, NC 28806 \n\n \n\nPrecio del Curso\nEl costo del curso es de $200 dólares; Tenemos algunas becas parciales que están disponibles para las personas que necesitan ayuda. Se requiere de un depósito mínimo de 50% del total al momento de la inscripción para reservar su lugar. Hay disponibilidad de proporcionarle un plan de pago si su situación lo requiere. Le enviaremos un correo electrónico con instrucciones para saber cuales son los siguientes pasos. Esperamos que aproveche esta oportunidad y no deje que el dinero sea un obstáculo para ser parte de la clase de Fundaciones.  \nEn Mountain Bizwork\, valoramos las conexiones y relaciones humanas que se desarrollan a través de conocerlo y comprender mejor su negocio y situación actual. Se incluirá un enlace de pago en su correo electrónico de confirmación\, pero también le invitamos a que se comunique con nosotros a través de correo electrónico o llamarnos directamente. \n \nInformación de Becas\nSi vive en la ciudad de Asheville o en el WNC rural y tiene ingresos bajos a moderados\, puede calificar para una beca. Complete el formulario de registro en línea y acceda a la solicitud de beca dentro del formulario. Cada clase tiene un número limitado de becas disponibles por orden de llegada. \n \nHorario de Clase\nNos reuniremos el mismo día y hora puntual a las 10:00AM. Favor de llegar temprano cada semana durante seis semanas. Se recomienda asistir a todas las clases para no quedarse atrás en ninguno de los materiales.  \nLa 1era sesión de Fundaciones es requerida\, pero si tiene un conflicto de horario en el que perderá cualquier otra clase\, requerimos que nos avise con tiempo. Avísale a Jenny. Si pierde alguna clase le apoyaremos con enviarle el material de la sesión para que en su tiempo individual pueda ponerse al tanto de las tareas y esté listo en la siguiente sesión. \n 
URL:https://wpengine.mountainbizworks.org/event/fundaciones-planeacion-de-negocios-3/
LOCATION:Unete\, 55 Adams Hill Rd\, Asheville\, NC\, 28806\, United States
CATEGORIES:Course,En Espanol,Event,Fundaciones,Learn
END:VEVENT
END:VCALENDAR