BEGIN:VCALENDAR
VERSION:2.0
PRODID:-//Mountain BizWorks - ECPv6.15.20//NONSGML v1.0//EN
CALSCALE:GREGORIAN
METHOD:PUBLISH
X-WR-CALNAME:Mountain BizWorks
X-ORIGINAL-URL:https://wpengine.mountainbizworks.org
X-WR-CALDESC:Events for Mountain BizWorks
REFRESH-INTERVAL;VALUE=DURATION:PT1H
X-Robots-Tag:noindex
X-PUBLISHED-TTL:PT1H
BEGIN:VTIMEZONE
TZID:America/Halifax
BEGIN:DAYLIGHT
TZOFFSETFROM:-0400
TZOFFSETTO:-0300
TZNAME:ADT
DTSTART:20180311T060000
END:DAYLIGHT
BEGIN:STANDARD
TZOFFSETFROM:-0300
TZOFFSETTO:-0400
TZNAME:AST
DTSTART:20181104T050000
END:STANDARD
BEGIN:DAYLIGHT
TZOFFSETFROM:-0400
TZOFFSETTO:-0300
TZNAME:ADT
DTSTART:20190310T060000
END:DAYLIGHT
BEGIN:STANDARD
TZOFFSETFROM:-0300
TZOFFSETTO:-0400
TZNAME:AST
DTSTART:20191103T050000
END:STANDARD
BEGIN:DAYLIGHT
TZOFFSETFROM:-0400
TZOFFSETTO:-0300
TZNAME:ADT
DTSTART:20200308T060000
END:DAYLIGHT
BEGIN:STANDARD
TZOFFSETFROM:-0300
TZOFFSETTO:-0400
TZNAME:AST
DTSTART:20201101T050000
END:STANDARD
END:VTIMEZONE
BEGIN:VEVENT
DTSTART;TZID=America/Halifax:20190814T173000
DTEND;TZID=America/Halifax:20190814T190000
DTSTAMP:20260422T003005
CREATED:20190620T163822Z
LAST-MODIFIED:20190807T201956Z
UID:10001986-1565803800-1565809200@wpengine.mountainbizworks.org
SUMMARY:Waypoint Accelerator Information Session (Boone) - UPDATED DATE
DESCRIPTION:Interested in learning about the new Waypoint Accelerator and possibly applying? If so\, we invite you to join us and other area entrepreneurs at one of our informational sessions where we’ll a) provide details on the program and how to prepare a strong application\, b) have an opportunity to hear everyone’s exciting new opportunities\, and c) network with industry peers. Attending an info session is not required to apply but we do encourage it so you’ll have a fuller understanding of the program. \nThis session will be held at Tsuga‘s new production facility at: 699 George Wilson Rd. Boone\, NC 28607 \nThis is a free session but an RSVP is requested. Thanks!
URL:https://wpengine.mountainbizworks.org/event/waypoint-accelerator-information-session-boone/
LOCATION:Tsuga’s new production facility\, 699 George Wilson Rd.\, Boone\, NC\, 28607\, United States
CATEGORIES:Class,Orientation Session,Waypoint Acclerator
END:VEVENT
END:VCALENDAR