BEGIN:VCALENDAR
VERSION:2.0
PRODID:-//Mountain BizWorks - ECPv6.15.20//NONSGML v1.0//EN
CALSCALE:GREGORIAN
METHOD:PUBLISH
X-WR-CALNAME:Mountain BizWorks
X-ORIGINAL-URL:https://wpengine.mountainbizworks.org
X-WR-CALDESC:Events for Mountain BizWorks
REFRESH-INTERVAL;VALUE=DURATION:PT1H
X-Robots-Tag:noindex
X-PUBLISHED-TTL:PT1H
BEGIN:VTIMEZONE
TZID:America/New_York
BEGIN:DAYLIGHT
TZOFFSETFROM:-0500
TZOFFSETTO:-0400
TZNAME:EDT
DTSTART:20220313T070000
END:DAYLIGHT
BEGIN:STANDARD
TZOFFSETFROM:-0400
TZOFFSETTO:-0500
TZNAME:EST
DTSTART:20221106T060000
END:STANDARD
BEGIN:DAYLIGHT
TZOFFSETFROM:-0500
TZOFFSETTO:-0400
TZNAME:EDT
DTSTART:20230312T070000
END:DAYLIGHT
BEGIN:STANDARD
TZOFFSETFROM:-0400
TZOFFSETTO:-0500
TZNAME:EST
DTSTART:20231105T060000
END:STANDARD
BEGIN:DAYLIGHT
TZOFFSETFROM:-0500
TZOFFSETTO:-0400
TZNAME:EDT
DTSTART:20240310T070000
END:DAYLIGHT
BEGIN:STANDARD
TZOFFSETFROM:-0400
TZOFFSETTO:-0500
TZNAME:EST
DTSTART:20241103T060000
END:STANDARD
END:VTIMEZONE
BEGIN:VEVENT
DTSTART;TZID=America/New_York:20230309T170000
DTEND;TZID=America/New_York:20230309T193000
DTSTAMP:20260424T081405
CREATED:20230217T145435Z
LAST-MODIFIED:20230217T154100Z
UID:10002332-1678381200-1678390200@wpengine.mountainbizworks.org
SUMMARY:Waypoint Accelerator Cohort 4 Graduation
DESCRIPTION:Celebrate the 2023 graduates of Waypoint Accelerator Cohort 4. Join us for an evening of networking and live pitches as company founders share their stories\, and map out the next stages of their journey. Tasty bites will be provided\, and Devil’s Foot Beverage will be pouring delicious locally-brewed libations. \nNetworking will start at 5:00. \nProgramming and pitches will start at 5:30. \nPitches will wrap by ~7:00 to give time for attendees to talk with the Cohort members and offer connections\, mentorship\, and resources to help them reach the next waypoints on their entrepreneurial journey. \nThis will be a great celebration and gathering of WNC’s outdoor entrepreneurial ecosystem\, so we hope you can join us in celebrating these amazing founders and the companies they are building!
URL:https://wpengine.mountainbizworks.org/event/waypoint-accelerator-cohort-4-graduation/
LOCATION:The Mule at Devil’s Foot Beverage\, 131 Sweeten Creek Rd\, Asheville\, NC\, 28803\, United States
END:VEVENT
END:VCALENDAR