BEGIN:VCALENDAR
VERSION:2.0
PRODID:-//Mountain BizWorks - ECPv6.15.20//NONSGML v1.0//EN
CALSCALE:GREGORIAN
METHOD:PUBLISH
X-WR-CALNAME:Mountain BizWorks
X-ORIGINAL-URL:https://wpengine.mountainbizworks.org
X-WR-CALDESC:Events for Mountain BizWorks
REFRESH-INTERVAL;VALUE=DURATION:PT1H
X-Robots-Tag:noindex
X-PUBLISHED-TTL:PT1H
BEGIN:VTIMEZONE
TZID:America/New_York
BEGIN:DAYLIGHT
TZOFFSETFROM:-0500
TZOFFSETTO:-0400
TZNAME:EDT
DTSTART:20230312T070000
END:DAYLIGHT
BEGIN:STANDARD
TZOFFSETFROM:-0400
TZOFFSETTO:-0500
TZNAME:EST
DTSTART:20231105T060000
END:STANDARD
BEGIN:DAYLIGHT
TZOFFSETFROM:-0500
TZOFFSETTO:-0400
TZNAME:EDT
DTSTART:20240310T070000
END:DAYLIGHT
BEGIN:STANDARD
TZOFFSETFROM:-0400
TZOFFSETTO:-0500
TZNAME:EST
DTSTART:20241103T060000
END:STANDARD
BEGIN:DAYLIGHT
TZOFFSETFROM:-0500
TZOFFSETTO:-0400
TZNAME:EDT
DTSTART:20250309T070000
END:DAYLIGHT
BEGIN:STANDARD
TZOFFSETFROM:-0400
TZOFFSETTO:-0500
TZNAME:EST
DTSTART:20251102T060000
END:STANDARD
END:VTIMEZONE
BEGIN:VTIMEZONE
TZID:America/Halifax
BEGIN:DAYLIGHT
TZOFFSETFROM:-0400
TZOFFSETTO:-0300
TZNAME:ADT
DTSTART:20180311T060000
END:DAYLIGHT
BEGIN:STANDARD
TZOFFSETFROM:-0300
TZOFFSETTO:-0400
TZNAME:AST
DTSTART:20181104T050000
END:STANDARD
BEGIN:DAYLIGHT
TZOFFSETFROM:-0400
TZOFFSETTO:-0300
TZNAME:ADT
DTSTART:20190310T060000
END:DAYLIGHT
BEGIN:STANDARD
TZOFFSETFROM:-0300
TZOFFSETTO:-0400
TZNAME:AST
DTSTART:20191103T050000
END:STANDARD
BEGIN:DAYLIGHT
TZOFFSETFROM:-0400
TZOFFSETTO:-0300
TZNAME:ADT
DTSTART:20200308T060000
END:DAYLIGHT
BEGIN:STANDARD
TZOFFSETFROM:-0300
TZOFFSETTO:-0400
TZNAME:AST
DTSTART:20201101T050000
END:STANDARD
END:VTIMEZONE
BEGIN:VEVENT
DTSTART;TZID=America/New_York:20240126T113000
DTEND;TZID=America/New_York:20240126T133000
DTSTAMP:20260424T140050
CREATED:20240111T211957Z
LAST-MODIFIED:20240111T211957Z
UID:10002649-1706268600-1706275800@wpengine.mountainbizworks.org
SUMMARY:NCSBC Business Sustainability Awards Luncheon 2024
DESCRIPTION:North Carolina Sustainable Business Council invites you to our 7th Annual Business Sustainability Awards Luncheon at the New Belgium Brewing\, near Downtown Asheville. \nJoin us in person as we celebrate business leaders who are paving the way to Transforming How We Do Business For Good! You will hear innovative entrepreneurs tell how their sustainable and multiple bottom-line business practices have propelled them to success while enhancing our communities and protecting our environment. \nThis year’s Theme is: Local Businesses = Stronger Communities \nHere are Three reasons why this is true: \n● Small businesses have generated 12.9 million new jobs during the last 25 years\, accounting for two out of every three jobs added to the economy \n● Local businesses contribute to 44% of US economic activity\, roughly $10 trillion \n● On average\, local retailers recirculate 48% of their revenue back into the local economy\, compared to only 14% for chain retailers
URL:https://wpengine.mountainbizworks.org/event/ncsbc-business-sustainability-awards-luncheon-2024/
LOCATION:New Belgium Brewery\, 21 Craven St.\, Asheville\, NC\, 28806\, United States
CATEGORIES:Partner Events
END:VEVENT
BEGIN:VEVENT
DTSTART;TZID=America/Halifax:20191009T180000
DTEND;TZID=America/Halifax:20191009T210000
DTSTAMP:20260424T140050
CREATED:20191001T203045Z
LAST-MODIFIED:20191001T203045Z
UID:10001791-1570644000-1570654800@wpengine.mountainbizworks.org
SUMMARY:Outdoor Business Pitch Competition
DESCRIPTION:Join us at the Outdoor Business Pitch Competition for drinks and refreshments while hearing from the up-and-coming businesses building the future of the outdoor industry in WNC. \nThe growing brands in our Waypoint Accelerator program – the East Coast’s first outdoor business accelerator – will star in the Outdoor Biz Pitch Competition\, hosted by the Small Business and Development Center (SBTDC) and partner organizations. \nA panel of judges – with representation from the outdoor industry\, academic leaders\, financial investors\, and other service advisors – will score the competitors. The top applicant will walk away with a monetary prize to use toward growing their business. Event attendees will also have the opportunity to participate in voting\, rounding out the panel with a crowd representative vote. \nThe Outdoor Biz Pitch Competition also serves as the opening reception for the 2019 Outdoor Economy Conference\, which will be held the next day – October 10 – at the Crowne Plaza in Asheville. \nThe Outdoor Biz Pitch Competition is open to the public and includes dinner and a free beer. \nTickets are $15. Get yours at www.sbtdc.org/outdoorbizpitch.
URL:https://wpengine.mountainbizworks.org/event/2019-outdoor-biz-pitch/
LOCATION:New Belgium Brewery\, 21 Craven St.\, Asheville\, NC\, 28806\, United States
CATEGORIES:Class,Partner Events,Waypoint Acclerator
END:VEVENT
END:VCALENDAR