BEGIN:VCALENDAR
VERSION:2.0
PRODID:-//Mountain BizWorks - ECPv6.15.20//NONSGML v1.0//EN
CALSCALE:GREGORIAN
METHOD:PUBLISH
X-WR-CALNAME:Mountain BizWorks
X-ORIGINAL-URL:https://wpengine.mountainbizworks.org
X-WR-CALDESC:Events for Mountain BizWorks
REFRESH-INTERVAL;VALUE=DURATION:PT1H
X-Robots-Tag:noindex
X-PUBLISHED-TTL:PT1H
BEGIN:VTIMEZONE
TZID:America/Halifax
BEGIN:DAYLIGHT
TZOFFSETFROM:-0400
TZOFFSETTO:-0300
TZNAME:ADT
DTSTART:20210314T060000
END:DAYLIGHT
BEGIN:STANDARD
TZOFFSETFROM:-0300
TZOFFSETTO:-0400
TZNAME:AST
DTSTART:20211107T050000
END:STANDARD
BEGIN:DAYLIGHT
TZOFFSETFROM:-0400
TZOFFSETTO:-0300
TZNAME:ADT
DTSTART:20220313T060000
END:DAYLIGHT
BEGIN:STANDARD
TZOFFSETFROM:-0300
TZOFFSETTO:-0400
TZNAME:AST
DTSTART:20221106T050000
END:STANDARD
BEGIN:DAYLIGHT
TZOFFSETFROM:-0400
TZOFFSETTO:-0300
TZNAME:ADT
DTSTART:20230312T060000
END:DAYLIGHT
BEGIN:STANDARD
TZOFFSETFROM:-0300
TZOFFSETTO:-0400
TZNAME:AST
DTSTART:20231105T050000
END:STANDARD
BEGIN:DAYLIGHT
TZOFFSETFROM:-0400
TZOFFSETTO:-0300
TZNAME:ADT
DTSTART:20240310T060000
END:DAYLIGHT
BEGIN:STANDARD
TZOFFSETFROM:-0300
TZOFFSETTO:-0400
TZNAME:AST
DTSTART:20241103T050000
END:STANDARD
END:VTIMEZONE
BEGIN:VEVENT
DTSTART;TZID=America/Halifax:20231012T235900
DTEND;TZID=America/Halifax:20231012T235900
DTSTAMP:20260425T071335
CREATED:20230727T143150Z
LAST-MODIFIED:20230926T202335Z
UID:10002359-1697155140-1697155140@wpengine.mountainbizworks.org
SUMMARY:Waypoint Accelerator - Application Due Date
DESCRIPTION:Mountain BizWorks\, the Outdoor Business Alliance of WNC\, and the NC Small Business and Technology Development Center (SBTDC) are excited to support the fifth Waypoint Accelerator cohort. \nCohort #5 Timeline\n\nThe 5th Cohort of the Waypoint Accelerator program will be announced and the application window will open August 28\, 2023\nApplications will be due on October 12 at 11:59 p.m. Up to 10 companies will be selected based on a competitive\, merit-based review process.\nCompanies selected will be notified October 20 by 5:00 p.m.\nThe Session Dates and Program Schedule are as follows:\n\nThursday November 2\, 1pm-5pm: Base Camp – Course Orientation & Wayfinding (IN-PERSON\, Asheville)\nThursday November 9\, 9:30am-12pm: Customer Development & The Outdoor Customer (VIRTUAL)\nThursday November 16\, 9:30am-12pm: Design Thinking (VIRTUAL)\nThursday November 30\, 9:30am-12pm: Go-to-Market Strategy and Tools Pt. 1 (VIRTUAL)\nThursday December 7\, 9:30am-12pm: Go-to-Market Strategy and Tools Pt. 2 (VIRTUAL)\nThursday December 14\, 9:30am-12pm: Financial Modeling (VIRTUAL)\nThursday January 11\, 1pm-5pm: Base Camp – Outdoor Customer Engagement & The Art of the Pitch (IN-PERSON\, Asheville)\nThursday January 18\, 9:30am-12pm: Legal – Intellectual Property\, Risk Management & HR (VIRTUAL)\nThursday January 25\, 9:30am-12pm: Raising Capital for Growth – Pathways & Strategy (VIRTUAL)\nThursday February 01\, 9:30am-12pm: Group Pitch Prep & Final Mastermind (VIRTUAL)\nThursday February 15\, 9:30am-12pm: Leadership and the Responsible Outdoor Company (VIRTUAL)\nThursday February 29\, 1-5pm: Base Camp- Large Group Pitch Practice (IN-PERSON & VIRTUAL)\nThursday March 7\, 4pm-8pm: Graduation- Final Pitch Presentations (IN-PERSON\, Asheville)\n\n\n\nAll applicants are asked to hold the above session dates and times on their calendars and\, if accepted\, are expected to commit to the entire duration of the program.
URL:https://wpengine.mountainbizworks.org/event/waypoint-accelerator-application-due-date-5/
LOCATION:NC\, NC\, United States
CATEGORIES:Class,Outdoors,Waypoint Acclerator
END:VEVENT
BEGIN:VEVENT
DTSTART;TZID=America/Halifax:20221006T235900
DTEND;TZID=America/Halifax:20221006T235900
DTSTAMP:20260425T071335
CREATED:20220728T145915Z
LAST-MODIFIED:20220728T151604Z
UID:10002022-1665100740-1665100740@wpengine.mountainbizworks.org
SUMMARY:Waypoint Accelerator - Application Due Date
DESCRIPTION:Mountain BizWorks\, the Outdoor Gear Builders of WNC\, and the NC Small Business and Technology Development Center (SBTDC) are excited to support the fourth Waypoint Accelerator cohort. \nCohort #4 Timeline\n\nThe 4th Cohort of the Waypoint Accelerator program will be announced and the application window will open mid July 2022\nApplications will be due on October 06 at 11:59 p.m. Up to 10 companies will be selected based on a competitive\, merit-based review process.\nCompanies selected will be notified October 14 at 5:00 p.m.\nThe Session Dates and Program Schedule are as follows:\n\nThursday November 3\, 1pm-5pm: Base Camp – Course Orientation & Wayfinding (IN-PERSON\, Asheville)\nThursday November 10\, 9:30am-12pm: Customer Development & The Outdoor Customer (VIRTUAL)\nThursday November 17\, 9:30am-12pm: Design Thinking (VIRTUAL)\nThursday December 1\, 9:30am-12pm: Go-to-Market Strategy and Tools Pt. 1 (VIRTUAL)\nThursday December 8\, 9:30am-12pm: Go-to-Market Strategy and Tools Pt. 2 (VIRTUAL)\nThursday December 15\, 9:30am-12pm: Financial Modeling (VIRTUAL)\nThursday January 12\, 1pm-5pm: Base Camp – Outdoor Customer Engagement & The Art of the Pitch (IN-PERSON\, Asheville)\nThursday January 19\, 9:30am-12pm: Legal – Intellectual Property\, Risk Management & HR (VIRTUAL)\nThursday January 26\, 9:30am-12pm: Raising Capital for Growth – Pathways & Strategy (VIRTUAL)\nThursday February 02\, 9:30am-12pm: Group Pitch Prep & Final Mastermind (VIRTUAL)\nThursday February 16\, 9:30am-12pm: Leadership and the Responsible Outdoor Company (VIRTUAL)\nThursday March 02\, 1-5pm: Base Camp- Large Group Pitch Practice (IN-PERSON & VIRTUAL)\nThursday March 9\, 1pm-5pm: Graduation- Final Pitch Presentations (IN-PERSON\, Asheville)\n\n\n\nAll applicants are asked to hold the above session dates and times on their calendars and\, if accepted\, are expected to commit to the entire duration of the program.
URL:https://wpengine.mountainbizworks.org/event/waypoint-accelerator-application-due-date-3/
LOCATION:NC\, NC\, United States
CATEGORIES:Class,Outdoors,Waypoint Acclerator
END:VEVENT
END:VCALENDAR