BEGIN:VCALENDAR
VERSION:2.0
PRODID:-//Mountain BizWorks - ECPv6.15.20//NONSGML v1.0//EN
CALSCALE:GREGORIAN
METHOD:PUBLISH
X-WR-CALNAME:Mountain BizWorks
X-ORIGINAL-URL:https://wpengine.mountainbizworks.org
X-WR-CALDESC:Events for Mountain BizWorks
REFRESH-INTERVAL;VALUE=DURATION:PT1H
X-Robots-Tag:noindex
X-PUBLISHED-TTL:PT1H
BEGIN:VTIMEZONE
TZID:America/New_York
BEGIN:DAYLIGHT
TZOFFSETFROM:-0500
TZOFFSETTO:-0400
TZNAME:EDT
DTSTART:20230312T070000
END:DAYLIGHT
BEGIN:STANDARD
TZOFFSETFROM:-0400
TZOFFSETTO:-0500
TZNAME:EST
DTSTART:20231105T060000
END:STANDARD
BEGIN:DAYLIGHT
TZOFFSETFROM:-0500
TZOFFSETTO:-0400
TZNAME:EDT
DTSTART:20240310T070000
END:DAYLIGHT
BEGIN:STANDARD
TZOFFSETFROM:-0400
TZOFFSETTO:-0500
TZNAME:EST
DTSTART:20241103T060000
END:STANDARD
BEGIN:DAYLIGHT
TZOFFSETFROM:-0500
TZOFFSETTO:-0400
TZNAME:EDT
DTSTART:20250309T070000
END:DAYLIGHT
BEGIN:STANDARD
TZOFFSETFROM:-0400
TZOFFSETTO:-0500
TZNAME:EST
DTSTART:20251102T060000
END:STANDARD
BEGIN:DAYLIGHT
TZOFFSETFROM:-0500
TZOFFSETTO:-0400
TZNAME:EDT
DTSTART:20260308T070000
END:DAYLIGHT
BEGIN:STANDARD
TZOFFSETFROM:-0400
TZOFFSETTO:-0500
TZNAME:EST
DTSTART:20261101T060000
END:STANDARD
END:VTIMEZONE
BEGIN:VTIMEZONE
TZID:America/Halifax
BEGIN:DAYLIGHT
TZOFFSETFROM:-0400
TZOFFSETTO:-0300
TZNAME:ADT
DTSTART:20230312T060000
END:DAYLIGHT
BEGIN:STANDARD
TZOFFSETFROM:-0300
TZOFFSETTO:-0400
TZNAME:AST
DTSTART:20231105T050000
END:STANDARD
BEGIN:DAYLIGHT
TZOFFSETFROM:-0400
TZOFFSETTO:-0300
TZNAME:ADT
DTSTART:20240310T060000
END:DAYLIGHT
BEGIN:STANDARD
TZOFFSETFROM:-0300
TZOFFSETTO:-0400
TZNAME:AST
DTSTART:20241103T050000
END:STANDARD
BEGIN:DAYLIGHT
TZOFFSETFROM:-0400
TZOFFSETTO:-0300
TZNAME:ADT
DTSTART:20250309T060000
END:DAYLIGHT
BEGIN:STANDARD
TZOFFSETFROM:-0300
TZOFFSETTO:-0400
TZNAME:AST
DTSTART:20251102T050000
END:STANDARD
END:VTIMEZONE
BEGIN:VTIMEZONE
TZID:UTC
BEGIN:STANDARD
TZOFFSETFROM:+0000
TZOFFSETTO:+0000
TZNAME:UTC
DTSTART:20230101T000000
END:STANDARD
END:VTIMEZONE
BEGIN:VEVENT
DTSTART;TZID=America/New_York:20250923T090000
DTEND;TZID=America/New_York:20250923T120000
DTSTAMP:20260421T125506
CREATED:20250514T143019Z
LAST-MODIFIED:20250728T152116Z
UID:10002820-1758618000-1758628800@wpengine.mountainbizworks.org
SUMMARY:Alpine
DESCRIPTION:The Alpine Course is designed to support founders of businesses that have been operating for at least one year.\n\n\nAlpine will give you the opportunity to explore your options by assessing where you have been through financial\, marketing and customer analytics along with revisiting your mission\, vision\, and values\, as well as peer to peer support. This course will help you ideate new ways of doing business\, create a deep understanding of your financials and what they mean\, and examine your customer segment through a variety of exercises and conversations. We will re-connect with your why and help you imagine new short and long term goals to grow and sustain your business.\n\nDuring this 6-week course\, you will get up and out of your day-to-day operations and regain an aerial perspective of where you have been\, where you are now\, and where your business is headed in a peer-to-peer learning environment.\n\n\nThis course will build on the core concepts of our popular Foundations Business Planning course while also assisting entrepreneurs in determining whether our ScaleUp WNC program may be a good fit for them in the future.
URL:https://wpengine.mountainbizworks.org/event/alpine-8/
LOCATION:Mountain BizWorks Asheville Office\, 153 Lexington Ave\, Asheville\, 28801\, United States
CATEGORIES:Alpine,Class,Course,In-Person,Learn
END:VEVENT
BEGIN:VEVENT
DTSTART;TZID=America/New_York:20250310T173000
DTEND;TZID=America/New_York:20250310T200000
DTSTAMP:20260421T125506
CREATED:20250110T211626Z
LAST-MODIFIED:20250319T171406Z
UID:10002772-1741627800-1741636800@wpengine.mountainbizworks.org
SUMMARY:Financial Series
DESCRIPTION:What is covered:\nFinancial Tools – Financial Tools will introduce you to the tools to understand the basics of business finance so you can make informed decisions on how to organize and manage your business finances. Topics discussed are record keeping; bookkeeping; accounting; creating\, understanding and using financial statements and reports. \nAccounting Software – this class uses the accounting platform Quickbooks to provide an overview of online software\, the different subscription levels\, and will teach you how to navigate the dashboard and explore the reporting feature to generate reports that can be customized to your needs. When you complete this class\, you’ll know the best ways to get around\, enter day-to-day transactions\, get the information you need out of accounting software\, and powerful report tools that’ll help your business make good decisions. \nCost: $60 \n 
URL:https://wpengine.mountainbizworks.org/event/financial-series-avl/
LOCATION:Mountain BizWorks Asheville Office\, 153 Lexington Ave\, Asheville\, 28801\, United States
CATEGORIES:Class,Course,Event,Financial Series,In-Person,Learn
END:VEVENT
BEGIN:VEVENT
DTSTART;TZID=America/New_York:20250226T180000
DTEND;TZID=America/New_York:20250226T190000
DTSTAMP:20260421T125506
CREATED:20241213T235754Z
LAST-MODIFIED:20250221T004000Z
UID:10002769-1740592800-1740596400@wpengine.mountainbizworks.org
SUMMARY:(FULL) Orientation Session
DESCRIPTION:Join us for an information session to discover what resources are available at Mountain BizWorks that will help you start\, grow\, and thrive in your business. Hosted by our Learning Program Manager\, Holly Rivers\, this session is a great opportunity to learn more about Mountain BizWorks’ small business lending and learning programs.
URL:https://wpengine.mountainbizworks.org/event/orientation-session-avl-3/
LOCATION:Mountain BizWorks Asheville Office\, 153 Lexington Ave\, Asheville\, 28801\, United States
CATEGORIES:Event,Learn,Online,Orientation Session
END:VEVENT
BEGIN:VEVENT
DTSTART;TZID=America/New_York:20250211T090000
DTEND;TZID=America/New_York:20250211T120000
DTSTAMP:20260421T125506
CREATED:20240812T140146Z
LAST-MODIFIED:20250416T200532Z
UID:10002725-1739264400-1739275200@wpengine.mountainbizworks.org
SUMMARY:Alpine
DESCRIPTION:The Alpine Course is designed to support founders of businesses that have been operating for at least one year.\n\n\nAlpine will give you the opportunity to explore your options by assessing where you have been through financial\, marketing and customer analytics along with revisiting your mission\, vision\, and values\, as well as peer to peer support. This course will help you ideate new ways of doing business\, create a deep understanding of your financials and what they mean\, and examine your customer segment through a variety of exercises and conversations. We will re-connect with your why and help you imagine new short and long term goals to grow and sustain your business.\n\nDuring this 6-week course\, you will get up and out of your day-to-day operations and regain an aerial perspective of where you have been\, where you are now\, and where your business is headed in a peer-to-peer learning environment.\n\n\nThis course will build on the core concepts of our popular Foundations Business Planning course while also assisting entrepreneurs in determining whether our ScaleUp WNC program may be a good fit for them in the future.
URL:https://wpengine.mountainbizworks.org/event/alpine-6/
LOCATION:Mountain BizWorks Asheville Office\, 153 Lexington Ave\, Asheville\, 28801\, United States
CATEGORIES:Alpine,Class,Course,Learn,Online
END:VEVENT
BEGIN:VEVENT
DTSTART;TZID=America/New_York:20250121T100000
DTEND;TZID=America/New_York:20250121T110000
DTSTAMP:20260421T125506
CREATED:20241201T214104Z
LAST-MODIFIED:20250110T192743Z
UID:10002759-1737453600-1737457200@wpengine.mountainbizworks.org
SUMMARY:FULL - Orientation Session
DESCRIPTION:Join us for an information session to discover what resources are available at Mountain BizWorks that will help you start\, grow\, and thrive in your business. Hosted by our Learning Program Manager\, Holly Rivers\, this session is a great opportunity to learn more about Mountain BizWorks’ small business lending and learning programs. 
URL:https://wpengine.mountainbizworks.org/event/orientation-session-avl-2/
LOCATION:Mountain BizWorks Asheville Office\, 153 Lexington Ave\, Asheville\, 28801\, United States
CATEGORIES:Event,Learn,Online,Orientation Session
END:VEVENT
BEGIN:VEVENT
DTSTART;TZID=America/New_York:20241205T100000
DTEND;TZID=America/New_York:20241205T110000
DTSTAMP:20260421T125506
CREATED:20240819T173912Z
LAST-MODIFIED:20241203T171828Z
UID:10002729-1733392800-1733396400@wpengine.mountainbizworks.org
SUMMARY:Orientation Session (AVL) - FULL
DESCRIPTION:Join us for an information session to discover what resources are available at Mountain BizWorks that will help you start\, grow\, and thrive in your business. Hosted by our Learning Program Manager\, Holly Rivers\, this session is a great opportunity to learn more about Mountain BizWorks’ small business lending and learning programs. 
URL:https://wpengine.mountainbizworks.org/event/orientation-session-avl-in-person-4/
LOCATION:Mountain BizWorks Asheville Office\, 153 Lexington Ave\, Asheville\, 28801\, United States
CATEGORIES:Event,Learn,Online,Orientation Session
END:VEVENT
BEGIN:VEVENT
DTSTART;TZID=America/New_York:20241029T100000
DTEND;TZID=America/New_York:20241029T110000
DTSTAMP:20260421T125506
CREATED:20240715T005554Z
LAST-MODIFIED:20241004T233227Z
UID:10002722-1730196000-1730199600@wpengine.mountainbizworks.org
SUMMARY:CANCELLED - Orientation Session (AVL - In Person)
DESCRIPTION:Join us for an information session to discover what resources are available at Mountain BizWorks that will help you start\, grow\, and thrive in your business. Hosted by our Learning Program Manager\, Holly Rivers\, this session is a great opportunity to learn more about Mountain BizWorks’ small business lending and learning programs. 
URL:https://wpengine.mountainbizworks.org/event/orientation-session-avl-in-person-3/
LOCATION:Mountain BizWorks Asheville Office\, 153 Lexington Ave\, Asheville\, 28801\, United States
CATEGORIES:Event,Learn,Online,Orientation Session
END:VEVENT
BEGIN:VEVENT
DTSTART;TZID=America/New_York:20241002T180000
DTEND;TZID=America/New_York:20241002T190000
DTSTAMP:20260421T125506
CREATED:20240715T003001Z
LAST-MODIFIED:20240926T135303Z
UID:10002719-1727892000-1727895600@wpengine.mountainbizworks.org
SUMMARY:Orientation Session (AVL - In Person) - RESCHEDULED from 9/26
DESCRIPTION:Due to inclement weather\, we have rescheduled the Sept 26th Orientation to Oct. 2nd.  Due to some participant’s schedules\, this has opened up some space and we are taking new registrations.   \nJoin us for an information session to discover what resources are available at Mountain BizWorks that will help you start\, grow\, and thrive in your business. Hosted by our Learning Program Manager\, Holly Rivers\, this session is a great opportunity to learn more about Mountain BizWorks’ small business lending and learning programs. 
URL:https://wpengine.mountainbizworks.org/event/orientation-session-avl-in-person-2/
LOCATION:Mountain BizWorks Asheville Office\, 153 Lexington Ave\, Asheville\, 28801\, United States
CATEGORIES:Event,Learn,Online,Orientation Session
END:VEVENT
BEGIN:VEVENT
DTSTART;TZID=America/Halifax:20240913T100000
DTEND;TZID=America/Halifax:20240913T130000
DTSTAMP:20260421T125506
CREATED:20240728T215846Z
LAST-MODIFIED:20240904T154937Z
UID:10002724-1726221600-1726232400@wpengine.mountainbizworks.org
SUMMARY:Invested Course
DESCRIPTION:Securing funding is essential for fueling expansion\, innovation\, and sustainability. Whether you’re a startup seeking initial investment or an established business looking to scale\, navigating the capital landscape can be daunting. In our Invested Course\, we’ll review types of business capital (including debt\, equity\, and working capital) and how and when to use each. \nThe 5-session course will take place in person on the following Fridays: \n\nSeptember 13 – Session 1: 10 am – 1 pm\nSeptember 20 – Session 2: 10 am – 1 pm\nSeptember 27 – Session 3: 10 am – 1 pm\nOctober 4 – Session 4: 10 am – 1 pm\nOctober 11 – Session 5: 10 am – 1 pm\n\nKey Topics Include: \n\nUnderstanding the fundamentals of debt and equity financing.\nAssessing your business’s capital needs and financial readiness.\nExploring traditional and alternative sources of debt capital.\nLeveraging assets and collateral.\nEvaluating the pros and cons of raising investor capital.\nCrafting effective business valuations\, investment plans and investor pitches.\nNegotiating equity agreements and managing investor relations.\nExploring the importance of and different types of exit strategies.\n\nWhether you’re a solopreneur with a promising idea or a seasoned entrepreneur seeking growth opportunities\, this workshop will provide invaluable insights to help you navigate the complex landscape of small business funding. Join us and unlock the potential of your business with the right capital strategy. \nCourse participants will also have the opportunity to pitch their business at the capstone Mountain Raise event in November. \nRegister for the course. Thanks to the generous funding from the Minority Business Development Agency’s Capital Readiness grant\, the course fee is only $75 for the primary participant and $25 for additional participants from the same company.
URL:https://wpengine.mountainbizworks.org/event/invested-course-2/
LOCATION:Mountain BizWorks Asheville Office\, 153 Lexington Ave\, Asheville\, 28801\, United States
CATEGORIES:Class,Event,Invested,Online
END:VEVENT
BEGIN:VEVENT
DTSTART;TZID=UTC:20240912T093000
DTEND;TZID=UTC:20240912T123000
DTSTAMP:20260421T125506
CREATED:20240628T200313Z
LAST-MODIFIED:20240731T161059Z
UID:10002702-1726133400-1726144200@wpengine.mountainbizworks.org
SUMMARY:Foundations Business Planning Course (In-Person)
DESCRIPTION:Our Foundations business planning course helps guide ideas from concept to reality in a participatory\, supportive learning environment.\nJoin a cohort of aspiring and existing entrepreneurs to gain an aerial perspective of your vision and the comprehensive business skills necessary to help bring your visions into reality. Participants will gain a clear aerial perspective of their business operations\, financials\, research and development\, and marketing strategies. They will leave the course with a comprehensive business plan\, a clear vision for their business\, and concrete tasks for future work. \nThroughout the class\, emphasis will be placed on developing the social capital of the group. Participants will be encouraged to gather feedback from their peers\, creating a strong network of deep support and synergy. For more info\, visit the Foundations Business Planning overview page. \nFor questions\, contact Holly Rivers\, holly@mountainbizworks.org.  \nRegistration\nComplete our online registration form to hold your seat in the course of your choice.  We will follow up with you within a few days. You are welcome to contact us with any follow-up questions or ask about the status of your request. \n 
URL:https://wpengine.mountainbizworks.org/event/foundations-business-planning-class-in-person-3/
LOCATION:Mountain BizWorks Asheville Office\, 153 Lexington Ave\, Asheville\, 28801\, United States
CATEGORIES:Course,Foundations Business Planning,Learn
END:VEVENT
BEGIN:VEVENT
DTSTART;TZID=America/New_York:20240709T100000
DTEND;TZID=America/New_York:20240709T110000
DTSTAMP:20260421T125506
CREATED:20240510T173535Z
LAST-MODIFIED:20240703T161434Z
UID:10002680-1720519200-1720522800@wpengine.mountainbizworks.org
SUMMARY:Orientation Session (AVL - In Person) - FULL
DESCRIPTION:Join us for an information session to discover what resources are available at Mountain BizWorks that will help you start\, grow\, and thrive in your business. Hosted by our Learning Program Coordinator\, Holly Rivers\, this session is a great opportunity to learn more about Mountain BizWorks’ small business lending and learning programs. 
URL:https://wpengine.mountainbizworks.org/event/orientation-session-avl-in-person/
LOCATION:Mountain BizWorks Asheville Office\, 153 Lexington Ave\, Asheville\, 28801\, United States
CATEGORIES:Event,Learn,Online,Orientation Session
END:VEVENT
BEGIN:VEVENT
DTSTART;TZID=America/New_York:20240509T093000
DTEND;TZID=America/New_York:20240509T123000
DTSTAMP:20260421T125506
CREATED:20240315T001619Z
LAST-MODIFIED:20240509T134712Z
UID:10002670-1715247000-1715257800@wpengine.mountainbizworks.org
SUMMARY:Alpine
DESCRIPTION:The Alpine Course is designed to support founders of businesses that have been operating for at least one year.\n\n \nAlpine will give you the opportunity to explore your options by assessing where you have been through financial\, marketing and customer analytics along with revisiting your mission\, vision\, and values\, as well as peer to peer support. This course will help you ideate new ways of doing business\, create a deep understanding of your financials and what they mean\, and examine your customer segment through a variety of exercises and conversations. We will re-connect with your why and help you imagine new short and long term goals to grow and sustain your business.\n \nDuring this 5-week course\, you will get up and out of your day-to-day operations and regain an aerial perspective of where you have been\, where you are now\, and where your business is headed in a peer-to-peer learning environment.\n\n \nThis course will build on the core concepts of our popular Foundations Business Planning course while also assisting entrepreneurs in determining whether our ScaleUp WNC program may be a good fit for them in the future.  \n\n \n 
URL:https://wpengine.mountainbizworks.org/event/alpine-5/
LOCATION:Mountain BizWorks Asheville Office\, 153 Lexington Ave\, Asheville\, 28801\, United States
CATEGORIES:Alpine,Class,Course,Learn,Online
END:VEVENT
BEGIN:VEVENT
DTSTART;TZID=UTC:20240227T093000
DTEND;TZID=UTC:20240227T123000
DTSTAMP:20260421T125506
CREATED:20231207T042329Z
LAST-MODIFIED:20240222T194848Z
UID:10002383-1709026200-1709037000@wpengine.mountainbizworks.org
SUMMARY:FULL & CLOSED Foundations Business Planning Class (In-Person)
DESCRIPTION:Our Foundations business planning course helps guide ideas from concept to reality in a participatory\, supportive learning environment.\nJoin a cohort of aspiring and existing entrepreneurs to gain an aerial perspective of your vision and the comprehensive business skills necessary to help bring your visions into reality. Participants will gain a clear aerial perspective of their business operations\, financials\, research and development\, and marketing strategies. They will leave the course with a comprehensive business plan\, a clear vision for their business\, and concrete tasks for future work. \nThroughout the class\, emphasis will be placed on developing the social capital of the group. Participants will be encouraged to gather feedback from their peers\, creating a strong network of deep support and synergy. For more info\, visit the Foundations Business Planning overview page. \nFor questions\, contact Holly Rivers\, holly@mountainbizworks.org.  \nRegistration\nComplete our online registration form to hold your seat in the course of your choice.  We will follow up with you within a few days. You are welcome to contact us with any follow-up questions or ask about the status of your request. \n 
URL:https://wpengine.mountainbizworks.org/event/foundations-business-planning-class-in-person-2/
LOCATION:Mountain BizWorks Asheville Office\, 153 Lexington Ave\, Asheville\, 28801\, United States
CATEGORIES:Course,Foundations Business Planning,Learn
END:VEVENT
END:VCALENDAR