BEGIN:VCALENDAR
VERSION:2.0
PRODID:-//Mountain BizWorks - ECPv6.15.20//NONSGML v1.0//EN
CALSCALE:GREGORIAN
METHOD:PUBLISH
X-WR-CALNAME:Mountain BizWorks
X-ORIGINAL-URL:https://wpengine.mountainbizworks.org
X-WR-CALDESC:Events for Mountain BizWorks
REFRESH-INTERVAL;VALUE=DURATION:PT1H
X-Robots-Tag:noindex
X-PUBLISHED-TTL:PT1H
BEGIN:VTIMEZONE
TZID:America/Halifax
BEGIN:DAYLIGHT
TZOFFSETFROM:-0400
TZOFFSETTO:-0300
TZNAME:ADT
DTSTART:20180311T060000
END:DAYLIGHT
BEGIN:STANDARD
TZOFFSETFROM:-0300
TZOFFSETTO:-0400
TZNAME:AST
DTSTART:20181104T050000
END:STANDARD
BEGIN:DAYLIGHT
TZOFFSETFROM:-0400
TZOFFSETTO:-0300
TZNAME:ADT
DTSTART:20190310T060000
END:DAYLIGHT
BEGIN:STANDARD
TZOFFSETFROM:-0300
TZOFFSETTO:-0400
TZNAME:AST
DTSTART:20191103T050000
END:STANDARD
BEGIN:DAYLIGHT
TZOFFSETFROM:-0400
TZOFFSETTO:-0300
TZNAME:ADT
DTSTART:20200308T060000
END:DAYLIGHT
BEGIN:STANDARD
TZOFFSETFROM:-0300
TZOFFSETTO:-0400
TZNAME:AST
DTSTART:20201101T050000
END:STANDARD
END:VTIMEZONE
BEGIN:VEVENT
DTSTART;TZID=America/Halifax:20190327T130000
DTEND;TZID=America/Halifax:20190327T140000
DTSTAMP:20260421T205951
CREATED:20190307T224426Z
LAST-MODIFIED:20190320T195220Z
UID:10001970-1553691600-1553695200@wpengine.mountainbizworks.org
SUMMARY:Foothills Launch: Mountain BizWorks Orientation in Kings Mountain
DESCRIPTION:Join us at the Mauney Memorial Library in Kings Mountain for an interactive information session to discover what resources are available at Mountain BizWorks Pop-Up Office in Cleveland County that will help you start\, grow\, and thrive in your business. This session will be led by our Business Coaching Manager\, Jill Kichefski and Learning Services Specialist\, Kareen Boncales. This will be a great opportunity to learn more about Mountain BizWorks’ small business lending and learning programs throughout the Isothermal Region. 
URL:https://wpengine.mountainbizworks.org/event/foothills-launch-mountain-bizworks-orientation-in-kings-mountain/
LOCATION:Mauney Memorial Library\, 100 S Piedmont Ave\, Kings Mountain\, NC\, 28086\, United States
CATEGORIES:Class,Foothills Launch,Orientation Session
ATTACH;FMTTYPE=image/png:https://wpengine.mountainbizworks.org/wp-content/uploads/2019/03/Foothills-Launch-Logo.png
END:VEVENT
END:VCALENDAR