BEGIN:VCALENDAR
VERSION:2.0
PRODID:-//Mountain BizWorks - ECPv6.15.20//NONSGML v1.0//EN
CALSCALE:GREGORIAN
METHOD:PUBLISH
X-WR-CALNAME:Mountain BizWorks
X-ORIGINAL-URL:https://wpengine.mountainbizworks.org
X-WR-CALDESC:Events for Mountain BizWorks
REFRESH-INTERVAL;VALUE=DURATION:PT1H
X-Robots-Tag:noindex
X-PUBLISHED-TTL:PT1H
BEGIN:VTIMEZONE
TZID:America/Halifax
BEGIN:DAYLIGHT
TZOFFSETFROM:-0400
TZOFFSETTO:-0300
TZNAME:ADT
DTSTART:20190310T060000
END:DAYLIGHT
BEGIN:STANDARD
TZOFFSETFROM:-0300
TZOFFSETTO:-0400
TZNAME:AST
DTSTART:20191103T050000
END:STANDARD
BEGIN:DAYLIGHT
TZOFFSETFROM:-0400
TZOFFSETTO:-0300
TZNAME:ADT
DTSTART:20200308T060000
END:DAYLIGHT
BEGIN:STANDARD
TZOFFSETFROM:-0300
TZOFFSETTO:-0400
TZNAME:AST
DTSTART:20201101T050000
END:STANDARD
BEGIN:DAYLIGHT
TZOFFSETFROM:-0400
TZOFFSETTO:-0300
TZNAME:ADT
DTSTART:20210314T060000
END:DAYLIGHT
BEGIN:STANDARD
TZOFFSETFROM:-0300
TZOFFSETTO:-0400
TZNAME:AST
DTSTART:20211107T050000
END:STANDARD
END:VTIMEZONE
BEGIN:VEVENT
DTSTART;VALUE=DATE:20200306
DTEND;VALUE=DATE:20200309
DTSTAMP:20260422T051428
CREATED:20200205T220808Z
LAST-MODIFIED:20200205T232241Z
UID:10002067-1583452800-1583711999@wpengine.mountainbizworks.org
SUMMARY:Organic Growers School 2020 Spring Conference
DESCRIPTION:The Organic Growers School Spring Conference offers three days of practical\, regionally specific workshops on organic growing\, permaculture\, homesteading\, urban farming\, and rural living plus a trade show\, seed exchange\, silent auction\, children’s program\, and pre-conference\, on-farm events. More than 70 sessions are offered per day in 17 educational tracks. \nThis one-of-a-kind event brings people of all walks of life together for a weekend of learning and networking. Attendees come from 18 states – and as far away as Canada – to take part in what they have described as the best event to kick-off the growing season.\n  \nMountain BizWorks is providing a limited number of financial need scholarships for current and aspiring food and farming business owners. \n» Apply for a Scholarship\n \n» Proceed to the Regular Online Registration\n 
URL:https://wpengine.mountainbizworks.org/event/organic-growers-school-2020-spring-conference/
LOCATION:Mars Hill University\, 100 Athletic St\, Mars Hill\, NC\, 28754\, United States
CATEGORIES:Class,Local Food & Farming Initiatives,Partner Events
ATTACH;FMTTYPE=image/jpeg:https://wpengine.mountainbizworks.org/wp-content/uploads/2020/02/Organic-Growers-School-2020-Spring-Conference-e1580936628457.jpg
ORGANIZER;CN="Organic Growers School":MAILTO:outreach@organicgrowersschool.org
END:VEVENT
END:VCALENDAR