BEGIN:VCALENDAR
VERSION:2.0
PRODID:-//Mountain BizWorks - ECPv6.15.20//NONSGML v1.0//EN
CALSCALE:GREGORIAN
METHOD:PUBLISH
X-WR-CALNAME:Mountain BizWorks
X-ORIGINAL-URL:https://wpengine.mountainbizworks.org
X-WR-CALDESC:Events for Mountain BizWorks
REFRESH-INTERVAL;VALUE=DURATION:PT1H
X-Robots-Tag:noindex
X-PUBLISHED-TTL:PT1H
BEGIN:VTIMEZONE
TZID:America/New_York
BEGIN:DAYLIGHT
TZOFFSETFROM:-0500
TZOFFSETTO:-0400
TZNAME:EDT
DTSTART:20220313T070000
END:DAYLIGHT
BEGIN:STANDARD
TZOFFSETFROM:-0400
TZOFFSETTO:-0500
TZNAME:EST
DTSTART:20221106T060000
END:STANDARD
BEGIN:DAYLIGHT
TZOFFSETFROM:-0500
TZOFFSETTO:-0400
TZNAME:EDT
DTSTART:20230312T070000
END:DAYLIGHT
BEGIN:STANDARD
TZOFFSETFROM:-0400
TZOFFSETTO:-0500
TZNAME:EST
DTSTART:20231105T060000
END:STANDARD
BEGIN:DAYLIGHT
TZOFFSETFROM:-0500
TZOFFSETTO:-0400
TZNAME:EDT
DTSTART:20240310T070000
END:DAYLIGHT
BEGIN:STANDARD
TZOFFSETFROM:-0400
TZOFFSETTO:-0500
TZNAME:EST
DTSTART:20241103T060000
END:STANDARD
BEGIN:DAYLIGHT
TZOFFSETFROM:-0500
TZOFFSETTO:-0400
TZNAME:EDT
DTSTART:20250309T070000
END:DAYLIGHT
BEGIN:STANDARD
TZOFFSETFROM:-0400
TZOFFSETTO:-0500
TZNAME:EST
DTSTART:20251102T060000
END:STANDARD
END:VTIMEZONE
BEGIN:VTIMEZONE
TZID:America/Halifax
BEGIN:DAYLIGHT
TZOFFSETFROM:-0400
TZOFFSETTO:-0300
TZNAME:ADT
DTSTART:20170312T060000
END:DAYLIGHT
BEGIN:STANDARD
TZOFFSETFROM:-0300
TZOFFSETTO:-0400
TZNAME:AST
DTSTART:20171105T050000
END:STANDARD
BEGIN:DAYLIGHT
TZOFFSETFROM:-0400
TZOFFSETTO:-0300
TZNAME:ADT
DTSTART:20180311T060000
END:DAYLIGHT
BEGIN:STANDARD
TZOFFSETFROM:-0300
TZOFFSETTO:-0400
TZNAME:AST
DTSTART:20181104T050000
END:STANDARD
BEGIN:DAYLIGHT
TZOFFSETFROM:-0400
TZOFFSETTO:-0300
TZNAME:ADT
DTSTART:20190310T060000
END:DAYLIGHT
BEGIN:STANDARD
TZOFFSETFROM:-0300
TZOFFSETTO:-0400
TZNAME:AST
DTSTART:20191103T050000
END:STANDARD
BEGIN:DAYLIGHT
TZOFFSETFROM:-0400
TZOFFSETTO:-0300
TZNAME:ADT
DTSTART:20200308T060000
END:DAYLIGHT
BEGIN:STANDARD
TZOFFSETFROM:-0300
TZOFFSETTO:-0400
TZNAME:AST
DTSTART:20201101T050000
END:STANDARD
BEGIN:DAYLIGHT
TZOFFSETFROM:-0400
TZOFFSETTO:-0300
TZNAME:ADT
DTSTART:20210314T060000
END:DAYLIGHT
BEGIN:STANDARD
TZOFFSETFROM:-0300
TZOFFSETTO:-0400
TZNAME:AST
DTSTART:20211107T050000
END:STANDARD
END:VTIMEZONE
BEGIN:VEVENT
DTSTART;TZID=America/New_York:20240814T120000
DTEND;TZID=America/New_York:20240814T140000
DTSTAMP:20260421T200942
CREATED:20240612T200402Z
LAST-MODIFIED:20240731T183946Z
UID:10002699-1723636800-1723644000@wpengine.mountainbizworks.org
SUMMARY:Energize Your Business Sustainability Action Plan
DESCRIPTION:How does your business impact your community?  What can your business do to support a thriving community? These are essential questions for a sustainable business.   \nThe movement to transition to a sustainable business is accelerating.  Pressure to comply with Environment\, Social\, and Governance (ESG) guidelines is mounting and is coming from consumers\, larger brands\, and corporations for both retail (B2C) and supply chain businesses (B2B).  Have you noticed this in your industry?   \nThis workshop – presented with Lenoir-Rhyne University Asheville – will help you:  \n\nBegin the shift to a sustainable business model where you understand the ESG impacts and connections between your business and community\, and\nYou identify the path for change that best allows your business to transition to a sustainable business model integrating People and Planet (or ESG) into your business decisions.\n\nLunch will be provided.  \nPresenters: \nDr. Susan Kask:  Susan brings 30 years of experience as an economist\, teacher\, and more recently the Chief Sustainability Officer for a small international fiber company\, to her passion for training businesses to bring their community and sustainability values directly into their business operations.  \nMr. Scott Zintz:  Scott has over 25 years of experience in corporate America\, as an entrepreneur\, director\, manager and business consultant. He pursued an MBA in Corporate Sustainability back in 2008 and has been working to help organizations integrate a triple bottom line to business ever since. He is currently serving as a Commercial Energy Consultant for local Asheville company Sugar Hollow Solar.
URL:https://wpengine.mountainbizworks.org/event/energizing-your-business-sustainability-action-plan/
LOCATION:Lenoir-Rhyne University Asheville\, 36 Montford Ave\, Asheville\, 28801\, United States
CATEGORIES:Class,In-Person,Learn,Workshop
GEO:35.5972695;-82.5605134
X-APPLE-STRUCTURED-LOCATION;VALUE=URI;X-ADDRESS=Lenoir-Rhyne University Asheville 36 Montford Ave Asheville 28801 United States;X-APPLE-RADIUS=500;X-TITLE=36 Montford Ave:geo:-82.5605134,35.5972695
END:VEVENT
BEGIN:VEVENT
DTSTART;TZID=America/New_York:20230228T160000
DTEND;TZID=America/New_York:20230228T170000
DTSTAMP:20260421T200942
CREATED:20230217T132804Z
LAST-MODIFIED:20230217T132804Z
UID:10002331-1677600000-1677603600@wpengine.mountainbizworks.org
SUMMARY:B Corp 101: Q & A Panel
DESCRIPTION:The classic B 101 event to help educate the B Curious about B Corp certification is back! 4pm at LRU Room 315. This is a great one to send newer employees to give them a better understanding of B Corp certification. \nOur regular meetings are held on the 4th Wednesday of each month at 3pm at Lenoir Rhyne in Room 315. 
URL:https://wpengine.mountainbizworks.org/event/b-corp-101-q-a-panel/
LOCATION:Lenoir-Rhyne University Asheville\, 36 Montford Ave\, Asheville\, 28801\, United States
CATEGORIES:B Local Asheville & WNC
ATTACH;FMTTYPE=image/png:https://wpengine.mountainbizworks.org/wp-content/uploads/2023/02/Bcorp101.png
GEO:35.5972695;-82.5605134
X-APPLE-STRUCTURED-LOCATION;VALUE=URI;X-ADDRESS=Lenoir-Rhyne University Asheville 36 Montford Ave Asheville 28801 United States;X-APPLE-RADIUS=500;X-TITLE=36 Montford Ave:geo:-82.5605134,35.5972695
END:VEVENT
BEGIN:VEVENT
DTSTART;TZID=America/Halifax:20200304T130000
DTEND;TZID=America/Halifax:20200304T143000
DTSTAMP:20260421T200942
CREATED:20200130T205420Z
LAST-MODIFIED:20200130T210001Z
UID:10002065-1583326800-1583332200@wpengine.mountainbizworks.org
SUMMARY:B Corp Q and A Panel
DESCRIPTION:Learn about the process to become a certified B Corp\, while connecting with established local B Corps and other like-minded businesses.\n\n\n\n\n\n\n\n\nJoin Green Built Alliance members Steve Linton of Deltec Homes\, Pete Krull from Earth Equity Advisors and Heather Hatmaker from Samsel Architects forGe information and Q&A session on the process of becoming a certified B Corp. \nLearn about certification\, while connecting with established local B Corps as well as with other like-minded businesses in the area that are also seeking to begin the process. \nThe event is free and open to the public\, but advance registration is required to ensure we can accommodate everyone. \n\nRSVP HERE
URL:https://wpengine.mountainbizworks.org/event/b-corp-q-a-panel-4/
LOCATION:Lenoir-Rhyne University Asheville\, 36 Montford Ave\, Asheville\, 28801\, United States
CATEGORIES:B Corp Series,Class
GEO:35.5972695;-82.5605134
X-APPLE-STRUCTURED-LOCATION;VALUE=URI;X-ADDRESS=Lenoir-Rhyne University Asheville 36 Montford Ave Asheville 28801 United States;X-APPLE-RADIUS=500;X-TITLE=36 Montford Ave:geo:-82.5605134,35.5972695
END:VEVENT
BEGIN:VEVENT
DTSTART;TZID=America/Halifax:20190410T170000
DTEND;TZID=America/Halifax:20190410T183000
DTSTAMP:20260421T200942
CREATED:20190313T141706Z
LAST-MODIFIED:20190313T141706Z
UID:10001974-1554915600-1554921000@wpengine.mountainbizworks.org
SUMMARY:B Corp Q &A Panel
DESCRIPTION:Join Steve Linton of Deltec Homes\, Peter Krull of Earth Equity Advisors\, and Jael Rattigan of French Broad Chocolate\, for an information and Q&A session on the process of becoming a certified B Corp moderated by Martha Bradley of Forest Firm. \nLearn about the certification process\, get connected with established B Corps\, and connect with like-minded businesses in the area who are also seeking to become B Corps. \nThe event is free and open to the public\, but advance registration is required to ensure we can accommodate everyone. \nAt Lenoir Rhyne University – Asheville
URL:https://wpengine.mountainbizworks.org/event/b-corp-q-a-panel-2/
LOCATION:Lenoir-Rhyne University Asheville\, 36 Montford Ave\, Asheville\, 28801\, United States
CATEGORIES:B Corp Series,Class
GEO:35.5972695;-82.5605134
X-APPLE-STRUCTURED-LOCATION;VALUE=URI;X-ADDRESS=Lenoir-Rhyne University Asheville 36 Montford Ave Asheville 28801 United States;X-APPLE-RADIUS=500;X-TITLE=36 Montford Ave:geo:-82.5605134,35.5972695
END:VEVENT
BEGIN:VEVENT
DTSTART;TZID=America/Halifax:20180613T160000
DTEND;TZID=America/Halifax:20180613T173000
DTSTAMP:20260421T200942
CREATED:20180516T163405Z
LAST-MODIFIED:20180604T204413Z
UID:10001839-1528905600-1528911000@wpengine.mountainbizworks.org
SUMMARY:B Corp Q&A Session
DESCRIPTION:Join Adrianne Gordon of JB Media\, Jael Rattigan of French Broad Chocolates\, and Steve Linton of Deltech Homes for an information and Q&A session on the process of becoming a B Corp.  \nLearn about the certification process\, get connected with established B Corps\, and connect with like-minded businesses in the area who are also seeking to become B Corps. \nLearn more about B Corps and the Asheville B Corp Network here \n 
URL:https://wpengine.mountainbizworks.org/event/b-corp-qa-session/
LOCATION:Lenoir-Rhyne University Asheville\, 36 Montford Ave\, Asheville\, 28801\, United States
CATEGORIES:B Corp Series,Class
GEO:35.5972695;-82.5605134
X-APPLE-STRUCTURED-LOCATION;VALUE=URI;X-ADDRESS=Lenoir-Rhyne University Asheville 36 Montford Ave Asheville 28801 United States;X-APPLE-RADIUS=500;X-TITLE=36 Montford Ave:geo:-82.5605134,35.5972695
END:VEVENT
END:VCALENDAR