BEGIN:VCALENDAR
VERSION:2.0
PRODID:-//Mountain BizWorks - ECPv6.15.20//NONSGML v1.0//EN
CALSCALE:GREGORIAN
METHOD:PUBLISH
X-WR-CALNAME:Mountain BizWorks
X-ORIGINAL-URL:https://wpengine.mountainbizworks.org
X-WR-CALDESC:Events for Mountain BizWorks
REFRESH-INTERVAL;VALUE=DURATION:PT1H
X-Robots-Tag:noindex
X-PUBLISHED-TTL:PT1H
BEGIN:VTIMEZONE
TZID:UTC
BEGIN:STANDARD
TZOFFSETFROM:+0000
TZOFFSETTO:+0000
TZNAME:UTC
DTSTART:20250101T000000
END:STANDARD
END:VTIMEZONE
BEGIN:VTIMEZONE
TZID:America/New_York
BEGIN:DAYLIGHT
TZOFFSETFROM:-0500
TZOFFSETTO:-0400
TZNAME:EDT
DTSTART:20230312T070000
END:DAYLIGHT
BEGIN:STANDARD
TZOFFSETFROM:-0400
TZOFFSETTO:-0500
TZNAME:EST
DTSTART:20231105T060000
END:STANDARD
BEGIN:DAYLIGHT
TZOFFSETFROM:-0500
TZOFFSETTO:-0400
TZNAME:EDT
DTSTART:20240310T070000
END:DAYLIGHT
BEGIN:STANDARD
TZOFFSETFROM:-0400
TZOFFSETTO:-0500
TZNAME:EST
DTSTART:20241103T060000
END:STANDARD
BEGIN:DAYLIGHT
TZOFFSETFROM:-0500
TZOFFSETTO:-0400
TZNAME:EDT
DTSTART:20250309T070000
END:DAYLIGHT
BEGIN:STANDARD
TZOFFSETFROM:-0400
TZOFFSETTO:-0500
TZNAME:EST
DTSTART:20251102T060000
END:STANDARD
END:VTIMEZONE
BEGIN:VEVENT
DTSTART;TZID=UTC:20260115T173000
DTEND;TZID=UTC:20260115T183000
DTSTAMP:20260425T235308
CREATED:20251205T205725Z
LAST-MODIFIED:20251205T213641Z
UID:10002891-1768498200-1768501800@wpengine.mountainbizworks.org
SUMMARY:Orientación para el Curso de Planeación de Negocios Fundaciones
DESCRIPTION:Sesión de Orientación en Persona:\nÚnase a nosotros para una sesión de orientación e información en persona para el Curso de Planeación de Negocios Fundaciones el 15 de enero de 5:30pm a 6:30pm en Hola Carolina\, Hendersonville. Durante esta sesión\, podrá obtener más información sobre el curso Fundaciones\, hacer preguntas\, registrarse y pagar en efectivo. \nPresentada por nuestra Gerente del Programa de Emprendimiento Latino\, Jenny Forero.
URL:https://wpengine.mountainbizworks.org/event/orientacion-para-el-curso-de-planeacion-de-negocios-fundaciones/
LOCATION:Hola Carolina\, 801 4th avenue\, East Hendersonville\, NC\, 28792
CATEGORIES:Event,In-Person,Latinx Entrepreneurship Programming,Learn,Orientacion,Orientation Session
END:VEVENT
BEGIN:VEVENT
DTSTART;TZID=America/New_York:20240320T173000
DTEND;TZID=America/New_York:20240320T203000
DTSTAMP:20260425T235308
CREATED:20240306T180414Z
LAST-MODIFIED:20240320T180939Z
UID:10002669-1710955800-1710966600@wpengine.mountainbizworks.org
SUMMARY:Fundaciones Planeación de Negocios
DESCRIPTION:Planifique\, crezca y administre su negocio con nuestro curso de planeación de negocios\, Fundaciones! \nFecha: La clase se reunirá todos los miércoles a partir del 20 de marzo. \nHora: 5:30 pm – 8:30 pm \nUbicación:  Hola Carolina 801 4th avenue East Hendersonville NC 28792 \nPrecio del Curso\nEl costo del curso es de $225 dólares; Tenemos algunas becas parciales que están disponibles para las personas que necesitan ayuda. Se requiere de un depósito mínimo de 50% del total al momento de la inscripción para reservar su lugar. Hay disponibilidad de proporcionarle un plan de pago si su situación lo requiere. Le enviaremos un correo electrónico con instrucciones para saber cuales son los siguientes pasos. Esperamos que aproveche esta oportunidad y no deje que el dinero sea un obstáculo para ser parte de la clase de Fundaciones.  \nEn Mountain Bizwork\, valoramos las conexiones y relaciones humanas que se desarrollan a través de conocerlo y comprender mejor su negocio y situación actual. Se incluirá un enlace de pago en su correo electrónico de confirmación\, pero también le invitamos a que se comunique con nosotros a través de correo electrónico o llamarnos directamente. \n \nInformación de Becas\nSi vive en la ciudad de Asheville o en el WNC rural y tiene ingresos bajos a moderados\, puede calificar para una beca. Complete el formulario de registro en línea y acceda a la solicitud de beca dentro del formulario. Cada clase tiene un número limitado de becas disponibles por orden de llegada.  \n \nHorario de Clase\nSi no tiene acceso a una computadora\, Mountain BizWorks puede prestarle una computadora portátil para la clase. Para solicitar una computadora portátil\, envíe un correo electrónico jenny@mountainbizworks.org \nNos reuniremos el mismo día y hora puntual a las 5:30 PM. Favor de llegar temprano cada semana durante seis semanas. Se recomienda asistir a todas las clases para no quedarse atrás en ninguno de los materiales.  \nLa 1era sesión de Fundaciones es requerida\, pero si tiene un conflicto de horario en el que perderá cualquier otra clase\, requerimos que nos avise con tiempo. Avísale a Jenny. Si pierde alguna clase le apoyaremos con enviarle el material de la sesión para que en su tiempo individual pueda ponerse al tanto de las tareas y esté listo en la siguiente sesión. \n 
URL:https://wpengine.mountainbizworks.org/event/fundaciones-planeacion-de-negocios-cupo-completo/
LOCATION:Hola Carolina\, 801 4th avenue\, East Hendersonville\, NC\, 28792
CATEGORIES:Course,En Espanol,Event,Fundaciones,In-Person,Learn
END:VEVENT
END:VCALENDAR