BEGIN:VCALENDAR
VERSION:2.0
PRODID:-//Mountain BizWorks - ECPv6.15.20//NONSGML v1.0//EN
CALSCALE:GREGORIAN
METHOD:PUBLISH
X-WR-CALNAME:Mountain BizWorks
X-ORIGINAL-URL:https://wpengine.mountainbizworks.org
X-WR-CALDESC:Events for Mountain BizWorks
REFRESH-INTERVAL;VALUE=DURATION:PT1H
X-Robots-Tag:noindex
X-PUBLISHED-TTL:PT1H
BEGIN:VTIMEZONE
TZID:America/New_York
BEGIN:DAYLIGHT
TZOFFSETFROM:-0500
TZOFFSETTO:-0400
TZNAME:EDT
DTSTART:20230312T070000
END:DAYLIGHT
BEGIN:STANDARD
TZOFFSETFROM:-0400
TZOFFSETTO:-0500
TZNAME:EST
DTSTART:20231105T060000
END:STANDARD
BEGIN:DAYLIGHT
TZOFFSETFROM:-0500
TZOFFSETTO:-0400
TZNAME:EDT
DTSTART:20240310T070000
END:DAYLIGHT
BEGIN:STANDARD
TZOFFSETFROM:-0400
TZOFFSETTO:-0500
TZNAME:EST
DTSTART:20241103T060000
END:STANDARD
BEGIN:DAYLIGHT
TZOFFSETFROM:-0500
TZOFFSETTO:-0400
TZNAME:EDT
DTSTART:20250309T070000
END:DAYLIGHT
BEGIN:STANDARD
TZOFFSETFROM:-0400
TZOFFSETTO:-0500
TZNAME:EST
DTSTART:20251102T060000
END:STANDARD
END:VTIMEZONE
BEGIN:VEVENT
DTSTART;TZID=America/New_York:20241113T170000
DTEND;TZID=America/New_York:20241113T180000
DTSTAMP:20260422T003824
CREATED:20241107T193947Z
LAST-MODIFIED:20241107T193947Z
UID:10002748-1731517200-1731520800@wpengine.mountainbizworks.org
SUMMARY:Sesión Informativa Virtual Gratuita organizada por WNC Strong
DESCRIPTION:Únase a nosotros para conocer diversas oportunidades de financiamiento y recursos disponibles para pequeñas empresas afectadas por la tormenta en el oeste de Carolina del Norte. \nEsta sesión informativa ofrecerá una descripción general de varias subvenciones o becas para pequeñas empresas y sus requisitos de elegibilidad\, así como del programa de préstamos del Fondo de Recuperación Empresarial Helene y el programa de préstamos por desastre de la SBA. También compartiremos información sobre recursos y apoyo adicionales para pequeñas empresas. \nHabrá una presentación con oportunidades para preguntas y respuestas.
URL:https://wpengine.mountainbizworks.org/event/sesion-informativa-virtual-gratuita-organizada-por-wnc-strong/
LOCATION:El Centro Hendersonville\, 508 N. Grove Street\, Hendersonville\, 28792\, United States
CATEGORIES:Class,En Espanol,In-Person,Learn,Workshop
END:VEVENT
END:VCALENDAR