BEGIN:VCALENDAR
VERSION:2.0
PRODID:-//Mountain BizWorks - ECPv6.15.20//NONSGML v1.0//EN
CALSCALE:GREGORIAN
METHOD:PUBLISH
X-WR-CALNAME:Mountain BizWorks
X-ORIGINAL-URL:https://wpengine.mountainbizworks.org
X-WR-CALDESC:Events for Mountain BizWorks
REFRESH-INTERVAL;VALUE=DURATION:PT1H
X-Robots-Tag:noindex
X-PUBLISHED-TTL:PT1H
BEGIN:VTIMEZONE
TZID:America/Halifax
BEGIN:DAYLIGHT
TZOFFSETFROM:-0400
TZOFFSETTO:-0300
TZNAME:ADT
DTSTART:20160313T060000
END:DAYLIGHT
BEGIN:STANDARD
TZOFFSETFROM:-0300
TZOFFSETTO:-0400
TZNAME:AST
DTSTART:20161106T050000
END:STANDARD
BEGIN:DAYLIGHT
TZOFFSETFROM:-0400
TZOFFSETTO:-0300
TZNAME:ADT
DTSTART:20170312T060000
END:DAYLIGHT
BEGIN:STANDARD
TZOFFSETFROM:-0300
TZOFFSETTO:-0400
TZNAME:AST
DTSTART:20171105T050000
END:STANDARD
BEGIN:DAYLIGHT
TZOFFSETFROM:-0400
TZOFFSETTO:-0300
TZNAME:ADT
DTSTART:20180311T060000
END:DAYLIGHT
BEGIN:STANDARD
TZOFFSETFROM:-0300
TZOFFSETTO:-0400
TZNAME:AST
DTSTART:20181104T050000
END:STANDARD
BEGIN:DAYLIGHT
TZOFFSETFROM:-0400
TZOFFSETTO:-0300
TZNAME:ADT
DTSTART:20190310T060000
END:DAYLIGHT
BEGIN:STANDARD
TZOFFSETFROM:-0300
TZOFFSETTO:-0400
TZNAME:AST
DTSTART:20191103T050000
END:STANDARD
END:VTIMEZONE
BEGIN:VEVENT
DTSTART;TZID=America/Halifax:20180726T150000
DTEND;TZID=America/Halifax:20180726T170000
DTSTAMP:20260422T005559
CREATED:20180625T191431Z
LAST-MODIFIED:20180625T191431Z
UID:10001870-1532617200-1532624400@wpengine.mountainbizworks.org
SUMMARY:Local Economy Gap Analysis Workshop
DESCRIPTION:Join us at our upcoming workshop and dive deeper into the results of the Local Economy Gap Analysis study which are ripe for new or expanding businesses. This interactive workshop will include a discussion on which opportunities are the best fit in your community and what resources are available to assist you in growing your small business or micro-enterprise.\n \nThe workshop is intended for all individuals looking to process this data in a hands-on workshop setting. 
URL:https://wpengine.mountainbizworks.org/event/local-economy-gap-analysis-workshop/
LOCATION:Edington Center\, 133 Livingston St\, Asheville\, NC\, 28801\, United States
CATEGORIES:Class,NEC Event
ATTACH;FMTTYPE=image/png:https://wpengine.mountainbizworks.org/wp-content/uploads/2018/06/person_Sillouttes.png
GEO:35.5778793;-82.5570974
X-APPLE-STRUCTURED-LOCATION;VALUE=URI;X-ADDRESS=Edington Center 133 Livingston St Asheville NC 28801 United States;X-APPLE-RADIUS=500;X-TITLE=133 Livingston St:geo:-82.5570974,35.5778793
END:VEVENT
BEGIN:VEVENT
DTSTART;TZID=America/Halifax:20171115T180000
DTEND;TZID=America/Halifax:20171115T193000
DTSTAMP:20260422T005559
CREATED:20171031T160100Z
LAST-MODIFIED:20171108T155858Z
UID:10001650-1510768800-1510774200@wpengine.mountainbizworks.org
SUMMARY:Business Resolutions
DESCRIPTION:An upcoming workshop entitled “Business Resolutions\,” is aimed at helping our local businesses\, especially those owned by people of color\, thrive in the new year.  This workshop\, sponsored by the New Economy Coalition\, will introduce attendees to the work of the New Economy Coalition\, a collaborative community collective working to develop more inclusive and equitable models for local economic development.  It will also guide attendees through some of the findings of the coalition’s recent leakage study\, which identifies existing exports or gaps in local services and products\, i.e. areas for potential new business development or expansion by businesses owned by people of color in our region. \nInformation will also be presented at these workshops about an upcoming 2018 series of workshops to be sponsored by the New Economy Coalition\, where participants can attain more in-depth information on the results of the leakage study. \nFinally\, it will look at how we can all support locally-owned businesses with our holiday shopping\, by making an effort to “Buy Black and Brown” (inspired by the national “Buy Black” campaign).  Business owners are encouraged to wear branded material and bring small collateral to the workshop\, in order to build awareness of those products for a wider audience. 
URL:https://wpengine.mountainbizworks.org/event/business-resolutions/
LOCATION:Edington Center\, 133 Livingston St\, Asheville\, NC\, 28801\, United States
CATEGORIES:Class,NEC Event
GEO:35.5778793;-82.5570974
X-APPLE-STRUCTURED-LOCATION;VALUE=URI;X-ADDRESS=Edington Center 133 Livingston St Asheville NC 28801 United States;X-APPLE-RADIUS=500;X-TITLE=133 Livingston St:geo:-82.5570974,35.5778793
END:VEVENT
END:VCALENDAR