BEGIN:VCALENDAR
VERSION:2.0
PRODID:-//Mountain BizWorks - ECPv6.15.20//NONSGML v1.0//EN
CALSCALE:GREGORIAN
METHOD:PUBLISH
X-WR-CALNAME:Mountain BizWorks
X-ORIGINAL-URL:https://wpengine.mountainbizworks.org
X-WR-CALDESC:Events for Mountain BizWorks
REFRESH-INTERVAL;VALUE=DURATION:PT1H
X-Robots-Tag:noindex
X-PUBLISHED-TTL:PT1H
BEGIN:VTIMEZONE
TZID:America/Halifax
BEGIN:DAYLIGHT
TZOFFSETFROM:-0400
TZOFFSETTO:-0300
TZNAME:ADT
DTSTART:20170312T060000
END:DAYLIGHT
BEGIN:STANDARD
TZOFFSETFROM:-0300
TZOFFSETTO:-0400
TZNAME:AST
DTSTART:20171105T050000
END:STANDARD
BEGIN:DAYLIGHT
TZOFFSETFROM:-0400
TZOFFSETTO:-0300
TZNAME:ADT
DTSTART:20180311T060000
END:DAYLIGHT
BEGIN:STANDARD
TZOFFSETFROM:-0300
TZOFFSETTO:-0400
TZNAME:AST
DTSTART:20181104T050000
END:STANDARD
BEGIN:DAYLIGHT
TZOFFSETFROM:-0400
TZOFFSETTO:-0300
TZNAME:ADT
DTSTART:20190310T060000
END:DAYLIGHT
BEGIN:STANDARD
TZOFFSETFROM:-0300
TZOFFSETTO:-0400
TZNAME:AST
DTSTART:20191103T050000
END:STANDARD
END:VTIMEZONE
BEGIN:VEVENT
DTSTART;TZID=America/Halifax:20180927T160000
DTEND;TZID=America/Halifax:20180927T180000
DTSTAMP:20260425T145510
CREATED:20180817T131024Z
LAST-MODIFIED:20180918T152204Z
UID:10001712-1538064000-1538071200@wpengine.mountainbizworks.org
SUMMARY:September 27: Access to Capital with Ecusta Brewing & Tin Roof Pizza
DESCRIPTION:Join us for an in-depth look at the journey of two small businesses\, Tin Roof Pizza and Ecusta Brewing. (FREE WORKSHOP)\nAt Ecusta Brewing in Pisgah Forest\, NC (49 Pisgah Hwy #3)! Snacks and refreshments provided. \nHear from co-founder Josh Chambers about how he and his partner grew Ecusta from a home brewing operation into two taprooms in Pisgah Forest. And learn how Val Gerdes has financed and grown her mobile wood-fired pizzeria. This workshop will touch on everything from strategic planning to understanding how to finance your growing business.  Snacks and refreshments provided. \nCommunity lenders – Carolina Small Business Development Fund\, Mountain BizWorks\, and Natural Capital Investment Fund – will be on hand to answer questions about the financing and assistance they provide to growing businesses.
URL:https://wpengine.mountainbizworks.org/event/september-27-access-to-capital/
LOCATION:Ecusta Brewing\, 49 Pisgah Hwy #3\, Pisgah Forest\, NC\, 28768\, United States
CATEGORIES:Class
GEO:35.2737262;-82.7051634
X-APPLE-STRUCTURED-LOCATION;VALUE=URI;X-ADDRESS=Ecusta Brewing 49 Pisgah Hwy #3 Pisgah Forest NC 28768 United States;X-APPLE-RADIUS=500;X-TITLE=49 Pisgah Hwy #3:geo:-82.7051634,35.2737262
END:VEVENT
END:VCALENDAR