BEGIN:VCALENDAR
VERSION:2.0
PRODID:-//Mountain BizWorks - ECPv6.15.20//NONSGML v1.0//EN
CALSCALE:GREGORIAN
METHOD:PUBLISH
X-WR-CALNAME:Mountain BizWorks
X-ORIGINAL-URL:https://wpengine.mountainbizworks.org
X-WR-CALDESC:Events for Mountain BizWorks
REFRESH-INTERVAL;VALUE=DURATION:PT1H
X-Robots-Tag:noindex
X-PUBLISHED-TTL:PT1H
BEGIN:VTIMEZONE
TZID:America/New_York
BEGIN:DAYLIGHT
TZOFFSETFROM:-0500
TZOFFSETTO:-0400
TZNAME:EDT
DTSTART:20250309T070000
END:DAYLIGHT
BEGIN:STANDARD
TZOFFSETFROM:-0400
TZOFFSETTO:-0500
TZNAME:EST
DTSTART:20251102T060000
END:STANDARD
BEGIN:DAYLIGHT
TZOFFSETFROM:-0500
TZOFFSETTO:-0400
TZNAME:EDT
DTSTART:20260308T070000
END:DAYLIGHT
BEGIN:STANDARD
TZOFFSETFROM:-0400
TZOFFSETTO:-0500
TZNAME:EST
DTSTART:20261101T060000
END:STANDARD
BEGIN:DAYLIGHT
TZOFFSETFROM:-0500
TZOFFSETTO:-0400
TZNAME:EDT
DTSTART:20270314T070000
END:DAYLIGHT
BEGIN:STANDARD
TZOFFSETFROM:-0400
TZOFFSETTO:-0500
TZNAME:EST
DTSTART:20271107T060000
END:STANDARD
END:VTIMEZONE
BEGIN:VTIMEZONE
TZID:UTC
BEGIN:STANDARD
TZOFFSETFROM:+0000
TZOFFSETTO:+0000
TZNAME:UTC
DTSTART:20210101T000000
END:STANDARD
END:VTIMEZONE
BEGIN:VEVENT
DTSTART;TZID=America/New_York:20260203T170000
DTEND;TZID=America/New_York:20260203T190000
DTSTAMP:20260425T093737
CREATED:20251210T194734Z
LAST-MODIFIED:20251210T194734Z
UID:10002895-1770138000-1770145200@wpengine.mountainbizworks.org
SUMMARY:Craft Your Commerce Book Club | Taxes for Humans by Hannah Cole
DESCRIPTION:Join author Hannah Cole for a two-part discussion of her new book\, Taxes for Humans. As both a tax expert and an artist\, Hannah excels at demystifying taxes for anyone\, but especially for creative people. If you’ve ever found yourself wanting a simple\, kind\, and practical explanation of how to handle your taxes as a self-employed person\, this book is for you. \nMeeting dates: \n\nTuesday\, February 3rd\, 5:00-7:00 pm\, in-person at the Center for Craft\nTuesday\, February 24th\, 12:00 – 2:00pm\, virtual via Zoom\n\nAbout the Book: \n“Equal parts empathetic and practical\, Taxes for Humans is a handbook for tackling the tax-season-scaries\, written specifically for people who are self-employed. Provides essential tax education for those pushed to the back of the financial line in America\, including women\, queer people\, and BIPOC folks\, this book provides the practical tools people need to understand their taxes\, conquer their fear of finances\, bulk up on tax benefits\, and end the tax season stronger\, smarter\, and more tax-savvy than ever–without sacrificing their sanity.” \nAbout the Author/Facilitator: \nHannah Cole is a tax expert who specializes in working with creative businesses and mission-driven solopreneurs. A long-time working artist herself\, she’s helped tens of thousands of self-employed people skill up with accessible tax and money education\, through her Money Bootcamp program\, speaking engagements from Florida to Alaska\, and on the Sunlight Tax podcast. She is the founder of Sunlight Tax.
URL:https://wpengine.mountainbizworks.org/event/craft-your-commerce-book-club-taxes-for-humans-by-hannah-cole/
LOCATION:Center for Craft – Michael Sherrill Loft\, 67 Broadway St\, Asheville\, 28801\, United States
CATEGORIES:Class,Craft Your Commerce,In-Person,Learn
END:VEVENT
BEGIN:VEVENT
DTSTART;TZID=UTC:20220928T100000
DTEND;TZID=UTC:20220928T120000
DTSTAMP:20260425T093737
CREATED:20220725T185207Z
LAST-MODIFIED:20220802T224334Z
UID:10002020-1664359200-1664366400@wpengine.mountainbizworks.org
SUMMARY:Breaking into the Wholesale Market - Hybrid
DESCRIPTION:Have you ever wondered if your product is a good fit for the wholesale marketplace? Curious about how to wholesale your product and develop a new revenue stream? Wholesale is not dead and can be a wonderful way to bring in additional income to your creative product business. Industry expert Robin Kramer will provide you with insight and knowledge gained from over 25 years of experience in the wholesale industry. She will teach you how to conquer wholesale through proven methods so you can get into your dream stores and take your business to the next level. Some of the things you will learn: \n\nSetting yourself up for wholesale success\nHow to find and approach stores\nRelationship building (the key to a strong wholesale business)\nMust have tools and systems\n\nThis is a TWO day course: September 28th & 29th from 10AM – 12PM \nBreaking into the Wholesale Market is part of the Craft Your Commerce Workshop Series Next Level Financials and Operations. \nThis a HYBRID class. For those who wish to meet in person it will take place at the Center for Craft. For those who wish to meet virtually\, a zoom link will be sent upon registration. Please email Lilley@mountainbizworks.org with any questions or concerns.
URL:https://wpengine.mountainbizworks.org/event/breaking-into-the-wholesale-market-hybrid/
LOCATION:Center for Craft – Michael Sherrill Loft\, 67 Broadway St\, Asheville\, 28801\, United States
CATEGORIES:Class,Craft Your Commerce
END:VEVENT
BEGIN:VEVENT
DTSTART;TZID=UTC:20220922T170000
DTEND;TZID=UTC:20220922T190000
DTSTAMP:20260425T093737
CREATED:20220801T171754Z
LAST-MODIFIED:20220803T155800Z
UID:10002028-1663866000-1663873200@wpengine.mountainbizworks.org
SUMMARY:Authentic Connections
DESCRIPTION:The sales process is the most stigmatized process within owning a business. Most people have a negative association with sales\, thus avoiding their potential abundance in their business journey. The reality is without sales\, there is no movement within the economy. Authentic Connections is about debunking the mental association with the sales process. In Authentic Connections we will learn: how to become more relatable and likable\, how to get known in your marketplace\, and how to build trust to create sustainability in one’s business economy.  \nA sale is more than just a transaction but the beginning of a relationship to creating loyal customers for your business. Come join Alex Cardona and make a money making mind shift at Authentic Connections.  \nAuthentic Connections is part of the Craft Your Commerce Workshop Series Next Level Financials and Operations. \nThis is a HYBRID class. For those who wish to meet in person it will take place at the Center for Craft. For those who wish to meet virtually\, a zoom link will be sent upon registration. Please email Lilley@mountainbizworks.org with any questions or concerns.
URL:https://wpengine.mountainbizworks.org/event/authentic-connections/
LOCATION:Center for Craft – Michael Sherrill Loft\, 67 Broadway St\, Asheville\, 28801\, United States
CATEGORIES:Class,Craft Your Commerce
END:VEVENT
END:VCALENDAR