BEGIN:VCALENDAR
VERSION:2.0
PRODID:-//Mountain BizWorks - ECPv6.15.20//NONSGML v1.0//EN
CALSCALE:GREGORIAN
METHOD:PUBLISH
X-WR-CALNAME:Mountain BizWorks
X-ORIGINAL-URL:https://wpengine.mountainbizworks.org
X-WR-CALDESC:Events for Mountain BizWorks
REFRESH-INTERVAL;VALUE=DURATION:PT1H
X-Robots-Tag:noindex
X-PUBLISHED-TTL:PT1H
BEGIN:VTIMEZONE
TZID:America/New_York
BEGIN:DAYLIGHT
TZOFFSETFROM:-0500
TZOFFSETTO:-0400
TZNAME:EDT
DTSTART:20220313T070000
END:DAYLIGHT
BEGIN:STANDARD
TZOFFSETFROM:-0400
TZOFFSETTO:-0500
TZNAME:EST
DTSTART:20221106T060000
END:STANDARD
BEGIN:DAYLIGHT
TZOFFSETFROM:-0500
TZOFFSETTO:-0400
TZNAME:EDT
DTSTART:20230312T070000
END:DAYLIGHT
BEGIN:STANDARD
TZOFFSETFROM:-0400
TZOFFSETTO:-0500
TZNAME:EST
DTSTART:20231105T060000
END:STANDARD
BEGIN:DAYLIGHT
TZOFFSETFROM:-0500
TZOFFSETTO:-0400
TZNAME:EDT
DTSTART:20240310T070000
END:DAYLIGHT
BEGIN:STANDARD
TZOFFSETFROM:-0400
TZOFFSETTO:-0500
TZNAME:EST
DTSTART:20241103T060000
END:STANDARD
BEGIN:DAYLIGHT
TZOFFSETFROM:-0500
TZOFFSETTO:-0400
TZNAME:EDT
DTSTART:20250309T070000
END:DAYLIGHT
BEGIN:STANDARD
TZOFFSETFROM:-0400
TZOFFSETTO:-0500
TZNAME:EST
DTSTART:20251102T060000
END:STANDARD
BEGIN:DAYLIGHT
TZOFFSETFROM:-0500
TZOFFSETTO:-0400
TZNAME:EDT
DTSTART:20260308T070000
END:DAYLIGHT
BEGIN:STANDARD
TZOFFSETFROM:-0400
TZOFFSETTO:-0500
TZNAME:EST
DTSTART:20261101T060000
END:STANDARD
END:VTIMEZONE
BEGIN:VEVENT
DTSTART;TZID=America/New_York:20250425T110000
DTEND;TZID=America/New_York:20250425T130000
DTSTAMP:20260421T023931
CREATED:20250328T163154Z
LAST-MODIFIED:20250328T163154Z
UID:10002790-1745578800-1745586000@wpengine.mountainbizworks.org
SUMMARY:Craft Your Commerce Connect | From Clicks to Customers: How to Build a Website that Converts
DESCRIPTION:Your website should do more than just exist. It should be your hardest-working sales tool! \nIn this workshop\, we’ll break down what makes a website easy to navigate and powerful enough to convert visitors into customers and clients. You’ll walk away knowing how to spot weak areas on your site\, fix common mistakes\, and make small tweaks that lead to big results. \nYou’ll also have the opportunity to get a short review of your website with personalized feedback and recommendations to make it work better for your business. \nAbout the Instructor: Alyssa Phillips Downey is the owner of Amp’d Designs\, helping businesses get noticed through bold\, unforgettable Branding & Web Design that is deeply rooted in both strategy and business goals\, and looks beautiful too. She loves working with fearless and ambitious entrepreneurs on designs that convey the intention and quality they put into their work.
URL:https://wpengine.mountainbizworks.org/event/craft-your-commerce-connect-from-clicks-to-customers/
LOCATION:Center for Craft\, 67 Broadway St\, Asheville\, 28801\, United States
CATEGORIES:Class,Craft Your Commerce,In-Person,Learn
END:VEVENT
BEGIN:VEVENT
DTSTART;TZID=America/New_York:20250321T110000
DTEND;TZID=America/New_York:20250321T130000
DTSTAMP:20260421T023931
CREATED:20250130T174526Z
LAST-MODIFIED:20250130T174526Z
UID:10002775-1742554800-1742562000@wpengine.mountainbizworks.org
SUMMARY:Craft Your Commerce Connect: Marketing Plans Made Simple with Liz Kantner
DESCRIPTION:Make your marketing manageable—and effective. \nTake the stress out of marketing with this 2-hour session led by marketing expert Liz Kantner. This workshop will break down the essentials of creating a clear\, actionable marketing plan with templates for creating your own marketing strategy plan. \nLiz will guide you through practical strategies to identify your goals\, target audience\, and key messaging. You’ll also have the chance to participate in collaborative discussions\, helping you refine your approach and walk away with a simplified plan you can implement right away.
URL:https://wpengine.mountainbizworks.org/event/craft-your-commerce-connect-marketing-plans-made-simple/
LOCATION:Center for Craft\, 67 Broadway St\, Asheville\, 28801\, United States
CATEGORIES:Class,Craft Your Commerce,In-Person,Learn
END:VEVENT
BEGIN:VEVENT
DTSTART;TZID=America/New_York:20250305T140000
DTEND;TZID=America/New_York:20250305T170000
DTSTAMP:20260421T023931
CREATED:20250225T164526Z
LAST-MODIFIED:20250225T164526Z
UID:10002779-1741183200-1741194000@wpengine.mountainbizworks.org
SUMMARY:Focused Grant Writing for Creatives and Arts-Affiliated Organizations
DESCRIPTION:Join Tanya Ledford of The Grant Guides for a hands-on workshop at the Center for Craft. Tanya will help demystify the application process for two key arts grants: the Arts AVL Arts Business Grant (due March 14\, 2025) and the South Arts Artist Grant (opening March 19\, 2025). In this focused session\, you’ll learn best practices for staying organized\, crafting clear and compelling applications\, and ethically leveraging AI tools like ChatGPT. The workshop will conclude with a dedicated work session\, where you’ll have time to apply what you’ve learned\, ask questions\, and receive personalized guidance—ensuring you leave with confidence and a stronger proposal.
URL:https://wpengine.mountainbizworks.org/event/focused-grant-writing-for-creatives-and-arts-affiliated-organizations/
LOCATION:Center for Craft\, 67 Broadway St\, Asheville\, 28801\, United States
CATEGORIES:Class,Craft Your Commerce,In-Person,Learn
END:VEVENT
BEGIN:VEVENT
DTSTART;TZID=America/New_York:20250221T110000
DTEND;TZID=America/New_York:20250221T130000
DTSTAMP:20260421T023931
CREATED:20250130T174327Z
LAST-MODIFIED:20250130T174327Z
UID:10002774-1740135600-1740142800@wpengine.mountainbizworks.org
SUMMARY:Craft Your Commerce Connect: Website Framework and Best Practices with Cami Leisk
DESCRIPTION:This 2-hour session with website strategist Cami Leisk will help you create a more effective and user-friendly website and ecommerce layout. Cami will cover key principles of navigation and website flow\, giving you a solid framework to design or redesign your online presence. \nThe session includes opportunities for partnered discussions\, where you’ll exchange ideas and gain clarity on what you want for your website. Whether you’re starting fresh or refining an existing site\, this workshop will equip you with practical tools to make your website work better for your business.
URL:https://wpengine.mountainbizworks.org/event/craft-your-commerce-connect-website-framework-and-best-practices-with-cami-leisk/
LOCATION:Center for Craft\, 67 Broadway St\, Asheville\, 28801\, United States
CATEGORIES:Class,Craft Your Commerce,In-Person,Learn
END:VEVENT
BEGIN:VEVENT
DTSTART;TZID=America/New_York:20230907T170000
DTEND;TZID=America/New_York:20230907T190000
DTSTAMP:20260421T023931
CREATED:20230630T194308Z
LAST-MODIFIED:20240301T181627Z
UID:10002345-1694106000-1694113200@wpengine.mountainbizworks.org
SUMMARY:Fall 2023 Makers Mixer
DESCRIPTION:Join us on Thursday\, September 7th from 5-7 p.m.\, for an informal\, in-person gathering of artists and creatives from the Western North Carolina region. This is a relaxed networking event that will begin with a brief introduction and presentation to provide a glimpse of the upcoming 2023 Fall Craft Your Commerce workshop series Investing for Creatives. Join us for a free and fun evening of socializing\, light bites\, and beverages. Lex Turnbull will be joining us to deliver a fun and informational zine making workshop. This is an in-person event held at the Center for Craft. \n\nThis is part of the Craft Your Commerce Workshop Series Investing for Creatives.  \nGet the Fall All Access Pass.  \n\n\n\n 
URL:https://wpengine.mountainbizworks.org/event/fall-2023-makers-mixer/
LOCATION:Center for Craft\, 67 Broadway St\, Asheville\, 28801\, United States
CATEGORIES:Class,Craft Your Commerce,Event,Learn
END:VEVENT
END:VCALENDAR