BEGIN:VCALENDAR
VERSION:2.0
PRODID:-//Mountain BizWorks - ECPv6.15.20//NONSGML v1.0//EN
CALSCALE:GREGORIAN
METHOD:PUBLISH
X-WR-CALNAME:Mountain BizWorks
X-ORIGINAL-URL:https://wpengine.mountainbizworks.org
X-WR-CALDESC:Events for Mountain BizWorks
REFRESH-INTERVAL;VALUE=DURATION:PT1H
X-Robots-Tag:noindex
X-PUBLISHED-TTL:PT1H
BEGIN:VTIMEZONE
TZID:America/Halifax
BEGIN:DAYLIGHT
TZOFFSETFROM:-0400
TZOFFSETTO:-0300
TZNAME:ADT
DTSTART:20190310T060000
END:DAYLIGHT
BEGIN:STANDARD
TZOFFSETFROM:-0300
TZOFFSETTO:-0400
TZNAME:AST
DTSTART:20191103T050000
END:STANDARD
BEGIN:DAYLIGHT
TZOFFSETFROM:-0400
TZOFFSETTO:-0300
TZNAME:ADT
DTSTART:20200308T060000
END:DAYLIGHT
BEGIN:STANDARD
TZOFFSETFROM:-0300
TZOFFSETTO:-0400
TZNAME:AST
DTSTART:20201101T050000
END:STANDARD
BEGIN:DAYLIGHT
TZOFFSETFROM:-0400
TZOFFSETTO:-0300
TZNAME:ADT
DTSTART:20210314T060000
END:DAYLIGHT
BEGIN:STANDARD
TZOFFSETFROM:-0300
TZOFFSETTO:-0400
TZNAME:AST
DTSTART:20211107T050000
END:STANDARD
END:VTIMEZONE
BEGIN:VEVENT
DTSTART;TZID=America/Halifax:20200114T180000
DTEND;TZID=America/Halifax:20200114T200000
DTSTAMP:20260424T120458
CREATED:20191231T210950Z
LAST-MODIFIED:20200110T153437Z
UID:10001811-1579024800-1579032000@wpengine.mountainbizworks.org
SUMMARY:Celebrate the Next Peak of High Country Small Business Success
DESCRIPTION:Join us on Tuesday\, January 14\, from 6:00 PM to 8:00 PM at Booneshine Brewing Co. for a special evening celebrating 4 years of the Mountain BizWorks High Country Regional Office. We look forward to highlighting several small business success stories\, thanking our partners\, and looking ahead to High Country small business opportunities in the coming decade. We hope you can join us! \nLight refreshments and drinks – featuring Mountain BizWorks’ clients – will be served. Admission is free but space is limited. Please RSVP to reserve your seat. \nRSVP
URL:https://wpengine.mountainbizworks.org/event/celebrate-the-next-peak-of-high-country-small-business-success/
LOCATION:Booneshine Brewing\, 465 Industrial Park Dr.\, Boone\, NC\, 28607\, United States
CATEGORIES:Class,Mountain BizWorks Event
END:VEVENT
BEGIN:VEVENT
DTSTART;TZID=America/Halifax:20200114T170000
DTEND;TZID=America/Halifax:20200114T180000
DTSTAMP:20260424T120458
CREATED:20191231T152444Z
LAST-MODIFIED:20191231T152444Z
UID:10001805-1579021200-1579024800@wpengine.mountainbizworks.org
SUMMARY:ScaleUp Founder Networking & Lightning Pitch Competition (in Boone)
DESCRIPTION:In preparation for the 2020 ScaleUp WNC application deadline (Jan 31!)\, Mountain BizWorks is hosting six Founder Networking events around the region. Local small business owners with strong growth potential are invited to come out\, connect with other growth-oriented entrepreneurs\, and learn about the 2020 ScaleUp program – PLUS\, all attending founders will have the opportunity to exercise your scale-up mindset by giving a 30 second pitch on your company and a potential growth opportunity. The best pitch as voted on by the audience will win a basket of epic ScaleUp Alumni products (and the admiration of all). \nEach session will also feature top notch business advisers\, alumni CEOs\, and partner resource providers. Founders can bring their biggest opportunities\, challenges\, or off-the-wall ideas to get immediate feedback from our ScaleUp team and partners. \nThis event is free\, but registration is requested (see below). Founders will sign up to make a lightning pitch at the on-site welcome table. \nLearn more about the ScaleUp program and all of our 2020 program sessions here.
URL:https://wpengine.mountainbizworks.org/event/scaleup-founder-networking-lightning-pitch-competition-in-boone/
LOCATION:Booneshine Brewing\, 465 Industrial Park Dr.\, Boone\, NC\, 28607\, United States
CATEGORIES:Class,ScaleUp
END:VEVENT
END:VCALENDAR