BEGIN:VCALENDAR
VERSION:2.0
PRODID:-//Mountain BizWorks - ECPv6.15.20//NONSGML v1.0//EN
CALSCALE:GREGORIAN
METHOD:PUBLISH
X-WR-CALNAME:Mountain BizWorks
X-ORIGINAL-URL:https://wpengine.mountainbizworks.org
X-WR-CALDESC:Events for Mountain BizWorks
REFRESH-INTERVAL;VALUE=DURATION:PT1H
X-Robots-Tag:noindex
X-PUBLISHED-TTL:PT1H
BEGIN:VTIMEZONE
TZID:America/Halifax
BEGIN:DAYLIGHT
TZOFFSETFROM:-0400
TZOFFSETTO:-0300
TZNAME:ADT
DTSTART:20180311T060000
END:DAYLIGHT
BEGIN:STANDARD
TZOFFSETFROM:-0300
TZOFFSETTO:-0400
TZNAME:AST
DTSTART:20181104T050000
END:STANDARD
BEGIN:DAYLIGHT
TZOFFSETFROM:-0400
TZOFFSETTO:-0300
TZNAME:ADT
DTSTART:20190310T060000
END:DAYLIGHT
BEGIN:STANDARD
TZOFFSETFROM:-0300
TZOFFSETTO:-0400
TZNAME:AST
DTSTART:20191103T050000
END:STANDARD
BEGIN:DAYLIGHT
TZOFFSETFROM:-0400
TZOFFSETTO:-0300
TZNAME:ADT
DTSTART:20200308T060000
END:DAYLIGHT
BEGIN:STANDARD
TZOFFSETFROM:-0300
TZOFFSETTO:-0400
TZNAME:AST
DTSTART:20201101T050000
END:STANDARD
END:VTIMEZONE
BEGIN:VEVENT
DTSTART;TZID=America/Halifax:20190115T173000
DTEND;TZID=America/Halifax:20190115T183000
DTSTAMP:20260421T212121
CREATED:20190103T195028Z
LAST-MODIFIED:20190103T195028Z
UID:10001929-1547573400-1547577000@wpengine.mountainbizworks.org
SUMMARY:ScaleUp WNC Info Session & Happy Hour (Canton)
DESCRIPTION:Are you a founder or manager of a WNC small business with strong growth potential?\nJoin us at the beautiful Bearwaters Brewery facility in Canton – an expansion supported by the ScaleUp program!\nIf so\, we invite you to join us for an informational session and happy hour to learn more about the 2019 ScaleUp WNC program. At this event\, you’ll get an overview of the program details and benefits\, will have a chance to meet some of our program facilitators and alumni\, and can ask any burning questions you may have. You are not required to attend an info session to apply but we do encourage it as it provides an opportunity to introduce your company\, get some tips on the application process\, and to ensure the program is a good fit. It’s also a great opportunity to connect with other growing business owners in your community. \nPlease RSVP using the form below. \nYou can also find our more about the ScaleUp WNC program here.
URL:https://wpengine.mountainbizworks.org/event/scaleup-wnc-info-session-happy-hour-canton/
LOCATION:Bearwaters Brewing\, 101 Park St\,\, Canton\, NC\, 28716\, United States
CATEGORIES:Class,ScaleUp
END:VEVENT
END:VCALENDAR