BEGIN:VCALENDAR
VERSION:2.0
PRODID:-//Mountain BizWorks - ECPv6.15.20//NONSGML v1.0//EN
CALSCALE:GREGORIAN
METHOD:PUBLISH
X-WR-CALNAME:Mountain BizWorks
X-ORIGINAL-URL:https://wpengine.mountainbizworks.org
X-WR-CALDESC:Events for Mountain BizWorks
REFRESH-INTERVAL;VALUE=DURATION:PT1H
X-Robots-Tag:noindex
X-PUBLISHED-TTL:PT1H
BEGIN:VTIMEZONE
TZID:America/Halifax
BEGIN:DAYLIGHT
TZOFFSETFROM:-0400
TZOFFSETTO:-0300
TZNAME:ADT
DTSTART:20160313T060000
END:DAYLIGHT
BEGIN:STANDARD
TZOFFSETFROM:-0300
TZOFFSETTO:-0400
TZNAME:AST
DTSTART:20161106T050000
END:STANDARD
BEGIN:DAYLIGHT
TZOFFSETFROM:-0400
TZOFFSETTO:-0300
TZNAME:ADT
DTSTART:20170312T060000
END:DAYLIGHT
BEGIN:STANDARD
TZOFFSETFROM:-0300
TZOFFSETTO:-0400
TZNAME:AST
DTSTART:20171105T050000
END:STANDARD
BEGIN:DAYLIGHT
TZOFFSETFROM:-0400
TZOFFSETTO:-0300
TZNAME:ADT
DTSTART:20180311T060000
END:DAYLIGHT
BEGIN:STANDARD
TZOFFSETFROM:-0300
TZOFFSETTO:-0400
TZNAME:AST
DTSTART:20181104T050000
END:STANDARD
END:VTIMEZONE
BEGIN:VEVENT
DTSTART;TZID=America/Halifax:20171212T160000
DTEND;TZID=America/Halifax:20171212T190000
DTSTAMP:20260424T135911
CREATED:20171113T203702Z
LAST-MODIFIED:20171113T203702Z
UID:10001666-1513094400-1513105200@wpengine.mountainbizworks.org
SUMMARY:Pricing for Profit - A Workshop for Farm & Food Businesses
DESCRIPTION:Financial success in business rarely comes by accident\, this seminar focuses on learning and using basic business financial planning and analysis techniques that are vital in creating profitability for farming enterprises. We will learn and apply techniques\, such as determining your cost structure\, evaluating revenue streams\, creating break-even analysis’ and factors to take into consideration when pricing your products. Most of all we will learn how digging into the numbers can be enlightening and fun! Led by Barry Gupton\, Mountain Bizworks Financial Planning Coach. \n$20 per person\, includes a light meal \nRegister on ASAP’s website here 
URL:https://wpengine.mountainbizworks.org/event/pricing-for-profit-a-workshop-for-farm-food-businesses/
LOCATION:ASAP Headquarters\, 306 West Haywood Street\, Asheville\, NC\, 28801\, United States
CATEGORIES:Class,Financial Series,Local Food & Farming Initiatives
ORGANIZER;CN="Ascent Business Network":MAILTO:info@ascentbusinessnetwork.com
GEO:35.5916321;-82.563762
X-APPLE-STRUCTURED-LOCATION;VALUE=URI;X-ADDRESS=ASAP Headquarters 306 West Haywood Street Asheville NC 28801 United States;X-APPLE-RADIUS=500;X-TITLE=306 West Haywood Street:geo:-82.563762,35.5916321
END:VEVENT
BEGIN:VEVENT
DTSTART;TZID=America/Halifax:20170131T160000
DTEND;TZID=America/Halifax:20170131T190000
DTSTAMP:20260424T135912
CREATED:20161227T205618Z
LAST-MODIFIED:20170124T221021Z
UID:10001730-1485878400-1485889200@wpengine.mountainbizworks.org
SUMMARY:Pricing for Profit - A Workshop for Farm & Food Businesses
DESCRIPTION:Mountain BizWorks is pleased to be kicking off a 2017 farm business training series with the great folks at the Appalachian Sustainable Agriculture Project. \n\n\nInstructors:  Barry Gupton\, Mountain BizWorks Financial Planning Coach & William Lyons\, Bluebird Farm \nSpace is limited\, so REGISTER HERE today or call ASAP at (828) 236-1282 to register by phone. \nJanuary 31\, 2017  from 4-7 PM @ the ASAP office\, Asheville\, NC \n$20 per person\, includes a light meal \nFinancial success in business rarely comes by accident\, this seminar focuses on learning and using basic business financial planning and analysis techniques that are vital in creating profitability for farming enterprises.  We will learn and apply techniques\, such as determining your cost structure\, evaluating revenue streams\, creating break-even analysis’ and factors to take into consideration when pricing your products.  Most of all we will learn how digging into the numbers can be enlightening and fun! \nFor more information about classes and training opportunities for ASAP click here \n  \n                                           \n\n\nPhoto courtesy of ASAPor farm enterprise or are considering starting one\, we invite you to join us for the first workshop: Pricing your Farm Enterprise for Profit.\n 
URL:https://wpengine.mountainbizworks.org/event/pricing-your-farm-enterprise-for-profit-workshop/
LOCATION:ASAP Headquarters\, 306 West Haywood Street\, Asheville\, NC\, 28801\, United States
CATEGORIES:Class,Local Food & Farming Initiatives
ORGANIZER;CN="Ascent Business Network":MAILTO:info@ascentbusinessnetwork.com
GEO:35.5916321;-82.563762
X-APPLE-STRUCTURED-LOCATION;VALUE=URI;X-ADDRESS=ASAP Headquarters 306 West Haywood Street Asheville NC 28801 United States;X-APPLE-RADIUS=500;X-TITLE=306 West Haywood Street:geo:-82.563762,35.5916321
END:VEVENT
END:VCALENDAR