BEGIN:VCALENDAR
VERSION:2.0
PRODID:-//Mountain BizWorks - ECPv6.15.20//NONSGML v1.0//EN
CALSCALE:GREGORIAN
METHOD:PUBLISH
X-WR-CALNAME:Mountain BizWorks
X-ORIGINAL-URL:https://wpengine.mountainbizworks.org
X-WR-CALDESC:Events for Mountain BizWorks
REFRESH-INTERVAL;VALUE=DURATION:PT1H
X-Robots-Tag:noindex
X-PUBLISHED-TTL:PT1H
BEGIN:VTIMEZONE
TZID:America/New_York
BEGIN:DAYLIGHT
TZOFFSETFROM:-0500
TZOFFSETTO:-0400
TZNAME:EDT
DTSTART:20220313T070000
END:DAYLIGHT
BEGIN:STANDARD
TZOFFSETFROM:-0400
TZOFFSETTO:-0500
TZNAME:EST
DTSTART:20221106T060000
END:STANDARD
BEGIN:DAYLIGHT
TZOFFSETFROM:-0500
TZOFFSETTO:-0400
TZNAME:EDT
DTSTART:20230312T070000
END:DAYLIGHT
BEGIN:STANDARD
TZOFFSETFROM:-0400
TZOFFSETTO:-0500
TZNAME:EST
DTSTART:20231105T060000
END:STANDARD
BEGIN:DAYLIGHT
TZOFFSETFROM:-0500
TZOFFSETTO:-0400
TZNAME:EDT
DTSTART:20240310T070000
END:DAYLIGHT
BEGIN:STANDARD
TZOFFSETFROM:-0400
TZOFFSETTO:-0500
TZNAME:EST
DTSTART:20241103T060000
END:STANDARD
END:VTIMEZONE
BEGIN:VTIMEZONE
TZID:America/Halifax
BEGIN:DAYLIGHT
TZOFFSETFROM:-0400
TZOFFSETTO:-0300
TZNAME:ADT
DTSTART:20190310T060000
END:DAYLIGHT
BEGIN:STANDARD
TZOFFSETFROM:-0300
TZOFFSETTO:-0400
TZNAME:AST
DTSTART:20191103T050000
END:STANDARD
BEGIN:DAYLIGHT
TZOFFSETFROM:-0400
TZOFFSETTO:-0300
TZNAME:ADT
DTSTART:20200308T060000
END:DAYLIGHT
BEGIN:STANDARD
TZOFFSETFROM:-0300
TZOFFSETTO:-0400
TZNAME:AST
DTSTART:20201101T050000
END:STANDARD
BEGIN:DAYLIGHT
TZOFFSETFROM:-0400
TZOFFSETTO:-0300
TZNAME:ADT
DTSTART:20210314T060000
END:DAYLIGHT
BEGIN:STANDARD
TZOFFSETFROM:-0300
TZOFFSETTO:-0400
TZNAME:AST
DTSTART:20211107T050000
END:STANDARD
END:VTIMEZONE
BEGIN:VEVENT
DTSTART;TZID=America/New_York:20231018T173000
DTEND;TZID=America/New_York:20231018T193000
DTSTAMP:20260424T141431
CREATED:20230210T184724Z
LAST-MODIFIED:20230927T145113Z
UID:10002323-1697650200-1697657400@wpengine.mountainbizworks.org
SUMMARY:ScaleUp Workshop - Building to Scale: Bankable Profits
DESCRIPTION:Building to Scale: Investing in Finance \nWe will discuss and unpack how scalable companies need access to smart capital and must invest time\, energy\, and money into scalable financial systems that measure key results while delivering free cash flow and bankable profits.  \n  \nThis event is part of the Building to Scale Workshop Series
URL:https://wpengine.mountainbizworks.org/event/scaleup-workshop-building-to-scale-bankable-profits/
LOCATION:Archetype Brewing Broadway (just north of downtown)\, 174 Broadway St.\, Asheville\, NC\, 28801\, United States
CATEGORIES:In-Person,ScaleUp
END:VEVENT
BEGIN:VEVENT
DTSTART;TZID=America/Halifax:20200123T173000
DTEND;TZID=America/Halifax:20200123T183000
DTSTAMP:20260424T141431
CREATED:20191231T170939Z
LAST-MODIFIED:20191231T170939Z
UID:10001809-1579800600-1579804200@wpengine.mountainbizworks.org
SUMMARY:ScaleUp Founder Networking & Lightning Pitch Competition (in Asheville)
DESCRIPTION:In preparation for the 2020 ScaleUp WNC application deadline (Jan 31!)\, Mountain BizWorks is hosting six Founder Networking events around the region. Local small business owners with strong growth potential are invited to come out\, connect with other growth-oriented entrepreneurs\, and learn about the 2020 ScaleUp program – PLUS\, all attending founders will have the opportunity to exercise your scale-up mindset by giving a 30 second pitch on your company and a potential growth opportunity. The best pitch as voted on by the audience will win a basket of epic ScaleUp Alumni products (and the admiration of all). \nEach session will also feature top notch business advisers\, alumni CEOs\, and partner resource providers. Founders can bring their biggest opportunities\, challenges\, or off-the-wall ideas to get immediate feedback from our ScaleUp team and partners. \nThis event is free\, but registration is requested (see below). Founders will sign up to make a lightning pitch at the on-site welcome table. \nLearn more about the ScaleUp program and all of our 2020 program sessions here.
URL:https://wpengine.mountainbizworks.org/event/scaleup-founder-networking-lightning-pitch-competition-in-asheville/
LOCATION:Archetype Brewing Broadway (just north of downtown)\, 174 Broadway St.\, Asheville\, NC\, 28801\, United States
CATEGORIES:Class,ScaleUp
END:VEVENT
END:VCALENDAR