BEGIN:VCALENDAR
VERSION:2.0
PRODID:-//Mountain BizWorks - ECPv6.15.20//NONSGML v1.0//EN
CALSCALE:GREGORIAN
METHOD:PUBLISH
X-WR-CALNAME:Mountain BizWorks
X-ORIGINAL-URL:https://wpengine.mountainbizworks.org
X-WR-CALDESC:Events for Mountain BizWorks
REFRESH-INTERVAL;VALUE=DURATION:PT1H
X-Robots-Tag:noindex
X-PUBLISHED-TTL:PT1H
BEGIN:VTIMEZONE
TZID:America/Halifax
BEGIN:DAYLIGHT
TZOFFSETFROM:-0400
TZOFFSETTO:-0300
TZNAME:ADT
DTSTART:20180311T060000
END:DAYLIGHT
BEGIN:STANDARD
TZOFFSETFROM:-0300
TZOFFSETTO:-0400
TZNAME:AST
DTSTART:20181104T050000
END:STANDARD
BEGIN:DAYLIGHT
TZOFFSETFROM:-0400
TZOFFSETTO:-0300
TZNAME:ADT
DTSTART:20190310T060000
END:DAYLIGHT
BEGIN:STANDARD
TZOFFSETFROM:-0300
TZOFFSETTO:-0400
TZNAME:AST
DTSTART:20191103T050000
END:STANDARD
BEGIN:DAYLIGHT
TZOFFSETFROM:-0400
TZOFFSETTO:-0300
TZNAME:ADT
DTSTART:20200308T060000
END:DAYLIGHT
BEGIN:STANDARD
TZOFFSETFROM:-0300
TZOFFSETTO:-0400
TZNAME:AST
DTSTART:20201101T050000
END:STANDARD
END:VTIMEZONE
BEGIN:VEVENT
DTSTART;TZID=America/Halifax:20190822T180000
DTEND;TZID=America/Halifax:20190822T210000
DTSTAMP:20260421T230513
CREATED:20190710T152318Z
LAST-MODIFIED:20190802T225744Z
UID:10002008-1566496800-1566507600@wpengine.mountainbizworks.org
SUMMARY:No Pearl Without Grit: A Benefit for Mountain BizWorks
DESCRIPTION:Join Asheville Affiliates and Mountain BizWorks for an evening celebrating Western North Carolina’s entrepreneurs. After 30 years of helping small businesses start\, grow\, and thrive\, it’s time to celebrate! \nEnjoy live music from The Cheeksters\, enter to win some amazing local raffle prizes\, and party with a purpose in the heart of revitalized east-west Asheville. Food and drinks will be available from sponsors like Roots Hummus\, Mellow Mushroom\, The Hop\, Buchi Kombucha\, Devil’s Foot Beverage Company\, and more. \nTickets are $25 in advance and $30 at the door. \nGet yours today for exclusive early bird pricing and raffle ticket bundles!\n \nBuy Tickets
URL:https://wpengine.mountainbizworks.org/event/no-pearl-without-grit-a-benefit-for-mountain-bizworks/
LOCATION:Ambrose West\, 312 Haywood Rd\, Asheville\, NC\, 28806\, United States
CATEGORIES:Class,Mountain BizWorks Event
ATTACH;FMTTYPE=image/jpeg:https://wpengine.mountainbizworks.org/wp-content/uploads/2019/07/A2_MTB_FacebookCover.jpg
END:VEVENT
END:VCALENDAR