BEGIN:VCALENDAR
VERSION:2.0
PRODID:-//Mountain BizWorks - ECPv6.15.20//NONSGML v1.0//EN
CALSCALE:GREGORIAN
METHOD:PUBLISH
X-WR-CALNAME:Mountain BizWorks
X-ORIGINAL-URL:https://wpengine.mountainbizworks.org
X-WR-CALDESC:Events for Mountain BizWorks
REFRESH-INTERVAL;VALUE=DURATION:PT1H
X-Robots-Tag:noindex
X-PUBLISHED-TTL:PT1H
BEGIN:VTIMEZONE
TZID:America/New_York
BEGIN:DAYLIGHT
TZOFFSETFROM:-0500
TZOFFSETTO:-0400
TZNAME:EDT
DTSTART:20210314T070000
END:DAYLIGHT
BEGIN:STANDARD
TZOFFSETFROM:-0400
TZOFFSETTO:-0500
TZNAME:EST
DTSTART:20211107T060000
END:STANDARD
BEGIN:DAYLIGHT
TZOFFSETFROM:-0500
TZOFFSETTO:-0400
TZNAME:EDT
DTSTART:20220313T070000
END:DAYLIGHT
BEGIN:STANDARD
TZOFFSETFROM:-0400
TZOFFSETTO:-0500
TZNAME:EST
DTSTART:20221106T060000
END:STANDARD
BEGIN:DAYLIGHT
TZOFFSETFROM:-0500
TZOFFSETTO:-0400
TZNAME:EDT
DTSTART:20230312T070000
END:DAYLIGHT
BEGIN:STANDARD
TZOFFSETFROM:-0400
TZOFFSETTO:-0500
TZNAME:EST
DTSTART:20231105T060000
END:STANDARD
BEGIN:DAYLIGHT
TZOFFSETFROM:-0500
TZOFFSETTO:-0400
TZNAME:EDT
DTSTART:20240310T070000
END:DAYLIGHT
BEGIN:STANDARD
TZOFFSETFROM:-0400
TZOFFSETTO:-0500
TZNAME:EST
DTSTART:20241103T060000
END:STANDARD
BEGIN:DAYLIGHT
TZOFFSETFROM:-0500
TZOFFSETTO:-0400
TZNAME:EDT
DTSTART:20250309T070000
END:DAYLIGHT
BEGIN:STANDARD
TZOFFSETFROM:-0400
TZOFFSETTO:-0500
TZNAME:EST
DTSTART:20251102T060000
END:STANDARD
BEGIN:DAYLIGHT
TZOFFSETFROM:-0500
TZOFFSETTO:-0400
TZNAME:EDT
DTSTART:20260308T070000
END:DAYLIGHT
BEGIN:STANDARD
TZOFFSETFROM:-0400
TZOFFSETTO:-0500
TZNAME:EST
DTSTART:20261101T060000
END:STANDARD
END:VTIMEZONE
BEGIN:VTIMEZONE
TZID:America/Halifax
BEGIN:DAYLIGHT
TZOFFSETFROM:-0400
TZOFFSETTO:-0300
TZNAME:ADT
DTSTART:20170312T060000
END:DAYLIGHT
BEGIN:STANDARD
TZOFFSETFROM:-0300
TZOFFSETTO:-0400
TZNAME:AST
DTSTART:20171105T050000
END:STANDARD
BEGIN:DAYLIGHT
TZOFFSETFROM:-0400
TZOFFSETTO:-0300
TZNAME:ADT
DTSTART:20180311T060000
END:DAYLIGHT
BEGIN:STANDARD
TZOFFSETFROM:-0300
TZOFFSETTO:-0400
TZNAME:AST
DTSTART:20181104T050000
END:STANDARD
BEGIN:DAYLIGHT
TZOFFSETFROM:-0400
TZOFFSETTO:-0300
TZNAME:ADT
DTSTART:20190310T060000
END:DAYLIGHT
BEGIN:STANDARD
TZOFFSETFROM:-0300
TZOFFSETTO:-0400
TZNAME:AST
DTSTART:20191103T050000
END:STANDARD
END:VTIMEZONE
BEGIN:VEVENT
DTSTART;TZID=America/New_York:20251030T120000
DTEND;TZID=America/New_York:20251030T130000
DTSTAMP:20260425T141004
CREATED:20251025T132558Z
LAST-MODIFIED:20251025T132938Z
UID:10002875-1761825600-1761829200@wpengine.mountainbizworks.org
SUMMARY:Entrepreneurs Assistance Program - Business Formation
DESCRIPTION:Free Legal Support for Small Business Owners  \nThe NC Bar Association is back to offer free legal support to small business owners across WNC through their Entrepreneurs Assistance Program (EAP).  They are looking at doing a series of events.  First up is a free webinar on business formation and entity selection\, with both virtual and in-person attendance options. \nQuestions? Email probono@ncbar.org. \n\n\n\n\n\n\n\n\n\n\n\n\n\n\n\n\n\n\n\n\n\n\n\n\n\n\n 
URL:https://wpengine.mountainbizworks.org/event/entrepeneurs-assistance-program-business-formation/
LOCATION:A-B Tech Small Business Center Enka Campus\, 1465 Sand Hill Road\, Candler\, NC\, 28715\, United States
CATEGORIES:Event,In-Person,Learn,Legal Workshop,Online,Partner Events,Workshop
GEO:35.5445894;-82.6556022
X-APPLE-STRUCTURED-LOCATION;VALUE=URI;X-ADDRESS=A-B Tech Small Business Center Enka Campus 1465 Sand Hill Road Candler NC 28715 United States;X-APPLE-RADIUS=500;X-TITLE=1465 Sand Hill Road:geo:-82.6556022,35.5445894
END:VEVENT
BEGIN:VEVENT
DTSTART;TZID=America/New_York:20231106T160000
DTEND;TZID=America/New_York:20231106T180000
DTSTAMP:20260425T141004
CREATED:20231025T164609Z
LAST-MODIFIED:20231027T182134Z
UID:10002371-1699286400-1699293600@wpengine.mountainbizworks.org
SUMMARY:Community Think Tank Meeting on “Moving Food”
DESCRIPTION:We know that transportation and distribution of farm and food products is a key problem for our region\, and need you to share your experiences and thoughts so that we can identify these issues\, find ways to address them\, and build up a truly thriving local food system. \n  \nSpecial Guests: \nAndrea Duvall – Mother Earth Food \nSandi Kronick and team – Happy Dirt \nKathryn Beattie – Leading Green \nRon Ainspan – Mountain Food Products \nDanielle Hutchison & Steven Beltram – Tend Well Farms
URL:https://wpengine.mountainbizworks.org/event/community-think-tank-meeting-on-local-food-distribution/
LOCATION:A-B Tech Small Business Center Enka Campus\, 1465 Sand Hill Road\, Candler\, NC\, 28715\, United States
CATEGORIES:Appalachian Grown Farm Business Initiative,Class,Course,Event,Growth Initiative,In-Person,Learn,Legal Workshop,Local Food & Farming Initiatives,Workshop
GEO:35.5445894;-82.6556022
X-APPLE-STRUCTURED-LOCATION;VALUE=URI;X-ADDRESS=A-B Tech Small Business Center Enka Campus 1465 Sand Hill Road Candler NC 28715 United States;X-APPLE-RADIUS=500;X-TITLE=1465 Sand Hill Road:geo:-82.6556022,35.5445894
END:VEVENT
BEGIN:VEVENT
DTSTART;TZID=America/New_York:20221008T110000
DTEND;TZID=America/New_York:20221008T150000
DTSTAMP:20260425T141004
CREATED:20220923T154120Z
LAST-MODIFIED:20220923T154928Z
UID:10002291-1665226800-1665241200@wpengine.mountainbizworks.org
SUMMARY:Hispanic Heritage and Entrepreneurship Event
DESCRIPTION:Join us on October 8th from 11 am – 2 pm for a celebration of our state’s Hispanic entrepreneurs and small business owners! Be sure to stop by for some networking\, food\, music\, and information from local business development resources. 
URL:https://wpengine.mountainbizworks.org/event/hispanic-heritage-and-entrepreneurship-event/
LOCATION:A-B Tech Small Business Center Enka Campus\, 1465 Sand Hill Road\, Candler\, NC\, 28715\, United States
CATEGORIES:In-Person,Latinx Entrepreneurship Programming,Learn,Networking,Partner Events,Sponsored Event
GEO:35.5445894;-82.6556022
X-APPLE-STRUCTURED-LOCATION;VALUE=URI;X-ADDRESS=A-B Tech Small Business Center Enka Campus 1465 Sand Hill Road Candler NC 28715 United States;X-APPLE-RADIUS=500;X-TITLE=1465 Sand Hill Road:geo:-82.6556022,35.5445894
END:VEVENT
BEGIN:VEVENT
DTSTART;TZID=America/Halifax:20180911T180000
DTEND;TZID=America/Halifax:20180911T210000
DTSTAMP:20260425T141004
CREATED:20180706T145345Z
LAST-MODIFIED:20180712T225815Z
UID:10001880-1536688800-1536699600@wpengine.mountainbizworks.org
SUMMARY:Planeacion Facil de Negocios  Los Martes  Sept. 11 – Oct. 16\, 2018\, 6:00 pm – 8:30 pm
DESCRIPTION:Mountain BizWorks\, Western Women’s Business Center\, y A-B Tech Small Business Center los invitan a un curso de 6 semanas. Usted aprenderá a elaborar su propio plan de negocios. ¿Qué es un plan de negocios? Un plan de negocios es un documento en donde se describe y explica un negocio que se va a realizar\, así como diferentes aspectos relacionados con éste\, tales como sus objetivos\, las estrategias que se van a utilizar para alcanzar dichos objetivos\, el proceso productivo\, la inversión requerida y la rentabilidad esperada. \nCuando: Los martes sept. 11 – oct. 16\, 2018  6:00 pm – 8:30 pm \nDonde: A-B Tech Small Business Center\, Enka Campus\, Salón 1040
URL:https://wpengine.mountainbizworks.org/event/planeacion-facil-de-negocios-los-martes-sept-11-oct-16-2018-600-pm-830-pm/
LOCATION:A-B Tech Small Business Center Enka Campus\, 1465 Sand Hill Road\, Candler\, NC\, 28715\, United States
CATEGORIES:Class,En Espanol
GEO:35.5445894;-82.6556022
X-APPLE-STRUCTURED-LOCATION;VALUE=URI;X-ADDRESS=A-B Tech Small Business Center Enka Campus 1465 Sand Hill Road Candler NC 28715 United States;X-APPLE-RADIUS=500;X-TITLE=1465 Sand Hill Road:geo:-82.6556022,35.5445894
END:VEVENT
END:VCALENDAR