BEGIN:VCALENDAR
VERSION:2.0
PRODID:-//Mountain BizWorks - ECPv6.15.20//NONSGML v1.0//EN
CALSCALE:GREGORIAN
METHOD:PUBLISH
X-WR-CALNAME:Mountain BizWorks
X-ORIGINAL-URL:https://wpengine.mountainbizworks.org
X-WR-CALDESC:Events for Mountain BizWorks
REFRESH-INTERVAL;VALUE=DURATION:PT1H
X-Robots-Tag:noindex
X-PUBLISHED-TTL:PT1H
BEGIN:VTIMEZONE
TZID:America/New_York
BEGIN:DAYLIGHT
TZOFFSETFROM:-0500
TZOFFSETTO:-0400
TZNAME:EDT
DTSTART:20190310T070000
END:DAYLIGHT
BEGIN:STANDARD
TZOFFSETFROM:-0400
TZOFFSETTO:-0500
TZNAME:EST
DTSTART:20191103T060000
END:STANDARD
BEGIN:DAYLIGHT
TZOFFSETFROM:-0500
TZOFFSETTO:-0400
TZNAME:EDT
DTSTART:20200308T070000
END:DAYLIGHT
BEGIN:STANDARD
TZOFFSETFROM:-0400
TZOFFSETTO:-0500
TZNAME:EST
DTSTART:20201101T060000
END:STANDARD
BEGIN:DAYLIGHT
TZOFFSETFROM:-0500
TZOFFSETTO:-0400
TZNAME:EDT
DTSTART:20210314T070000
END:DAYLIGHT
BEGIN:STANDARD
TZOFFSETFROM:-0400
TZOFFSETTO:-0500
TZNAME:EST
DTSTART:20211107T060000
END:STANDARD
END:VTIMEZONE
BEGIN:VEVENT
DTSTART;TZID=America/New_York:20201023T130000
DTEND;TZID=America/New_York:20201023T140000
DTSTAMP:20260424T090532
CREATED:20201015T134529Z
LAST-MODIFIED:20201015T151231Z
UID:10001877-1603458000-1603461600@wpengine.mountainbizworks.org
SUMMARY:Waypoint Accelerator Virtual Info Session
DESCRIPTION:Interested in learning about the Waypoint Accelerator and possibly applying? If so\, we invite you to join us and other area entrepreneurs at our virtual informational session where we’ll a) provide details on the program and how to prepare a strong application\, b) have an opportunity to hear everyone’s exciting new opportunities\, and c) network with industry peers. Attending this info session is not required to apply but we do encourage it so you’ll have a fuller understanding of the program. \nRegister for this free event here.
URL:https://wpengine.mountainbizworks.org/event/waypoint-accelerator-virtual-info-session/
LOCATION:153 South Lexington Ave\, Asheville\, NC\, 28801\, United States
CATEGORIES:Class,Outdoor Economy,Waypoint Acclerator
END:VEVENT
END:VCALENDAR