BEGIN:VCALENDAR
VERSION:2.0
PRODID:-//Mountain BizWorks - ECPv6.15.20//NONSGML v1.0//EN
CALSCALE:GREGORIAN
METHOD:PUBLISH
X-WR-CALNAME:Mountain BizWorks
X-ORIGINAL-URL:https://wpengine.mountainbizworks.org
X-WR-CALDESC:Events for Mountain BizWorks
REFRESH-INTERVAL;VALUE=DURATION:PT1H
X-Robots-Tag:noindex
X-PUBLISHED-TTL:PT1H
BEGIN:VTIMEZONE
TZID:America/New_York
BEGIN:DAYLIGHT
TZOFFSETFROM:-0500
TZOFFSETTO:-0400
TZNAME:EDT
DTSTART:20190310T070000
END:DAYLIGHT
BEGIN:STANDARD
TZOFFSETFROM:-0400
TZOFFSETTO:-0500
TZNAME:EST
DTSTART:20191103T060000
END:STANDARD
BEGIN:DAYLIGHT
TZOFFSETFROM:-0500
TZOFFSETTO:-0400
TZNAME:EDT
DTSTART:20200308T070000
END:DAYLIGHT
BEGIN:STANDARD
TZOFFSETFROM:-0400
TZOFFSETTO:-0500
TZNAME:EST
DTSTART:20201101T060000
END:STANDARD
BEGIN:DAYLIGHT
TZOFFSETFROM:-0500
TZOFFSETTO:-0400
TZNAME:EDT
DTSTART:20210314T070000
END:DAYLIGHT
BEGIN:STANDARD
TZOFFSETFROM:-0400
TZOFFSETTO:-0500
TZNAME:EST
DTSTART:20211107T060000
END:STANDARD
END:VTIMEZONE
BEGIN:VEVENT
DTSTART;TZID=America/New_York:20201014T100000
DTEND;TZID=America/New_York:20201014T110000
DTSTAMP:20260422T020619
CREATED:20200903T134452Z
LAST-MODIFIED:20200904T201746Z
UID:10002125-1602669600-1602673200@wpengine.mountainbizworks.org
SUMMARY:Intro to QuickBooks Online (Virtual Class)
DESCRIPTION:Introduction to QuickBooks Online is designed for those that have little to no experience with QuickBooks Online in recent years. \nIn one hour\, you will gain an overview of QuickBooks and the different subscription levels\, learn how to navigate the dashboard and \nexplore the reporting feature to generate reports that can be customized to your needs. \nAfter the introductory workshop\, participants can continue to get tailored support on setting up their QuickBooks via Mountain BizWorks’ one-on-one Business Coaching services. \nFacilitator \n \nVeronica Edwards is a Certified Public Accountant\, Chartered Global Management Accountant and QuickBooks Online ProAdvisor. A graduate of UNC Charlotte earning a BS of Science in Accounting as well as earning a MS in Accounting from GA Southern University. Prior to opening Balanced Virtually Veronica was employed with PricewaterhouseCoopers\, Newell Rubbermaid\, and Milwaukee Electric Tool in various roles that provided experience in financial reporting\, forecasting\, budgeting\, and auditing. \nThis is a virtual class that will take place via Zoom. Videoconferencing details will be sent upon registration. Please email millie@mountainbizworks.org with any questions or concerns.
URL:https://wpengine.mountainbizworks.org/event/intro-to-quickbooks-online/
LOCATION:153 South Lexington Ave\, Asheville\, NC\, 28801\, United States
CATEGORIES:Class,Financial Series
END:VEVENT
END:VCALENDAR