BEGIN:VCALENDAR
VERSION:2.0
PRODID:-//Mountain BizWorks - ECPv6.15.20//NONSGML v1.0//EN
CALSCALE:GREGORIAN
METHOD:PUBLISH
X-WR-CALNAME:Mountain BizWorks
X-ORIGINAL-URL:https://wpengine.mountainbizworks.org
X-WR-CALDESC:Events for Mountain BizWorks
REFRESH-INTERVAL;VALUE=DURATION:PT1H
X-Robots-Tag:noindex
X-PUBLISHED-TTL:PT1H
BEGIN:VTIMEZONE
TZID:America/Halifax
BEGIN:DAYLIGHT
TZOFFSETFROM:-0400
TZOFFSETTO:-0300
TZNAME:ADT
DTSTART:20190310T060000
END:DAYLIGHT
BEGIN:STANDARD
TZOFFSETFROM:-0300
TZOFFSETTO:-0400
TZNAME:AST
DTSTART:20191103T050000
END:STANDARD
BEGIN:DAYLIGHT
TZOFFSETFROM:-0400
TZOFFSETTO:-0300
TZNAME:ADT
DTSTART:20200308T060000
END:DAYLIGHT
BEGIN:STANDARD
TZOFFSETFROM:-0300
TZOFFSETTO:-0400
TZNAME:AST
DTSTART:20201101T050000
END:STANDARD
BEGIN:DAYLIGHT
TZOFFSETFROM:-0400
TZOFFSETTO:-0300
TZNAME:ADT
DTSTART:20210314T060000
END:DAYLIGHT
BEGIN:STANDARD
TZOFFSETFROM:-0300
TZOFFSETTO:-0400
TZNAME:AST
DTSTART:20211107T050000
END:STANDARD
END:VTIMEZONE
BEGIN:VEVENT
DTSTART;TZID=America/Halifax:20200903T140000
DTEND;TZID=America/Halifax:20200903T170000
DTSTAMP:20260425T082101
CREATED:20200720T142523Z
LAST-MODIFIED:20200813T161208Z
UID:10002116-1599141600-1599152400@wpengine.mountainbizworks.org
SUMMARY:Invested Course (Virtual): An Investment Crowdfunding Learning Journey
DESCRIPTION:The State of North Carolina recently passed legislation (called NC PACES) making it possible to take on non-accredited investors for your small business. This allows you to raise funds from your friends\, family\, and broader community and to offer them a stake in (and a return on) the success that they are helping you to build. \nInvested: An Investment Crowdfunding Learning Journey will assist a small cohort of interested business owners who are currently experiencing growth opportunities in preparing for\, designing\, and launching an investment crowdfunding campaign. The full course will entail four 3-hour sessions starting Thursday\, September 3rd and running through October 8th. \nThe 5th Cohort of our Invested Course is coming up! The 4-session VIRTUAL COURSE will take place on the following dates:\n\nSession 1 Thursday\, September 3rd\, 2-5pm\nSession 2 Thursday\, September 10th\, 2-5pm\nSession 3 Thursday\, September 17th\, 2-5pm\nSession 4 Thursday\, October 8th\, 2-5pm\n\nIn between classes\, the Invested program includes several one on one technical sessions with facilitators. Following the course\, those that decide to execute investment crowdfunding campaigns will move into launch with the assistance of our BizWorks team and specialist partners.  \nAdd your name to the Cohort 5 Interest Form\, and we will follow up with a brief consultation and informative call on specifications for the course. The course fee is $90 and $45 for additional participants from the same company. We also have an interest list for potential investors (those of us that may want to participate in a local crowdfunding campaign and attend one of the Invested course pitch events) that you can sign up for here. \nGet on the Cohort 5 Interested List!\n\nA big thanks to our partners Jake Farrar (Van Winkle Law Firm)\, Annie Milroy Price (Birds Eye)\, and Jeffrey Scott (Metamorphic) who have assisted in developing and delivering this course.
URL:https://wpengine.mountainbizworks.org/event/invested-course-virtual-an-investment-crowdfunding-learning-journey/
LOCATION:153 South Lexington Ave\, Asheville\, NC\, 28801\, United States
CATEGORIES:Class,Crowdfunding
END:VEVENT
END:VCALENDAR