BEGIN:VCALENDAR
VERSION:2.0
PRODID:-//Mountain BizWorks - ECPv6.15.20//NONSGML v1.0//EN
CALSCALE:GREGORIAN
METHOD:PUBLISH
X-WR-CALNAME:Mountain BizWorks
X-ORIGINAL-URL:https://wpengine.mountainbizworks.org
X-WR-CALDESC:Events for Mountain BizWorks
REFRESH-INTERVAL;VALUE=DURATION:PT1H
X-Robots-Tag:noindex
X-PUBLISHED-TTL:PT1H
BEGIN:VTIMEZONE
TZID:America/Halifax
BEGIN:DAYLIGHT
TZOFFSETFROM:-0400
TZOFFSETTO:-0300
TZNAME:ADT
DTSTART:20200308T060000
END:DAYLIGHT
BEGIN:STANDARD
TZOFFSETFROM:-0300
TZOFFSETTO:-0400
TZNAME:AST
DTSTART:20201101T050000
END:STANDARD
BEGIN:DAYLIGHT
TZOFFSETFROM:-0400
TZOFFSETTO:-0300
TZNAME:ADT
DTSTART:20210314T060000
END:DAYLIGHT
BEGIN:STANDARD
TZOFFSETFROM:-0300
TZOFFSETTO:-0400
TZNAME:AST
DTSTART:20211107T050000
END:STANDARD
BEGIN:DAYLIGHT
TZOFFSETFROM:-0400
TZOFFSETTO:-0300
TZNAME:ADT
DTSTART:20220313T060000
END:DAYLIGHT
BEGIN:STANDARD
TZOFFSETFROM:-0300
TZOFFSETTO:-0400
TZNAME:AST
DTSTART:20221106T050000
END:STANDARD
END:VTIMEZONE
BEGIN:VEVENT
DTSTART;VALUE=DATE:20210926
DTEND;VALUE=DATE:20210927
DTSTAMP:20260422T020639
CREATED:20210818T142258Z
LAST-MODIFIED:20210823T161337Z
UID:10001957-1632614400-1632700799@wpengine.mountainbizworks.org
SUMMARY:Waypoint Accelerator - Application Due Date
DESCRIPTION:  \nMountain BizWorks\, Outdoor Gear Builders of WNC\, and our partners are excited to support the third Waypoint Accelerator cohort. \nPlease note that the 3rd Waypoint Cohort will be conducted semi-virtually\, with some sessions in-person in Asheville\, and others via Zoom. We will continue to closely monitor COVID-19 and will follow CDC\, state & local public guidelines as they evolve. Read more about the most up-to-date CDC guidelines here. \nApplications are due at 11:59pm on September 26th. Continue here for full details and to apply. \nUp to 8 companies will be selected for the second cohort based on a competitive\, merit-based review process. Companies selected for the first cohort will be notified and announced at the Outdoor Economy Conference\, October 12-15\, 2021 \nThe Session Dates and Program Schedule are as follows: \n\nNovember 4\, 1pm-6pm: Base Camp – Course Orientation & Wayfinding (IN-PERSON\, Asheville)\nNovember 11\, 9:30am-12pm: Customer Development & The Outdoor Customer (VIRTUAL)\nNovember 18\, 10:30am-12pm: Go-to-Market Strategy and Tools Pt. 1 (VIRTUAL)\nDecember 2\, 9:30am-12pm: Go-to-Market Strategy and Tools Pt. 2 (VIRTUAL)\nDecember 9\, 9:30am-12pm: Financial Modeling (VIRTUAL)\nJanuary 13\, 1pm-5pm: Base Camp – Group Mastermind (IN-PERSON\, Asheville)\nJanuary 20\, 9:30am-12pm: Customer Engagement & Conversion (VIRTUAL)\nJanuary 27\, 9:30am-12pm: Legal – Intellectual Property\, Risk Management & HR (VIRTUAL)\nFebruary 03\, 9:30am-12pm: Raising Capital for Growth – Pathways & Strategy (VIRTUAL)\nFebruary 17\, 9:30am-12pm: Leadership and the Responsible Outdoor Company (VIRTUAL)\nFebruary 24\, 9:30am-12pm: Art of the Pitch (VIRTUAL)\nMarch 03\, 9:30am-12pm: Design Thinking (VIRTUAL)\nMarch 17\, 1pm-5pm: Group Pitch Practice & Feedback (IN-PERSON/VIRTUAL)\nMarch 24\, 1pm-5pm: Base Camp – Final Pitch Presentations & Waypoint Graduation (IN-PERSON\, Asheville)\n\nAll applicants are asked to hold the above session dates and times on their calendars and\, if accepted\, are expected to commit to the entire duration of the program.
URL:https://wpengine.mountainbizworks.org/event/waypoint-accelerator-application-due-date-2/
LOCATION:NC\, United States
CATEGORIES:Class,Waypoint Acclerator
END:VEVENT
END:VCALENDAR