BEGIN:VCALENDAR
VERSION:2.0
PRODID:-//Mountain BizWorks - ECPv6.15.20//NONSGML v1.0//EN
CALSCALE:GREGORIAN
METHOD:PUBLISH
X-WR-CALNAME:Mountain BizWorks
X-ORIGINAL-URL:https://wpengine.mountainbizworks.org
X-WR-CALDESC:Events for Mountain BizWorks
REFRESH-INTERVAL;VALUE=DURATION:PT1H
X-Robots-Tag:noindex
X-PUBLISHED-TTL:PT1H
BEGIN:VTIMEZONE
TZID:America/Halifax
BEGIN:DAYLIGHT
TZOFFSETFROM:-0400
TZOFFSETTO:-0300
TZNAME:ADT
DTSTART:20190310T060000
END:DAYLIGHT
BEGIN:STANDARD
TZOFFSETFROM:-0300
TZOFFSETTO:-0400
TZNAME:AST
DTSTART:20191103T050000
END:STANDARD
BEGIN:DAYLIGHT
TZOFFSETFROM:-0400
TZOFFSETTO:-0300
TZNAME:ADT
DTSTART:20200308T060000
END:DAYLIGHT
BEGIN:STANDARD
TZOFFSETFROM:-0300
TZOFFSETTO:-0400
TZNAME:AST
DTSTART:20201101T050000
END:STANDARD
BEGIN:DAYLIGHT
TZOFFSETFROM:-0400
TZOFFSETTO:-0300
TZNAME:ADT
DTSTART:20210314T060000
END:DAYLIGHT
BEGIN:STANDARD
TZOFFSETFROM:-0300
TZOFFSETTO:-0400
TZNAME:AST
DTSTART:20211107T050000
END:STANDARD
END:VTIMEZONE
BEGIN:VEVENT
DTSTART;TZID=America/Halifax:20200515T130000
DTEND;TZID=America/Halifax:20200515T143000
DTSTAMP:20260422T034014
CREATED:20200514T133326Z
LAST-MODIFIED:20200518T174218Z
UID:10002106-1589547600-1589553000@wpengine.mountainbizworks.org
SUMMARY:Webinar: Application Walk Through for the Buncombe County Tourism Jobs Recovery Fund
DESCRIPTION:Join us to learn more about the Buncombe County Tourism Jobs Recovery Fund\, a grant program created with the Buncombe County TDA to preserve and safely reopen area small businesses in the tourism industry. In this webinar\, our team will walk through the application form\, go over frequently asked questions\, and share ways that you can get help applying. \nApplications for the Tourism Fund open Friday\, May 15th. Visit www.tourismfund.org to sign up to receive updates and submit your questions. \n  \nThis event has now passed. You can view the recording here. 
URL:https://wpengine.mountainbizworks.org/event/webinar-application-walk-through-for-the-buncombe-county-tourism-jobs-recovery-fund/
LOCATION:153 South Lexington Ave\, Asheville\, NC\, 28801\, United States
CATEGORIES:Class,Coronavirus Response,Tourism Fund
END:VEVENT
END:VCALENDAR