BEGIN:VCALENDAR
VERSION:2.0
PRODID:-//Mountain BizWorks - ECPv6.15.20//NONSGML v1.0//EN
CALSCALE:GREGORIAN
METHOD:PUBLISH
X-WR-CALNAME:Mountain BizWorks
X-ORIGINAL-URL:https://wpengine.mountainbizworks.org
X-WR-CALDESC:Events for Mountain BizWorks
REFRESH-INTERVAL;VALUE=DURATION:PT1H
X-Robots-Tag:noindex
X-PUBLISHED-TTL:PT1H
BEGIN:VTIMEZONE
TZID:America/Halifax
BEGIN:DAYLIGHT
TZOFFSETFROM:-0400
TZOFFSETTO:-0300
TZNAME:ADT
DTSTART:20190310T060000
END:DAYLIGHT
BEGIN:STANDARD
TZOFFSETFROM:-0300
TZOFFSETTO:-0400
TZNAME:AST
DTSTART:20191103T050000
END:STANDARD
BEGIN:DAYLIGHT
TZOFFSETFROM:-0400
TZOFFSETTO:-0300
TZNAME:ADT
DTSTART:20200308T060000
END:DAYLIGHT
BEGIN:STANDARD
TZOFFSETFROM:-0300
TZOFFSETTO:-0400
TZNAME:AST
DTSTART:20201101T050000
END:STANDARD
BEGIN:DAYLIGHT
TZOFFSETFROM:-0400
TZOFFSETTO:-0300
TZNAME:ADT
DTSTART:20210314T060000
END:DAYLIGHT
BEGIN:STANDARD
TZOFFSETFROM:-0300
TZOFFSETTO:-0400
TZNAME:AST
DTSTART:20211107T050000
END:STANDARD
END:VTIMEZONE
BEGIN:VEVENT
DTSTART;TZID=America/Halifax:20200430T093000
DTEND;TZID=America/Halifax:20200430T110000
DTSTAMP:20260422T185052
CREATED:20200430T000116Z
LAST-MODIFIED:20200504T213423Z
UID:10002096-1588239000-1588244400@wpengine.mountainbizworks.org
SUMMARY:3 Choices in the Storm: Webinar hosted by Mountain BizWorks & WNC Score
DESCRIPTION:The current storm of the COVID-19 virus and the economic repercussions have made managing small organizations very difficult. But they do have choices. Wait\, Pivot\, or Stop. We will discuss each choice in this online webinar taught by Angela Owen with Truventure Enterprises and Michael Ames with Mountain BizWorks. \n  \nREGISTER HERE»\n\n  \n \n 
URL:https://wpengine.mountainbizworks.org/event/3-choices-in-the-storm-webinar-hosted-by-mountain-bizworks-wnc-score/
LOCATION:NC\, United States
CATEGORIES:Class,Coronavirus Response,Partner Events
ORGANIZER;CN="WNC Score":MAILTO:thomas.sweeny@scorevolunteer.org
END:VEVENT
END:VCALENDAR