BEGIN:VCALENDAR
VERSION:2.0
PRODID:-//Mountain BizWorks - ECPv6.15.20//NONSGML v1.0//EN
CALSCALE:GREGORIAN
METHOD:PUBLISH
X-WR-CALNAME:Mountain BizWorks
X-ORIGINAL-URL:https://wpengine.mountainbizworks.org
X-WR-CALDESC:Events for Mountain BizWorks
REFRESH-INTERVAL;VALUE=DURATION:PT1H
X-Robots-Tag:noindex
X-PUBLISHED-TTL:PT1H
BEGIN:VTIMEZONE
TZID:America/Halifax
BEGIN:DAYLIGHT
TZOFFSETFROM:-0400
TZOFFSETTO:-0300
TZNAME:ADT
DTSTART:20190310T060000
END:DAYLIGHT
BEGIN:STANDARD
TZOFFSETFROM:-0300
TZOFFSETTO:-0400
TZNAME:AST
DTSTART:20191103T050000
END:STANDARD
BEGIN:DAYLIGHT
TZOFFSETFROM:-0400
TZOFFSETTO:-0300
TZNAME:ADT
DTSTART:20200308T060000
END:DAYLIGHT
BEGIN:STANDARD
TZOFFSETFROM:-0300
TZOFFSETTO:-0400
TZNAME:AST
DTSTART:20201101T050000
END:STANDARD
BEGIN:DAYLIGHT
TZOFFSETFROM:-0400
TZOFFSETTO:-0300
TZNAME:ADT
DTSTART:20210314T060000
END:DAYLIGHT
BEGIN:STANDARD
TZOFFSETFROM:-0300
TZOFFSETTO:-0400
TZNAME:AST
DTSTART:20211107T050000
END:STANDARD
END:VTIMEZONE
BEGIN:VEVENT
DTSTART;TZID=America/Halifax:20200414T090000
DTEND;TZID=America/Halifax:20200414T120000
DTSTAMP:20260425T155026
CREATED:20200409T220523Z
LAST-MODIFIED:20200409T220549Z
UID:10002084-1586854800-1586865600@wpengine.mountainbizworks.org
SUMMARY:JB Media Online Bootcamp: New Social Media Strategies to Increase Engagement
DESCRIPTION:Even during social distancing\, your customers need you now more than ever!\n \n\nLearn how to streamline and automate customer service online while infusing smart marketing into your social media messaging. Join JB Media Institute’s lead instructor and co-founder Sarah Benoit and Relationship Marketing Specialist Daniel Rock on Tuesday\, April 14 from 9am – 12pm for their ONLINE bootcamp: “New Social Media Strategies to Increase Engagement.” \nDuring this event hosted via Zoom\, they’ll explain how personalization strategies and new social media tools like messaging apps and chatbots can increase loyalty and engagement with your customers. \nSessions include: \n\nSession 1 : Social Media Personalization Strategies – Increased social media engagement is a goal every business and organization wants to achieve\, but making it happen can feel frustrating and complicated. Learn how personalization strategies can build more customer loyalty\, engagement\, and conversions. Find out how using messaging apps and chatbots can give your brand an edge and lead to more interactions\, leads\, and sales.\nSession 2 : Third Party Messaging Apps – Facebook Messenger is offering chatbot technology that is easy to use and available to most brands and businesses. Find out how a third party tool called Mobile Monkey can help you create organic responses and advertising opportunities that engage people in a more personal way and convert them into customers more frequently.\n\nTickets are $49\, and space is limited. A Zoom link will be emailed to all registrants the day before the webinar. \n\nPlease contact millie@mountainbizworks.org if you are interested in applying for a scholarship for this event.
URL:https://wpengine.mountainbizworks.org/event/jb-media-online-bootcamp-new-social-media-strategies-to-increase-engagement/
LOCATION:NC\, United States
CATEGORIES:Class,Coronavirus Response,Partner Events
END:VEVENT
END:VCALENDAR