BEGIN:VCALENDAR
VERSION:2.0
PRODID:-//Mountain BizWorks - ECPv6.15.20//NONSGML v1.0//EN
CALSCALE:GREGORIAN
METHOD:PUBLISH
X-WR-CALNAME:Mountain BizWorks
X-ORIGINAL-URL:https://wpengine.mountainbizworks.org
X-WR-CALDESC:Events for Mountain BizWorks
REFRESH-INTERVAL;VALUE=DURATION:PT1H
X-Robots-Tag:noindex
X-PUBLISHED-TTL:PT1H
BEGIN:VTIMEZONE
TZID:America/Halifax
BEGIN:DAYLIGHT
TZOFFSETFROM:-0400
TZOFFSETTO:-0300
TZNAME:ADT
DTSTART:20190310T060000
END:DAYLIGHT
BEGIN:STANDARD
TZOFFSETFROM:-0300
TZOFFSETTO:-0400
TZNAME:AST
DTSTART:20191103T050000
END:STANDARD
BEGIN:DAYLIGHT
TZOFFSETFROM:-0400
TZOFFSETTO:-0300
TZNAME:ADT
DTSTART:20200308T060000
END:DAYLIGHT
BEGIN:STANDARD
TZOFFSETFROM:-0300
TZOFFSETTO:-0400
TZNAME:AST
DTSTART:20201101T050000
END:STANDARD
BEGIN:DAYLIGHT
TZOFFSETFROM:-0400
TZOFFSETTO:-0300
TZNAME:ADT
DTSTART:20210314T060000
END:DAYLIGHT
BEGIN:STANDARD
TZOFFSETFROM:-0300
TZOFFSETTO:-0400
TZNAME:AST
DTSTART:20211107T050000
END:STANDARD
END:VTIMEZONE
BEGIN:VEVENT
DTSTART;TZID=America/Halifax:20200410T110000
DTEND;TZID=America/Halifax:20200410T120000
DTSTAMP:20260424T143138
CREATED:20200409T193544Z
LAST-MODIFIED:20200413T175839Z
UID:10002082-1586516400-1586520000@wpengine.mountainbizworks.org
SUMMARY:Webinar: How To Navigate the PPP Loan Application Process
DESCRIPTION:Need Help? Got Questions? During this one-hour\, free and interactive webinar\, a group of business coaches from Mountain BizWorks will provide an overview of the Paycheck Protection Program (PPP) and show you how to navigate the PPP Loan Application process by going through the application form line by line and then answer any other outstanding questions you may have.  \nPlease sign up below\, space is limited! \n  \nThis event has already passed.
URL:https://wpengine.mountainbizworks.org/event/webinar-how-to-navigate-the-ppp-loan-application-process/
LOCATION:NC\, United States
END:VEVENT
END:VCALENDAR