BEGIN:VCALENDAR
VERSION:2.0
PRODID:-//Mountain BizWorks - ECPv6.15.20//NONSGML v1.0//EN
CALSCALE:GREGORIAN
METHOD:PUBLISH
X-WR-CALNAME:Mountain BizWorks
X-ORIGINAL-URL:https://wpengine.mountainbizworks.org
X-WR-CALDESC:Events for Mountain BizWorks
REFRESH-INTERVAL;VALUE=DURATION:PT1H
X-Robots-Tag:noindex
X-PUBLISHED-TTL:PT1H
BEGIN:VTIMEZONE
TZID:America/Halifax
BEGIN:DAYLIGHT
TZOFFSETFROM:-0400
TZOFFSETTO:-0300
TZNAME:ADT
DTSTART:20190310T060000
END:DAYLIGHT
BEGIN:STANDARD
TZOFFSETFROM:-0300
TZOFFSETTO:-0400
TZNAME:AST
DTSTART:20191103T050000
END:STANDARD
BEGIN:DAYLIGHT
TZOFFSETFROM:-0400
TZOFFSETTO:-0300
TZNAME:ADT
DTSTART:20200308T060000
END:DAYLIGHT
BEGIN:STANDARD
TZOFFSETFROM:-0300
TZOFFSETTO:-0400
TZNAME:AST
DTSTART:20201101T050000
END:STANDARD
BEGIN:DAYLIGHT
TZOFFSETFROM:-0400
TZOFFSETTO:-0300
TZNAME:ADT
DTSTART:20210314T060000
END:DAYLIGHT
BEGIN:STANDARD
TZOFFSETFROM:-0300
TZOFFSETTO:-0400
TZNAME:AST
DTSTART:20211107T050000
END:STANDARD
END:VTIMEZONE
BEGIN:VEVENT
DTSTART;TZID=America/Halifax:20200403T140000
DTEND;TZID=America/Halifax:20200403T150000
DTSTAMP:20260422T133404
CREATED:20200401T205919Z
LAST-MODIFIED:20200402T214707Z
UID:10001834-1585922400-1585926000@wpengine.mountainbizworks.org
SUMMARY:Navigating COVID-19 Financial Resources for Small Business (MBW Loan Clients Only)
DESCRIPTION:A webinar exclusive for active Mountain BizWorks loan clients who need more guidance around CARES\, PPP\, EIDL Grants\, NC Rapid Recovery Loans\, One Buncombe Fund\, and more. \nJoin us for the second part of this interactive webinar (check out the video recording and slide deck from the first part) to learn more about several new financial resources available from Federal\, State and local sources such as Mountain BizWorks to help Small Businesses get through these difficult and unprecedented times. \nOur dedicated team of lenders and business coaches will focus on answering your questions during this hour-long session. \n \nMike Ames supports clients with their business model\, strategy & performance optimization – by working with what you have\, filling in the gaps\, proactively & creatively exploring what could be. Mike has 35 years in management and the last 15 years working in various startup companies and communities. His 10 years at The Coca-Cola Co.\, and Michigan MBA ‘92 position him to be a great guide to map out your entrepreneurial journey. \nContinue to the Webinar Registration Form »
URL:https://wpengine.mountainbizworks.org/event/covid-19-financial-resources-for-small-business/
LOCATION:NC\, United States
END:VEVENT
END:VCALENDAR