BEGIN:VCALENDAR
VERSION:2.0
PRODID:-//Mountain BizWorks - ECPv6.15.20//NONSGML v1.0//EN
CALSCALE:GREGORIAN
METHOD:PUBLISH
X-WR-CALNAME:Mountain BizWorks
X-ORIGINAL-URL:https://wpengine.mountainbizworks.org
X-WR-CALDESC:Events for Mountain BizWorks
REFRESH-INTERVAL;VALUE=DURATION:PT1H
X-Robots-Tag:noindex
X-PUBLISHED-TTL:PT1H
BEGIN:VTIMEZONE
TZID:America/Halifax
BEGIN:DAYLIGHT
TZOFFSETFROM:-0400
TZOFFSETTO:-0300
TZNAME:ADT
DTSTART:20190310T060000
END:DAYLIGHT
BEGIN:STANDARD
TZOFFSETFROM:-0300
TZOFFSETTO:-0400
TZNAME:AST
DTSTART:20191103T050000
END:STANDARD
BEGIN:DAYLIGHT
TZOFFSETFROM:-0400
TZOFFSETTO:-0300
TZNAME:ADT
DTSTART:20200308T060000
END:DAYLIGHT
BEGIN:STANDARD
TZOFFSETFROM:-0300
TZOFFSETTO:-0400
TZNAME:AST
DTSTART:20201101T050000
END:STANDARD
BEGIN:DAYLIGHT
TZOFFSETFROM:-0400
TZOFFSETTO:-0300
TZNAME:ADT
DTSTART:20210314T060000
END:DAYLIGHT
BEGIN:STANDARD
TZOFFSETFROM:-0300
TZOFFSETTO:-0400
TZNAME:AST
DTSTART:20211107T050000
END:STANDARD
END:VTIMEZONE
BEGIN:VEVENT
DTSTART;TZID=America/Halifax:20200227T140000
DTEND;TZID=America/Halifax:20200227T170000
DTSTAMP:20260425T182154
CREATED:20191126T174802Z
LAST-MODIFIED:20200107T235849Z
UID:10002029-1582812000-1582822800@wpengine.mountainbizworks.org
SUMMARY:Invested Course: An Investment Crowdfunding Learning Journey
DESCRIPTION:The State of North Carolina recently passed legislation (called NC PACES) making it possible to take on non-accredited investors for your small business. This allows you to raise funds from your friends\, family\, and broader community and to offer them a stake in (and a return on) the success that they are helping you to build. \nInvested: An Investment Crowdfunding Learning Journey will assist a small cohort of interested business owners who are currently experiencing growth opportunities in preparing for\, designing\, and launching an investment crowdfunding campaign. The full course will entail four 3-hour sessions starting Thursday\, February 27th and running through April 9th (meeting every other week on Thursdays). The course will conclude with an investment crowdfunding pitch event and celebration. \nSession Dates: \n\nSession 1 Thursday\, February 27th\, 2-5pm\nSession 2 Thursday\, March 12\, 2-5pm\nSession 3 Thursday\, March 26th\, 2-5pm\nSession 4 Thursday\, April 9th\, 2-5pm\n\nCost: $45 per participant for the entire 4-session course. \nTo begin the Registration process: Please add your name to the Cohort 4 Interested List. \nWe also have an interest list for potential investors (those of us that may want to participate in a local crowdfunding campaign and attend one of the Invested course pitch events) that you can sign up for here. \nA big thanks to our partners Jake Farrar (Van Winkle Law Firm)\, Annie Milroy Price (Birds Eye)\, and Jeffrey Scott (Metamorphic) who have assisted in developing and delivering this new course. \nGet on the Cohort 4 Interested List!\n\n 
URL:https://wpengine.mountainbizworks.org/event/invested-course-an-investment-crowdfunding-learning-journey-2020/
LOCATION:153 South Lexington Ave\, Asheville\, NC\, 28801\, United States
CATEGORIES:Class,Crowdfunding
END:VEVENT
END:VCALENDAR