BEGIN:VCALENDAR
VERSION:2.0
PRODID:-//Mountain BizWorks - ECPv6.15.20//NONSGML v1.0//EN
CALSCALE:GREGORIAN
METHOD:PUBLISH
X-WR-CALNAME:Mountain BizWorks
X-ORIGINAL-URL:https://wpengine.mountainbizworks.org
X-WR-CALDESC:Events for Mountain BizWorks
REFRESH-INTERVAL;VALUE=DURATION:PT1H
X-Robots-Tag:noindex
X-PUBLISHED-TTL:PT1H
BEGIN:VTIMEZONE
TZID:America/New_York
BEGIN:DAYLIGHT
TZOFFSETFROM:-0500
TZOFFSETTO:-0400
TZNAME:EDT
DTSTART:20200308T070000
END:DAYLIGHT
BEGIN:STANDARD
TZOFFSETFROM:-0400
TZOFFSETTO:-0500
TZNAME:EST
DTSTART:20201101T060000
END:STANDARD
BEGIN:DAYLIGHT
TZOFFSETFROM:-0500
TZOFFSETTO:-0400
TZNAME:EDT
DTSTART:20210314T070000
END:DAYLIGHT
BEGIN:STANDARD
TZOFFSETFROM:-0400
TZOFFSETTO:-0500
TZNAME:EST
DTSTART:20211107T060000
END:STANDARD
BEGIN:DAYLIGHT
TZOFFSETFROM:-0500
TZOFFSETTO:-0400
TZNAME:EDT
DTSTART:20220313T070000
END:DAYLIGHT
BEGIN:STANDARD
TZOFFSETFROM:-0400
TZOFFSETTO:-0500
TZNAME:EST
DTSTART:20221106T060000
END:STANDARD
END:VTIMEZONE
BEGIN:VEVENT
DTSTART;TZID=America/New_York:20210122T100000
DTEND;TZID=America/New_York:20210122T110000
DTSTAMP:20260424T114755
CREATED:20201109T193932Z
LAST-MODIFIED:20201230T192859Z
UID:10002139-1611309600-1611313200@wpengine.mountainbizworks.org
SUMMARY:Orientation Session
DESCRIPTION:Join us for an online\, interactive information session to discover what resources are available at Mountain BizWorks that will help you start\, grow\, and thrive in your business. Hosted by our Learning Services Associate\, Millie Smith\, this session is a great opportunity to learn more about Mountain BizWorks’ small business lending and learning programs. 
URL:https://wpengine.mountainbizworks.org/event/mbw-orientation-virtual-7/
LOCATION:153 South Lexington Ave\, Asheville\, NC\, 28801\, United States
CATEGORIES:Class,Orientation Session
END:VEVENT
END:VCALENDAR