BEGIN:VCALENDAR
VERSION:2.0
PRODID:-//Mountain BizWorks - ECPv6.15.20//NONSGML v1.0//EN
CALSCALE:GREGORIAN
METHOD:PUBLISH
X-WR-CALNAME:Mountain BizWorks
X-ORIGINAL-URL:https://wpengine.mountainbizworks.org
X-WR-CALDESC:Events for Mountain BizWorks
REFRESH-INTERVAL;VALUE=DURATION:PT1H
X-Robots-Tag:noindex
X-PUBLISHED-TTL:PT1H
BEGIN:VTIMEZONE
TZID:America/Halifax
BEGIN:DAYLIGHT
TZOFFSETFROM:-0400
TZOFFSETTO:-0300
TZNAME:ADT
DTSTART:20180311T060000
END:DAYLIGHT
BEGIN:STANDARD
TZOFFSETFROM:-0300
TZOFFSETTO:-0400
TZNAME:AST
DTSTART:20181104T050000
END:STANDARD
BEGIN:DAYLIGHT
TZOFFSETFROM:-0400
TZOFFSETTO:-0300
TZNAME:ADT
DTSTART:20190310T060000
END:DAYLIGHT
BEGIN:STANDARD
TZOFFSETFROM:-0300
TZOFFSETTO:-0400
TZNAME:AST
DTSTART:20191103T050000
END:STANDARD
BEGIN:DAYLIGHT
TZOFFSETFROM:-0400
TZOFFSETTO:-0300
TZNAME:ADT
DTSTART:20200308T060000
END:DAYLIGHT
BEGIN:STANDARD
TZOFFSETFROM:-0300
TZOFFSETTO:-0400
TZNAME:AST
DTSTART:20201101T050000
END:STANDARD
END:VTIMEZONE
BEGIN:VEVENT
DTSTART;TZID=America/Halifax:20190116T140000
DTEND;TZID=America/Halifax:20190116T150000
DTSTAMP:20260424T052540
CREATED:20181113T131400Z
LAST-MODIFIED:20190116T174926Z
UID:10001729-1547647200-1547650800@wpengine.mountainbizworks.org
SUMMARY:ScaleUp WNC Info Session (Webinar)
DESCRIPTION:Are you a founder or manager of a WNC small business with strong growth potential?\nIf so\, we invite you to join us for a live informational webinar to learn more about the 2019 ScaleUp WNC program. On this webinar\, you’ll get an overview of the program details and benefits\, will have a chance to hear from some of our program facilitators\, and can ask any burning questions you may have. You are not required to attend an info session to apply but we do encourage it as it provides an opportunity to introduce your company\, get some tips on the application process\, and to ensure the program is a good fit. \nPlease RSVP using the form below. \nYou can also find our more about the ScaleUp WNC program here. \nAnd here are the instructions to connect to the webinar: \nRECOMMENDED: To join the webinar on a computer or mobile phone: https://bluejeans.com/904076231 \nOr Dial in by phone: +1.408.317.9253\nMeeting ID: 904 076 231
URL:https://wpengine.mountainbizworks.org/event/scaleup-wnc-info-session-webinar/
LOCATION:NC\, United States
CATEGORIES:Class,Orientation Session,ScaleUp
END:VEVENT
END:VCALENDAR