BEGIN:VCALENDAR
VERSION:2.0
PRODID:-//Mountain BizWorks - ECPv6.15.20//NONSGML v1.0//EN
CALSCALE:GREGORIAN
METHOD:PUBLISH
X-WR-CALNAME:Mountain BizWorks
X-ORIGINAL-URL:https://wpengine.mountainbizworks.org
X-WR-CALDESC:Events for Mountain BizWorks
REFRESH-INTERVAL;VALUE=DURATION:PT1H
X-Robots-Tag:noindex
X-PUBLISHED-TTL:PT1H
BEGIN:VTIMEZONE
TZID:America/Halifax
BEGIN:DAYLIGHT
TZOFFSETFROM:-0400
TZOFFSETTO:-0300
TZNAME:ADT
DTSTART:20170312T060000
END:DAYLIGHT
BEGIN:STANDARD
TZOFFSETFROM:-0300
TZOFFSETTO:-0400
TZNAME:AST
DTSTART:20171105T050000
END:STANDARD
BEGIN:DAYLIGHT
TZOFFSETFROM:-0400
TZOFFSETTO:-0300
TZNAME:ADT
DTSTART:20180311T060000
END:DAYLIGHT
BEGIN:STANDARD
TZOFFSETFROM:-0300
TZOFFSETTO:-0400
TZNAME:AST
DTSTART:20181104T050000
END:STANDARD
BEGIN:DAYLIGHT
TZOFFSETFROM:-0400
TZOFFSETTO:-0300
TZNAME:ADT
DTSTART:20190310T060000
END:DAYLIGHT
BEGIN:STANDARD
TZOFFSETFROM:-0300
TZOFFSETTO:-0400
TZNAME:AST
DTSTART:20191103T050000
END:STANDARD
END:VTIMEZONE
BEGIN:VEVENT
DTSTART;VALUE=DATE:20181005
DTEND;VALUE=DATE:20181006
DTSTAMP:20260423T041600
CREATED:20180727T194034Z
LAST-MODIFIED:20180727T194034Z
UID:10001706-1538697600-1538783999@wpengine.mountainbizworks.org
SUMMARY:Outdoor Economy Conference
DESCRIPTION:Mountain BizWorks is a sponsor of this event. \nWCU’s inaugural Outdoor Economy Conference is this region’s premier outdoor industry and networking event to support businesses and entrepreneurs in WNC. If you manage a business or are just starting out\, plan on attending to hear from leaders in Western NC’s outdoor industry\, engage in panel discussions\, and explore the latest trends in the industry. Don’t miss out! This is a great opportunity to collaborate\, network\, and promote your ideas\, resources\, and services. \nLearn more and register at: outdoor.wcu.edu
URL:https://wpengine.mountainbizworks.org/event/outdoor-economy-conference/
LOCATION:Western Carolina University\, NC\, United States
CATEGORIES:Class,Partner Events
GEO:35.7595731;-79.0192997
END:VEVENT
END:VCALENDAR