BEGIN:VCALENDAR
VERSION:2.0
PRODID:-//Mountain BizWorks - ECPv6.15.20//NONSGML v1.0//EN
CALSCALE:GREGORIAN
METHOD:PUBLISH
X-WR-CALNAME:Mountain BizWorks
X-ORIGINAL-URL:https://wpengine.mountainbizworks.org
X-WR-CALDESC:Events for Mountain BizWorks
REFRESH-INTERVAL;VALUE=DURATION:PT1H
X-Robots-Tag:noindex
X-PUBLISHED-TTL:PT1H
BEGIN:VTIMEZONE
TZID:America/New_York
BEGIN:DAYLIGHT
TZOFFSETFROM:-0500
TZOFFSETTO:-0400
TZNAME:EDT
DTSTART:20200308T070000
END:DAYLIGHT
BEGIN:STANDARD
TZOFFSETFROM:-0400
TZOFFSETTO:-0500
TZNAME:EST
DTSTART:20201101T060000
END:STANDARD
BEGIN:DAYLIGHT
TZOFFSETFROM:-0500
TZOFFSETTO:-0400
TZNAME:EDT
DTSTART:20210314T070000
END:DAYLIGHT
BEGIN:STANDARD
TZOFFSETFROM:-0400
TZOFFSETTO:-0500
TZNAME:EST
DTSTART:20211107T060000
END:STANDARD
BEGIN:DAYLIGHT
TZOFFSETFROM:-0500
TZOFFSETTO:-0400
TZNAME:EDT
DTSTART:20220313T070000
END:DAYLIGHT
BEGIN:STANDARD
TZOFFSETFROM:-0400
TZOFFSETTO:-0500
TZNAME:EST
DTSTART:20221106T060000
END:STANDARD
END:VTIMEZONE
BEGIN:VEVENT
DTSTART;TZID=America/New_York:20210119T140000
DTEND;TZID=America/New_York:20210119T150000
DTSTAMP:20260422T035135
CREATED:20210114T192605Z
LAST-MODIFIED:20210114T192632Z
UID:10001917-1611064800-1611068400@wpengine.mountainbizworks.org
SUMMARY:US Chamber of Commerce: Small Business Update
DESCRIPTION:More relief is on the way for small businesses across the country\, now that the President has signed the latest coronavirus relief deal into law. Join U.S. Chamber Executive Vice President and Chief Policy Officer\, Neil Bradley\, and CO— Content Director\, Jeanette Mulvey\, Tuesday\, January 19 at 2:00 pm ET as they discuss the aid that’s now available and what small businesses need to know.
URL:https://wpengine.mountainbizworks.org/event/us-chamber-of-commerce-small-business-update/
LOCATION:153 South Lexington Ave\, Asheville\, 28801\, United States
CATEGORIES:Coronavirus Response,PPP
END:VEVENT
END:VCALENDAR