BEGIN:VCALENDAR
VERSION:2.0
PRODID:-//Mountain BizWorks - ECPv6.15.20//NONSGML v1.0//EN
CALSCALE:GREGORIAN
METHOD:PUBLISH
X-WR-CALNAME:Mountain BizWorks
X-ORIGINAL-URL:https://wpengine.mountainbizworks.org
X-WR-CALDESC:Events for Mountain BizWorks
REFRESH-INTERVAL;VALUE=DURATION:PT1H
X-Robots-Tag:noindex
X-PUBLISHED-TTL:PT1H
BEGIN:VTIMEZONE
TZID:America/New_York
BEGIN:DAYLIGHT
TZOFFSETFROM:-0500
TZOFFSETTO:-0400
TZNAME:EDT
DTSTART:20200308T070000
END:DAYLIGHT
BEGIN:STANDARD
TZOFFSETFROM:-0400
TZOFFSETTO:-0500
TZNAME:EST
DTSTART:20201101T060000
END:STANDARD
BEGIN:DAYLIGHT
TZOFFSETFROM:-0500
TZOFFSETTO:-0400
TZNAME:EDT
DTSTART:20210314T070000
END:DAYLIGHT
BEGIN:STANDARD
TZOFFSETFROM:-0400
TZOFFSETTO:-0500
TZNAME:EST
DTSTART:20211107T060000
END:STANDARD
BEGIN:DAYLIGHT
TZOFFSETFROM:-0500
TZOFFSETTO:-0400
TZNAME:EDT
DTSTART:20220313T070000
END:DAYLIGHT
BEGIN:STANDARD
TZOFFSETFROM:-0400
TZOFFSETTO:-0500
TZNAME:EST
DTSTART:20221106T060000
END:STANDARD
END:VTIMEZONE
BEGIN:VEVENT
DTSTART;TZID=America/New_York:20210114T150000
DTEND;TZID=America/New_York:20210114T160000
DTSTAMP:20260422T033856
CREATED:20210112T211104Z
LAST-MODIFIED:20210112T211104Z
UID:10001911-1610636400-1610640000@wpengine.mountainbizworks.org
SUMMARY:Shuttered Venue Operators Grant Webinar
DESCRIPTION:Do you own a live venue\, performing arts organization\, movie house or cultural institution?  You might be eligible for the Shuttered Venue Operators Grant program.  Join us this Thursday\, January 14th at 3 PM ET to learn how to apply. \nThe Shuttered Venue Operators Grant program was included in the Economic Aid to Hard-Hit Small Businesses\, Nonprofits\, and Venues Act. Eligible organizations with a reduction in revenue due to the COVID-19 pandemic will have the opportunity to receive up to a $10 million grant under the program. In total\, the Economic Aid Act allocates $15 billion for the Shuttered Venue Operators Grants. This webinar will provide introductory information about the grants\, who can apply\, how potential organizations can prepare\, and other details about eligibility and applications. This will be recorded.
URL:https://wpengine.mountainbizworks.org/event/shuttered-venue-operators-grant-webinar/
LOCATION:153 South Lexington Ave\, Asheville\, 28801\, United States
CATEGORIES:Coronavirus Response,PPP
ATTACH;FMTTYPE=image/jpeg:https://wpengine.mountainbizworks.org/wp-content/uploads/2021/01/ErjD140WMAIJMPR.jpeg
END:VEVENT
END:VCALENDAR