BEGIN:VCALENDAR
VERSION:2.0
PRODID:-//Mountain BizWorks - ECPv6.15.20//NONSGML v1.0//EN
CALSCALE:GREGORIAN
METHOD:PUBLISH
X-WR-CALNAME:Mountain BizWorks
X-ORIGINAL-URL:https://wpengine.mountainbizworks.org
X-WR-CALDESC:Events for Mountain BizWorks
REFRESH-INTERVAL;VALUE=DURATION:PT1H
X-Robots-Tag:noindex
X-PUBLISHED-TTL:PT1H
BEGIN:VTIMEZONE
TZID:America/Halifax
BEGIN:DAYLIGHT
TZOFFSETFROM:-0400
TZOFFSETTO:-0300
TZNAME:ADT
DTSTART:20180311T060000
END:DAYLIGHT
BEGIN:STANDARD
TZOFFSETFROM:-0300
TZOFFSETTO:-0400
TZNAME:AST
DTSTART:20181104T050000
END:STANDARD
BEGIN:DAYLIGHT
TZOFFSETFROM:-0400
TZOFFSETTO:-0300
TZNAME:ADT
DTSTART:20190310T060000
END:DAYLIGHT
BEGIN:STANDARD
TZOFFSETFROM:-0300
TZOFFSETTO:-0400
TZNAME:AST
DTSTART:20191103T050000
END:STANDARD
BEGIN:DAYLIGHT
TZOFFSETFROM:-0400
TZOFFSETTO:-0300
TZNAME:ADT
DTSTART:20200308T060000
END:DAYLIGHT
BEGIN:STANDARD
TZOFFSETFROM:-0300
TZOFFSETTO:-0400
TZNAME:AST
DTSTART:20201101T050000
END:STANDARD
END:VTIMEZONE
BEGIN:VEVENT
DTSTART;TZID=America/Halifax:20190116T090000
DTEND;TZID=America/Halifax:20190116T100000
DTSTAMP:20260421T224710
CREATED:20190103T200650Z
LAST-MODIFIED:20190103T200650Z
UID:10001933-1547629200-1547632800@wpengine.mountainbizworks.org
SUMMARY:ScaleUp WNC at 1 Million Cups
DESCRIPTION:Come have coffee and hear from an esteemed panel of ScaleUp alumni and get details on the 2019 ScaleUp program\nWe’re so thrilled to be on the 1 Million Cups program for Wednesday January 16 (9-10am at the Asheville Social Hall). Several ScaleUp alum will be sharing their experiences with managing significant growth. And\, we’ll be sharing the latest details on the 2019 ScaleUp WNC program and how to apply before January 27. \nDetails on this event are available on the 1MC site here. \nYou can also find our more about the ScaleUp WNC program here.
URL:https://wpengine.mountainbizworks.org/event/scaleup-wnc-at-1-million-cups/
LOCATION:Asheville Social Hall\, 81 Broadway St.\, Asheville\, NC\, 28801\, United States
CATEGORIES:Class,ScaleUp
END:VEVENT
END:VCALENDAR