BEGIN:VCALENDAR
VERSION:2.0
PRODID:-//Mountain BizWorks - ECPv6.15.20//NONSGML v1.0//EN
CALSCALE:GREGORIAN
METHOD:PUBLISH
X-WR-CALNAME:Mountain BizWorks
X-ORIGINAL-URL:https://wpengine.mountainbizworks.org
X-WR-CALDESC:Events for Mountain BizWorks
REFRESH-INTERVAL;VALUE=DURATION:PT1H
X-Robots-Tag:noindex
X-PUBLISHED-TTL:PT1H
BEGIN:VTIMEZONE
TZID:America/Halifax
BEGIN:DAYLIGHT
TZOFFSETFROM:-0400
TZOFFSETTO:-0300
TZNAME:ADT
DTSTART:20190310T060000
END:DAYLIGHT
BEGIN:STANDARD
TZOFFSETFROM:-0300
TZOFFSETTO:-0400
TZNAME:AST
DTSTART:20191103T050000
END:STANDARD
BEGIN:DAYLIGHT
TZOFFSETFROM:-0400
TZOFFSETTO:-0300
TZNAME:ADT
DTSTART:20200308T060000
END:DAYLIGHT
BEGIN:STANDARD
TZOFFSETFROM:-0300
TZOFFSETTO:-0400
TZNAME:AST
DTSTART:20201101T050000
END:STANDARD
BEGIN:DAYLIGHT
TZOFFSETFROM:-0400
TZOFFSETTO:-0300
TZNAME:ADT
DTSTART:20210314T060000
END:DAYLIGHT
BEGIN:STANDARD
TZOFFSETFROM:-0300
TZOFFSETTO:-0400
TZNAME:AST
DTSTART:20211107T050000
END:STANDARD
END:VTIMEZONE
BEGIN:VEVENT
DTSTART;TZID=America/Halifax:20200424T140000
DTEND;TZID=America/Halifax:20200424T150000
DTSTAMP:20260424T140026
CREATED:20200424T135334Z
LAST-MODIFIED:20200424T142411Z
UID:10002094-1587736800-1587740400@wpengine.mountainbizworks.org
SUMMARY:Free Info Session: Change the Game\, JB Media's Latest Course!
DESCRIPTION:JB Media is offering a new course! \n \n\n\nAre you starting an online class for the first time? \nWould you like to turn an in-person class into an online course?\n Could a virtual course generate new streams of income for your brand?\n\n  \nLearn more at today’s free info session\nTime: Apr 24\, 2020 02:00 PM Eastern\nClick the link to join the Zoom Meeting\nhttps://zoom.us/j/9243883300 \nIf you are using a mobile device you may need to download the free Zoom app form the App Store.\nMeeting ID: 924-388-3300 \nDial by phone if better audio is necessary\n+1 929-205-6099 US \n  \nJoin digital marketing educator Sarah Benoit for her new training series.\nClasses Start April 27\, 2020\nTotal Value $799 – Introductory Price $199\nClass Registration Ends at 12 noon on Saturday\, April 25\, 2020\n 
URL:https://wpengine.mountainbizworks.org/event/free-info-session-change-the-game-jb-medias-latest-course/
LOCATION:NC\, United States
CATEGORIES:Class,Coronavirus Response,Partner Events
END:VEVENT
END:VCALENDAR