BEGIN:VCALENDAR
VERSION:2.0
PRODID:-//Mountain BizWorks - ECPv6.15.20//NONSGML v1.0//EN
CALSCALE:GREGORIAN
METHOD:PUBLISH
X-WR-CALNAME:Mountain BizWorks
X-ORIGINAL-URL:https://wpengine.mountainbizworks.org
X-WR-CALDESC:Events for Mountain BizWorks
REFRESH-INTERVAL;VALUE=DURATION:PT1H
X-Robots-Tag:noindex
X-PUBLISHED-TTL:PT1H
BEGIN:VTIMEZONE
TZID:America/Halifax
BEGIN:DAYLIGHT
TZOFFSETFROM:-0400
TZOFFSETTO:-0300
TZNAME:ADT
DTSTART:20180311T060000
END:DAYLIGHT
BEGIN:STANDARD
TZOFFSETFROM:-0300
TZOFFSETTO:-0400
TZNAME:AST
DTSTART:20181104T050000
END:STANDARD
BEGIN:DAYLIGHT
TZOFFSETFROM:-0400
TZOFFSETTO:-0300
TZNAME:ADT
DTSTART:20190310T060000
END:DAYLIGHT
BEGIN:STANDARD
TZOFFSETFROM:-0300
TZOFFSETTO:-0400
TZNAME:AST
DTSTART:20191103T050000
END:STANDARD
BEGIN:DAYLIGHT
TZOFFSETFROM:-0400
TZOFFSETTO:-0300
TZNAME:ADT
DTSTART:20200308T060000
END:DAYLIGHT
BEGIN:STANDARD
TZOFFSETFROM:-0300
TZOFFSETTO:-0400
TZNAME:AST
DTSTART:20201101T050000
END:STANDARD
END:VTIMEZONE
BEGIN:VEVENT
DTSTART;TZID=America/Halifax:20191121T080000
DTEND;TZID=America/Halifax:20191121T163000
DTSTAMP:20260422T064838
CREATED:20190924T203428Z
LAST-MODIFIED:20190925T195419Z
UID:10001789-1574323200-1574353800@wpengine.mountainbizworks.org
SUMMARY:Partner Event: WNC Branding Conference
DESCRIPTION:Branding is key to communicating your company message to your target audience. Don’t miss this exciting conference to help make the most of your marketing strategies & plans. This conference is designed to help pre-start\, start-up\, growth\, and scale-up business with their branding. \nRegister for the conference here.
URL:https://wpengine.mountainbizworks.org/event/wnc-branding-conference/
LOCATION:Blue Ridge Conference Hall\, 180 W Campus Dr\, Flat Rock\, NC\, 28731\, United States
CATEGORIES:Class,Partner Events
END:VEVENT
END:VCALENDAR