BEGIN:VCALENDAR
VERSION:2.0
PRODID:-//Mountain BizWorks - ECPv6.15.20//NONSGML v1.0//EN
CALSCALE:GREGORIAN
METHOD:PUBLISH
X-WR-CALNAME:Mountain BizWorks
X-ORIGINAL-URL:https://wpengine.mountainbizworks.org
X-WR-CALDESC:Events for Mountain BizWorks
REFRESH-INTERVAL;VALUE=DURATION:PT1H
X-Robots-Tag:noindex
X-PUBLISHED-TTL:PT1H
BEGIN:VTIMEZONE
TZID:America/New_York
BEGIN:DAYLIGHT
TZOFFSETFROM:-0500
TZOFFSETTO:-0400
TZNAME:EDT
DTSTART:20220313T070000
END:DAYLIGHT
BEGIN:STANDARD
TZOFFSETFROM:-0400
TZOFFSETTO:-0500
TZNAME:EST
DTSTART:20221106T060000
END:STANDARD
BEGIN:DAYLIGHT
TZOFFSETFROM:-0500
TZOFFSETTO:-0400
TZNAME:EDT
DTSTART:20230312T070000
END:DAYLIGHT
BEGIN:STANDARD
TZOFFSETFROM:-0400
TZOFFSETTO:-0500
TZNAME:EST
DTSTART:20231105T060000
END:STANDARD
BEGIN:DAYLIGHT
TZOFFSETFROM:-0500
TZOFFSETTO:-0400
TZNAME:EDT
DTSTART:20240310T070000
END:DAYLIGHT
BEGIN:STANDARD
TZOFFSETFROM:-0400
TZOFFSETTO:-0500
TZNAME:EST
DTSTART:20241103T060000
END:STANDARD
BEGIN:DAYLIGHT
TZOFFSETFROM:-0500
TZOFFSETTO:-0400
TZNAME:EDT
DTSTART:20250309T070000
END:DAYLIGHT
BEGIN:STANDARD
TZOFFSETFROM:-0400
TZOFFSETTO:-0500
TZNAME:EST
DTSTART:20251102T060000
END:STANDARD
BEGIN:DAYLIGHT
TZOFFSETFROM:-0500
TZOFFSETTO:-0400
TZNAME:EDT
DTSTART:20260308T070000
END:DAYLIGHT
BEGIN:STANDARD
TZOFFSETFROM:-0400
TZOFFSETTO:-0500
TZNAME:EST
DTSTART:20261101T060000
END:STANDARD
END:VTIMEZONE
BEGIN:VEVENT
DTSTART;TZID=America/New_York:20250524T100000
DTEND;TZID=America/New_York:20250524T180000
DTSTAMP:20260422T053451
CREATED:20250516T195625Z
LAST-MODIFIED:20250516T195625Z
UID:10002821-1748080800-1748109600@wpengine.mountainbizworks.org
SUMMARY:GRINDfest 2025
DESCRIPTION:GRINDFest 2025: Rebuilding is Everybody’s Business\n📅 Every Weekend in May | 📍 Asheville\, NC \nNote: GrindFest Day is May 24 from 10 a.m. – 6 p.m. at 16 Fernihursst Drive. \nJoin us for an unforgettable month-long celebration of culture\, entrepreneurship\, and community! \nGrindFest 2025 is bigger than ever—taking over Asheville every Saturday and Sunday in May with high-energy events\, inspiring conversations\, and can’t-miss experiences. Whether you’re an entrepreneur\, creative\, or just here for a good time\, there’s something for everyone. \n🔥 WHAT TO EXPECT:\n\nLive Music & Performances – Enjoy some of the best local and regional talent.\nWorkshops & Networking – Build connections and gain insights from industry leaders.\nEpic Dance Moments – Be part of the BIGGEST line dance in North Carolina!\nFood & Culture – A curated brunch experience and immersive cultural showcases.\nGames & Competitions – Pitch contests\, arcade tournaments\, and more!\n\nFrom inspiring talks to vibrant nightlife\, GrindFest is about celebrating resilience\, growth\, and the power of community. Whether you’re here to learn\, build\, or just vibe—this festival is for YOU. \n📍 Locations: Multiple venues across Asheville\n🎟 RSVP today & stay tuned for event announcements! \n 
URL:https://wpengine.mountainbizworks.org/event/grindfest-2025/
CATEGORIES:Celebration,Partner Events,Social Gathering,Sponsored Event
ATTACH;FMTTYPE=image/png:https://wpengine.mountainbizworks.org/wp-content/uploads/2023/03/Untitled-design-19.png
ORGANIZER;CN="Black Wall Street AVL":MAILTO:admin@blackwallstreetavl.com
END:VEVENT
BEGIN:VEVENT
DTSTART;VALUE=DATE:20230526
DTEND;VALUE=DATE:20230529
DTSTAMP:20260422T053451
CREATED:20230308T184723Z
LAST-MODIFIED:20230308T184723Z
UID:10002333-1685059200-1685318399@wpengine.mountainbizworks.org
SUMMARY:GRINDfest 2023
DESCRIPTION:Grindfest – brought to you by Grind AVL and Black Wall Street Asheville – is BACK! It is a free\, 3-day event that celebrates the success of Black entrepreneurs + business owners in Asheville.  A block-party style event will take place on 8 Rivers Arts Place! This includes a weekend full of music\, games\, live performance\, food\, local vendors + learning\, employment and partnership opportunities. The goal of the festival is to highlight the progress made by people of color while also connecting folks in the community. A long weekend of fun and excitement. 
URL:https://wpengine.mountainbizworks.org/event/grindfest-2023/
LOCATION:Black Wall Street\, 8 River Arts Place\, Asheville\, NC\, 28801\, United States
CATEGORIES:Celebration,Partner Events,Social Gathering,Sponsored Event
ATTACH;FMTTYPE=image/png:https://wpengine.mountainbizworks.org/wp-content/uploads/2023/03/Untitled-design-19.png
ORGANIZER;CN="Black Wall Street AVL":MAILTO:admin@blackwallstreetavl.com
END:VEVENT
END:VCALENDAR