BEGIN:VCALENDAR
VERSION:2.0
PRODID:-//Mountain BizWorks - ECPv6.15.20//NONSGML v1.0//EN
CALSCALE:GREGORIAN
METHOD:PUBLISH
X-WR-CALNAME:Mountain BizWorks
X-ORIGINAL-URL:https://wpengine.mountainbizworks.org
X-WR-CALDESC:Events for Mountain BizWorks
REFRESH-INTERVAL;VALUE=DURATION:PT1H
X-Robots-Tag:noindex
X-PUBLISHED-TTL:PT1H
BEGIN:VTIMEZONE
TZID:America/Halifax
BEGIN:DAYLIGHT
TZOFFSETFROM:-0400
TZOFFSETTO:-0300
TZNAME:ADT
DTSTART:20150308T060000
END:DAYLIGHT
BEGIN:STANDARD
TZOFFSETFROM:-0300
TZOFFSETTO:-0400
TZNAME:AST
DTSTART:20151101T050000
END:STANDARD
BEGIN:DAYLIGHT
TZOFFSETFROM:-0400
TZOFFSETTO:-0300
TZNAME:ADT
DTSTART:20160313T060000
END:DAYLIGHT
BEGIN:STANDARD
TZOFFSETFROM:-0300
TZOFFSETTO:-0400
TZNAME:AST
DTSTART:20161106T050000
END:STANDARD
BEGIN:DAYLIGHT
TZOFFSETFROM:-0400
TZOFFSETTO:-0300
TZNAME:ADT
DTSTART:20170312T060000
END:DAYLIGHT
BEGIN:STANDARD
TZOFFSETFROM:-0300
TZOFFSETTO:-0400
TZNAME:AST
DTSTART:20171105T050000
END:STANDARD
END:VTIMEZONE
BEGIN:VEVENT
DTSTART;TZID=America/Halifax:20160929T180000
DTEND;TZID=America/Halifax:20160929T210000
DTSTAMP:20260422T010822
CREATED:20160912T193413Z
LAST-MODIFIED:20160912T193413Z
UID:10001608-1475172000-1475182800@wpengine.mountainbizworks.org
SUMMARY:BirdsEye Business Planning Course with Russ Towers (Thursdays 6-9pm)
DESCRIPTION:The Birds Eye Business Planning Class helps aspiring entrepreneurs and existing business owners to create comprehensive business plans in order to start-up\, expand\, or enhance their businesses. \nThis class is a refined version of Mountain BizWorks’ popular “Foundations” course. Delivered to thousands of entrepreneurs over 20 years\, the curriculum has been honed to help entrepreneurs build a solid foundation for business growth. Now\, the Birds Eye team has updated and refreshed this curriculum to make it even more efficient and effective. \nIn 18 hours over 6 weekly sessions\, participants will gain a clear aerial perspective of their business operations\, financials\, research and development\, and marketing strategies. They will leave the course with a comprehensive business plan\, a clear vision for their business\, and concrete tasks for future work. \n\nWeek 1: Gaining Perspective: We start by viewing our business concepts from a high altitude\, in order to define our visions and get a good look at the main topics to be addressed.\nWeek 2: Laying the Foundation: Next\, we return to the ground level to define our lines of business and analyze financial essentials\, from overhead costs to break-even points.\nWeek 3: Getting into the Flow: In the third session\, we’ll cover the financial bases of cash flow\, sales forecasting\, and financial documents.\nWeek 4: Mission & Markets: Then\, we’ll revisit our mission\, discuss market research\, and identify competitors in order to align with our target markets.\nWeek 5: Get the Word Out: Next\, we’ll discuss creative marketing strategies and give peer feedback on marketing materials.\nWeek 6: Goodbye & Good Luck: Finally\, we’ll present our business plans\, share final pitches\, and plan for next steps.\n\nThroughout the class\, emphasis will be placed on developing the social capital of the group. Participants will be encouraged to gather feedback from their peers\, creating a strong network of deep support and synergy. \nThe Birds Eye Business Planning class is currently being offered at Mountain BizWorks. The cost for the 6-session class is $375; some partial scholarships are available. \nContinue to the BirdsEye Registration Page
URL:https://wpengine.mountainbizworks.org/event/birdseye-business-planning-course-with-russ-towers-thursdays-6-9pm/
LOCATION:Mountain BizWorks Asheville Office\, 153 S Lexington Avenue\, Asheville\, NC\, 28801\, United States
CATEGORIES:Class,Foundations Business Planning
GEO:35.590696;-82.552115
X-APPLE-STRUCTURED-LOCATION;VALUE=URI;X-ADDRESS=Mountain BizWorks Asheville Office 153 S Lexington Avenue Asheville NC 28801 United States;X-APPLE-RADIUS=500;X-TITLE=153 S Lexington Avenue:geo:-82.552115,35.590696
END:VEVENT
BEGIN:VEVENT
DTSTART;TZID=America/Halifax:20160929T090000
DTEND;TZID=America/Halifax:20160929T120000
DTSTAMP:20260422T010822
CREATED:20160912T193123Z
LAST-MODIFIED:20160921T154532Z
UID:10001606-1475139600-1475150400@wpengine.mountainbizworks.org
SUMMARY:Foundations Business Planning Classwith Angie Stegall (Thursdays 9am-12pm)
DESCRIPTION:The Foundations Business Planning Class helps aspiring entrepreneurs and existing business owners to create comprehensive business plans in order to start-up\, expand\, or enhance their businesses. \nDelivered to thousands of entrepreneurs over 20 years\, the curriculum has been honed to help entrepreneurs build a solid foundation for business growth. Now\, the Birds Eye team has updated and refreshed this curriculum to make it even more efficient and effective. \nIn 18 hours over 6 weekly sessions\, participants will gain a clear aerial perspective of their business operations\, financials\, research and development\, and marketing strategies. They will leave the course with a comprehensive business plan\, a clear vision for their business\, and concrete tasks for future work. \n\nWeek 1: Gaining Perspective: We start by viewing our business concepts from a high altitude\, in order to define our visions and get a good look at the main topics to be addressed.\nWeek 2: Laying the Foundation: Next\, we return to the ground level to define our lines of business and analyze financial essentials\, from overhead costs to break-even points.\nWeek 3: Getting into the Flow: In the third session\, we’ll cover the financial bases of cash flow\, sales forecasting\, and financial documents.\nWeek 4: Mission & Markets: Then\, we’ll revisit our mission\, discuss market research\, and identify competitors in order to align with our target markets.\nWeek 5: Get the Word Out: Next\, we’ll discuss creative marketing strategies and give peer feedback on marketing materials.\nWeek 6: Goodbye & Good Luck: Finally\, we’ll present our business plans\, share final pitches\, and plan for next steps.\n\nThroughout the class\, emphasis will be placed on developing the social capital of the group. Participants will be encouraged to gather feedback from their peers\, creating a strong network of deep support and synergy. \nThe Foundations Business  Planning class is offered at Mountain BizWorks. The cost for the 6-session class is $375; some partial scholarships are available. \nContinue to the Foundations Registration Page
URL:https://wpengine.mountainbizworks.org/event/birdseye-business-planning-course-with-angie-stegall-thursdays-9am-12pm/
LOCATION:Mountain BizWorks Asheville Office\, 153 S Lexington Avenue\, Asheville\, NC\, 28801\, United States
CATEGORIES:Class,Foundations Business Planning
GEO:35.590696;-82.552115
X-APPLE-STRUCTURED-LOCATION;VALUE=URI;X-ADDRESS=Mountain BizWorks Asheville Office 153 S Lexington Avenue Asheville NC 28801 United States;X-APPLE-RADIUS=500;X-TITLE=153 S Lexington Avenue:geo:-82.552115,35.590696
END:VEVENT
END:VCALENDAR