BEGIN:VCALENDAR
VERSION:2.0
PRODID:-//Mountain BizWorks - ECPv6.15.20//NONSGML v1.0//EN
CALSCALE:GREGORIAN
METHOD:PUBLISH
X-WR-CALNAME:Mountain BizWorks
X-ORIGINAL-URL:https://wpengine.mountainbizworks.org
X-WR-CALDESC:Events for Mountain BizWorks
REFRESH-INTERVAL;VALUE=DURATION:PT1H
X-Robots-Tag:noindex
X-PUBLISHED-TTL:PT1H
BEGIN:VTIMEZONE
TZID:America/Halifax
BEGIN:DAYLIGHT
TZOFFSETFROM:-0400
TZOFFSETTO:-0300
TZNAME:ADT
DTSTART:20150308T060000
END:DAYLIGHT
BEGIN:STANDARD
TZOFFSETFROM:-0300
TZOFFSETTO:-0400
TZNAME:AST
DTSTART:20151101T050000
END:STANDARD
BEGIN:DAYLIGHT
TZOFFSETFROM:-0400
TZOFFSETTO:-0300
TZNAME:ADT
DTSTART:20160313T060000
END:DAYLIGHT
BEGIN:STANDARD
TZOFFSETFROM:-0300
TZOFFSETTO:-0400
TZNAME:AST
DTSTART:20161106T050000
END:STANDARD
BEGIN:DAYLIGHT
TZOFFSETFROM:-0400
TZOFFSETTO:-0300
TZNAME:ADT
DTSTART:20170312T060000
END:DAYLIGHT
BEGIN:STANDARD
TZOFFSETFROM:-0300
TZOFFSETTO:-0400
TZNAME:AST
DTSTART:20171105T050000
END:STANDARD
BEGIN:DAYLIGHT
TZOFFSETFROM:-0400
TZOFFSETTO:-0300
TZNAME:ADT
DTSTART:20180311T060000
END:DAYLIGHT
BEGIN:STANDARD
TZOFFSETFROM:-0300
TZOFFSETTO:-0400
TZNAME:AST
DTSTART:20181104T050000
END:STANDARD
BEGIN:DAYLIGHT
TZOFFSETFROM:-0400
TZOFFSETTO:-0300
TZNAME:ADT
DTSTART:20190310T060000
END:DAYLIGHT
BEGIN:STANDARD
TZOFFSETFROM:-0300
TZOFFSETTO:-0400
TZNAME:AST
DTSTART:20191103T050000
END:STANDARD
END:VTIMEZONE
BEGIN:VEVENT
DTSTART;TZID=America/Halifax:20180117T180000
DTEND;TZID=America/Halifax:20180117T210000
DTSTAMP:20260421T182951
CREATED:20171205T001312Z
LAST-MODIFIED:20171208T174903Z
UID:10001780-1516212000-1516222800@wpengine.mountainbizworks.org
SUMMARY:Boone\, NC Foundations Business Planning Class with Athalia Whitworth: January 17th\, 6pm-9pm
DESCRIPTION:Wednesdays\, 6pm-9pm\, January 17th – February 28th  (No class Valentine’s Day) \nFacilitator:  Athalia Whitworth  \nThis Foundations class is offered in the High Country by our partner\, Ascent Business Network.  \nJoin a cohort of aspiring and existing entrepreneurs to gain an aerial perspective of your vision and the comprehensive business skills necessary to help bring your visions into reality. \nThe “Foundations” Business Planning Class helps aspiring entrepreneurs and existing business owners to create comprehensive business plans in order to start-up\, expand\, or enhance their businesses. \nDelivered to thousands of entrepreneurs over 20 years at Mountain BizWorks\, Foundations has been honored to help entrepreneurs build a solid strategy for business startup and growth. Our partnership with Birds Eye Business Planning & Adventures ensures that the curriculum is continually refreshed and made even more efficient and effective. \nOur Foundations business planning class helps guide ideas from concept to reality in a participatory\, supportive learning environment. \nIn 18 hours over 6 weekly sessions\, participants will gain a clear aerial perspective of their business operations\, financials\, research and development\, and marketing strategies. They will leave the course with a comprehensive business plan\, a clear vision for their business\, and concrete tasks for future work. \n\nWeek 1: Gaining Perspective:We start by viewing our business concepts from a high altitude\, in order to define our visions and get a good look at the main topics to be addressed.\nWeek 2: Laying the Foundation:Next\, we return to the ground level to define our lines of business and analyze financial essentials\, from overhead costs to break-even points.\nWeek 3: Getting into the Flow:In the third session\, we’ll cover the financial bases of cash flow\, sales forecasting\, and financial documents.\nWeek 4: Mission & Markets:Then\, we’ll revisit our mission\, discuss market research\, and identify competitors in order to align with our target markets.\nWeek 5: Get the Word Out:Next\, we’ll discuss creative marketing strategies and give peer feedback on marketing materials.\nWeek 6: Goodbye & Good Luck:Finally\, we’ll present our business plans\, share final pitches\, and plan for next steps.\n\nThroughout the class\, emphasis will be placed on developing the social capital of the group. Participants will be encouraged to gather feedback from their peers\, creating a strong network of deep support and synergy. \n  \nRegister Today \n \n\n Course Fee & Cost-Share Opportunities \n The course fee is $300. A minimum deposit of $50 of the total is due upon enrollment\, with the remaining balance due on or by the first day of class. Acceptable forms of payment include cash\, check\, and credit card. There are a limited number of partial scholarships available for participants who qualify for financial hardship assistance. These partial scholarships are awarded on a first come\, first served basis. Scholarships are made possible for all Watauga County 6-week Business Planning Courses through the support of the Watauga County Economic Development Commission. For a limited time we are also offering a 2-for-1 special if you sign up with a friend! \n If you have already registered but need to pay your course fees\, please click the button below.  \n\n \nPay Now\n \n\nPlease contact Ascent at info@ascentbusinessnetwork.com for more information about the next class!\n\n\n\n \n\n\n\n\n\n\n\n \n \n\n\n \n\n\n\n\n\n\n 
URL:https://wpengine.mountainbizworks.org/event/boone-nc-foundations-business-planning-class-january-17th-6pm-9pm/
LOCATION:Appalachian Enterprise Center\, 130 Poplar Grove Connector\, Boone\, NC\, 28607\, United States
CATEGORIES:Class,Foundations Business Planning,High Country Classes & Workshops
GEO:36.220501;-81.691656
X-APPLE-STRUCTURED-LOCATION;VALUE=URI;X-ADDRESS=Appalachian Enterprise Center 130 Poplar Grove Connector Boone NC 28607 United States;X-APPLE-RADIUS=500;X-TITLE=130 Poplar Grove Connector:geo:-81.691656,36.220501
END:VEVENT
BEGIN:VEVENT
DTSTART;TZID=America/Halifax:20170228T180000
DTEND;TZID=America/Halifax:20170228T200000
DTSTAMP:20260421T182952
CREATED:20161221T172539Z
LAST-MODIFIED:20170217T214753Z
UID:10001725-1488304800-1488312000@wpengine.mountainbizworks.org
SUMMARY:Wilksboro\, NC:  Crowdfunding for Small Businesses
DESCRIPTION:Crowdfunding is quickly becoming a popular financing option for aspiring entrepreneurs. This seminar will focus on defining the concept of crowdfunding\, identifying available platforms\, how to choose the best platform\, and planning equity crowdfunding for the future. Chris Grasinger will share his own experiences with several crowdfunding campaigns and how it can lead to other funding opportunities.\n\n\nCost: FREE\n\nCLICK HERE TO REGISTER\n\nIf you have any questions\, please contact Ascent at: info@ascentbusinessnetwork.com
URL:https://wpengine.mountainbizworks.org/event/wilksboro-nc-crowdfunding-for-small-businesses/
LOCATION:Wilkes Community College – Beacon Hall\, 1328 South Collegiate Drive\, Wilksboro\, NC\, 28697\, United States
GEO:36.1371351;-81.1827753
X-APPLE-STRUCTURED-LOCATION;VALUE=URI;X-ADDRESS=Wilkes Community College – Beacon Hall 1328 South Collegiate Drive Wilksboro NC 28697 United States;X-APPLE-RADIUS=500;X-TITLE=1328 South Collegiate Drive:geo:-81.1827753,36.1371351
END:VEVENT
BEGIN:VEVENT
DTSTART;TZID=America/Halifax:20170131T113000
DTEND;TZID=America/Halifax:20170131T130000
DTSTAMP:20260421T182952
CREATED:20161221T172100Z
LAST-MODIFIED:20161221T172100Z
UID:10001724-1485862200-1485867600@wpengine.mountainbizworks.org
SUMMARY:North Wilksboro\, NC:  Visioning & Business Planning
DESCRIPTION:Vision your business model and take your idea to the next level. Learn a practical framework for imagining how your business or business idea could work. Identify areas where you should use tried and true strategies\, and areas where you want to do things differently. Understand how the different aspects of your business fit together. Lunch and copies of The Business Model Canvas will be provided. \nThis workshop will be facilitated by Business Coach and CEO\, Chris Grasinger. \nCost: $10 \nPlease register by clicking on Ascent’s website link listed below. \nIf you have any questions\, please contact Ascent at: info@ascentbusinessnetwork.com
URL:https://wpengine.mountainbizworks.org/event/north-wilksboro-nc-visioning-business-planning/
LOCATION:Talia Coffee and Espresso\, ​809 Main Street\, N Wilksboro\, NC\, 28659\, United States
GEO:36.1612992;-81.1420881
X-APPLE-STRUCTURED-LOCATION;VALUE=URI;X-ADDRESS=Talia Coffee and Espresso ​809 Main Street N Wilksboro NC 28659 United States;X-APPLE-RADIUS=500;X-TITLE=​809 Main Street:geo:-81.1420881,36.1612992
END:VEVENT
BEGIN:VEVENT
DTSTART;TZID=America/Halifax:20170123T180000
DTEND;TZID=America/Halifax:20170123T200000
DTSTAMP:20260421T182952
CREATED:20161221T170508Z
LAST-MODIFIED:20161221T170508Z
UID:10001723-1485194400-1485201600@wpengine.mountainbizworks.org
SUMMARY:Sparta\, NC:  FREE Quickbook Skills CrashPad (Workshop)
DESCRIPTION:Learn accounting basics\, and how to use Quickbooks to streamline the bookkeeping process in a small business environment. Specifics will include an overview of financial statements and how they can help with key business decisions\, how to categorize different types of transactions\, how to make tax reporting easier\, and more! Laptop computers will be provided for hands-on practice. \nThis free Quickbooks workshop will be facilitated by Mira Williams\, CPA. \n  \nCost: FREE \nIf you have any questions\, please contact Ascent at: info@ascentbusinessnetwork.com
URL:https://wpengine.mountainbizworks.org/event/sparta-nc-free-quickbook-skills-crashpad-workshop/
LOCATION:Blue Ridge Business Development Center\, 115 Atwood St.\, Sparta\, NC\, 28675\, United States
GEO:36.512867;-81.120053
X-APPLE-STRUCTURED-LOCATION;VALUE=URI;X-ADDRESS=Blue Ridge Business Development Center 115 Atwood St. Sparta NC 28675 United States;X-APPLE-RADIUS=500;X-TITLE=115 Atwood St.:geo:-81.120053,36.512867
END:VEVENT
BEGIN:VEVENT
DTSTART;TZID=America/Halifax:20170117T163000
DTEND;TZID=America/Halifax:20170117T173000
DTSTAMP:20260421T182952
CREATED:20161220T191320Z
LAST-MODIFIED:20161227T174804Z
UID:10001716-1484670600-1484674200@wpengine.mountainbizworks.org
SUMMARY:ScaleUp WNC Info Session & Happy Hour (Boone)
DESCRIPTION:Are you a founder or manager of a WNC small business with strong growth potential?\nIf so\, we invite you to join us for an informational session and happy hour to learn more about the 2017 ScaleUp WNC program. At this event\, you’ll get an overview of the program details and benefits\, will have a chance to meet some of our program facilitators and alumni\, and can ask any burning questions you may have. This session will especially focus on our first Boone-based ScaleUp WNC cohort being planned for 2017. You are not required to attend an info session to apply but we do encourage it as it provides an opportunity to introduce your company\, get some tips on the application process\, and to ensure the program is a good fit. \nPlease RSVP using the form below.  \nYou can also find our more about the ScaleUp WNC program here.
URL:https://wpengine.mountainbizworks.org/event/scaleup-wnc-info-session-happy-hour-boone/
LOCATION:Basil’s Pasta & Booneshine Brewing\, 246 Wilson Drive\, Suite K\, Boone\, NC\, 28607\, United States
CATEGORIES:Class,High Country Classes & Workshops,ScaleUp
ORGANIZER;CN="Ascent Business Network":MAILTO:info@ascentbusinessnetwork.com
GEO:36.2014928;-81.6710349
X-APPLE-STRUCTURED-LOCATION;VALUE=URI;X-ADDRESS=Basil’s Pasta & Booneshine Brewing 246 Wilson Drive Suite K Boone NC 28607 United States;X-APPLE-RADIUS=500;X-TITLE=246 Wilson Drive\, Suite K:geo:-81.6710349,36.2014928
END:VEVENT
BEGIN:VEVENT
DTSTART;TZID=America/Halifax:20170112T180000
DTEND;TZID=America/Halifax:20170112T210000
DTSTAMP:20260421T182952
CREATED:20161221T162142Z
LAST-MODIFIED:20161221T205933Z
UID:10001722-1484244000-1484254800@wpengine.mountainbizworks.org
SUMMARY:Foundations Course in Boone
DESCRIPTION:This 6 week Foundations Course helps aspiring entrepreneurs and existing business owners create a comprehensive business plan and gain the skills needed to successfully launch or grow their business. Participants acquire a clear aerial perspective of operations\, financials\, product/service development\, and marketing. The concepts of start-up and overhead costs\, units\, break-even point\, cash flow\, mission and vision\, target markets\, and marketing strategy are featured. \nThe course is part of Mountain BizWorks’ 2016-17 High Country training series offered in partnership with Ascent Business Network and with funding support from USDA Rural Development and Appalachian Regional Commission. \nThe next course will take place on Thursday nights from January 12th to February 16th\, 6-9 PM at the Appalachian Enterprise Center in Boone. This 6-week intensive will be facilitated by Madelyn Hjertmann\, Ascent’s new Program Director and owner of the Valle Crucis Lavender House. Click the website link below to register on Ascent’s website. \n  \nIn 18 hours over 6 weekly sessions\, participants will gain a clear aerial perspective of their business operations\, financials\, research and development\, and marketing strategies. Participants will leave the course with a comprehensive business plan\, a clear vision for their business\, and concrete tasks for future work. \n\nWeek 1 Gaining Perspective: We start by viewing our business concepts from a high altitude\, in order to define our visions and get a good look at the main topics to be addressed.\nWeek 2 Laying the Foundation: Next\, we return to the ground level to define our lines of business and analyze financial essentials\, from overhead costs to break-even points.\nWeek 3 Getting into the Flow: In the third session\, we’ll cover the financial bases of cash flow\, sales forecasting\, and financial documents.\nWeek 4 Mission & Markets: Then\, we’ll revisit our mission\, discuss market research\, and identify competitors in order to align with our target markets.\nWeek 5 Get the Word Out: Next\, we’ll discuss creative marketing strategies and give peer feedback on marketing materials.\nWeek 6 Goodbye & Good Luck: Finally\, we’ll present our business plans\, share final pitches\, and plan for next steps.\n\nPlease contact Ascent at info@ascentbusinessnetwork.com for more information about classes offered in Boone\, NC!
URL:https://wpengine.mountainbizworks.org/event/6-week-business-planning-course-in-boone/
LOCATION:Watauga County\, TBD\, NC\, United States
CATEGORIES:Class,High Country Classes & Workshops
GEO:36.216795;-81.6745517
X-APPLE-STRUCTURED-LOCATION;VALUE=URI;X-ADDRESS=Watauga County TBD NC United States;X-APPLE-RADIUS=500;X-TITLE=TBD:geo:-81.6745517,36.216795
END:VEVENT
BEGIN:VEVENT
DTSTART;TZID=America/Halifax:20161017T180000
DTEND;TZID=America/Halifax:20161017T210000
DTSTAMP:20260421T182952
CREATED:20160912T153152Z
LAST-MODIFIED:20160912T153152Z
UID:10001604-1476727200-1476738000@wpengine.mountainbizworks.org
SUMMARY:Identifying Markets & Sales Avenues for Ag-Based Businesses “CrashPad” Workshop
DESCRIPTION:Learn how to identify your business market and sales avenues with Tumbling Shoals farms! Tumbling Shoals Farm is owned and operated by Shiloh Avery and Jason Roehrig.  They grow certified organic vegetables and fruit. They have been farming since returning from Peace Corps service as agriculture volunteers in Madagascar in 2002. \nThe course is part of Mountain BizWorks’ 2016-17 High Country training series offered in partnership with Ascent Business Network and with funding support from USDA Rural Development and Appalachian Regional Commission. \nCost: FREE\nWhen: Monday\, October 17th – 6 pm to 9 pm\nWhere: BREMCO community room\n2375 NC Hwy. 163. West Jefferson\, NC 28694 \nClick here to register
URL:https://wpengine.mountainbizworks.org/event/identifying-markets-sales-avenues-for-ag-based-businesses-crashpad-workshop/
LOCATION:BREMCO community room\, 2375 NC Hwy. 163\, West Jefferson\, NC\, 28694 \, United States
CATEGORIES:Class,High Country Classes & Workshops,Local Food & Farming Initiatives
GEO:36.376765;-81.472172
X-APPLE-STRUCTURED-LOCATION;VALUE=URI;X-ADDRESS=BREMCO community room 2375 NC Hwy. 163 West Jefferson NC 28694  United States;X-APPLE-RADIUS=500;X-TITLE=2375 NC Hwy. 163:geo:-81.472172,36.376765
END:VEVENT
BEGIN:VEVENT
DTSTART;TZID=America/Halifax:20161010T180000
DTEND;TZID=America/Halifax:20161010T210000
DTSTAMP:20260421T182952
CREATED:20160912T152927Z
LAST-MODIFIED:20160912T152927Z
UID:10001602-1476122400-1476133200@wpengine.mountainbizworks.org
SUMMARY:Visioning & Business Planning “CrashPad” Workshop
DESCRIPTION:Vision your business model to take your idea to the next level. This free workshop will be facilitated by Business Coach and CEO\, Chris Grasinger. \nThe course is part of Mountain BizWorks’ 2016-17 High Country training series offered in partnership with Ascent Business Network and with funding support from USDA Rural Development and Appalachian Regional Commission. \nCost: FREE\nWhen: Monday\, October 10th – 6 pm to 9 pm\nWhere: Appalachian Enterprise Center\n130 Poplar Grove Extension\, Boone\, NC 28607 \nClick here to register
URL:https://wpengine.mountainbizworks.org/event/visioning-business-planning-crashpad-workshop-2/
LOCATION:Watauga County\, TBD\, NC\, United States
CATEGORIES:Class,High Country Classes & Workshops
GEO:36.216795;-81.6745517
X-APPLE-STRUCTURED-LOCATION;VALUE=URI;X-ADDRESS=Watauga County TBD NC United States;X-APPLE-RADIUS=500;X-TITLE=TBD:geo:-81.6745517,36.216795
END:VEVENT
BEGIN:VEVENT
DTSTART;TZID=America/Halifax:20161006T180000
DTEND;TZID=America/Halifax:20161006T210000
DTSTAMP:20260421T182952
CREATED:20160912T150043Z
LAST-MODIFIED:20160912T150323Z
UID:10001696-1475776800-1475787600@wpengine.mountainbizworks.org
SUMMARY:6-Week Business Planning Course in West Jefferson (Ashe Co.)
DESCRIPTION:The 6-Week Business Planning Course helps aspiring entrepreneurs and existing business owners to create a comprehensive business plan and gain the goals needed to successfully launch or improve your business. Participants acquire a clear aerial perspective of operations\, financials\, product/service development\, and marketing. The concepts of start-up and overhead costs\, units\, break-even point\, cash flow\, mission and vision\, target markets\, and marketing strategy are featured. This course is an refined version of the popular Foundations course that has helped to launch and expand hundreds of WNC’s most successful small businesses. \nThis course will take place in West Jefferson (location TBD) beginning Thursday October 6 and running until November 10th from 6pm-9pm each week. This course will be facilitated by Carol Coulter. \nClick here to register\n \nThe course is part of Mountain BizWorks’ 2016-17 High Country training series offered in partnership with Ascent Business Network and with funding support from USDA Rural Development and Appalachian Regional Commission. \nIn 18 hours over 6 weekly sessions\, participants will gain a clear aerial perspective of their business operations\, financials\, research and development\, and marketing strategies. Participants will leave the course with a comprehensive business plan\, a clear vision for their business\, and concrete tasks for future work. \n\nWeek 1 Gaining Perspective: We start by viewing our business concepts from a high altitude\, in order to define our visions and get a good look at the main topics to be addressed.\nWeek 2 Laying the Foundation: Next\, we return to the ground level to define our lines of business and analyze financial essentials\, from overhead costs to break-even points.\nWeek 3 Getting into the Flow: In the third session\, we’ll cover the financial bases of cash flow\, sales forecasting\, and financial documents.\nWeek 4 Mission & Markets: Then\, we’ll revisit our mission\, discuss market research\, and identify competitors in order to align with our target markets.\nWeek 5 Get the Word Out: Next\, we’ll discuss creative marketing strategies and give peer feedback on marketing materials.\nWeek 6 Goodbye & Good Luck: Finally\, we’ll present our business plans\, share final pitches\, and plan for next steps.
URL:https://wpengine.mountainbizworks.org/event/6-week-business-planning-course-in-west-jefferson-ashe-co/
LOCATION:West Jefferson TBD\, West Jefferson\, NC\, 28694
CATEGORIES:Class,High Country Classes & Workshops
GEO:36.4037364;-81.4928829
END:VEVENT
BEGIN:VEVENT
DTSTART;TZID=America/Halifax:20161003T180000
DTEND;TZID=America/Halifax:20161003T210000
DTSTAMP:20260421T182952
CREATED:20160912T152634Z
LAST-MODIFIED:20160912T152634Z
UID:10001600-1475517600-1475528400@wpengine.mountainbizworks.org
SUMMARY:Visioning & Business Planning “CrashPad” Workshop
DESCRIPTION:Vision your business model to take your idea to the next level. This free workshop will be facilitated by Business Coach and CEO\, Chris Grasinger. \nThe course is part of Mountain BizWorks’ 2016-17 High Country training series offered in partnership with Ascent Business Network and with funding support from USDA Rural Development and Appalachian Regional Commission. \nCost: FREE\nWhen: Monday\, October 3rd – 6 pm to 9 pm\nWhere: Blue Ridge Business Development Center\n115 Atwood St.\, Sparta\, NC 28675 \nClick here to register
URL:https://wpengine.mountainbizworks.org/event/visioning-business-planning-crashpad-workshop/
LOCATION:Blue Ridge Business Development Center\, 115 Atwood St.\, Sparta\, NC\, 28675\, United States
CATEGORIES:Class,High Country Classes & Workshops
GEO:36.512867;-81.120053
X-APPLE-STRUCTURED-LOCATION;VALUE=URI;X-ADDRESS=Blue Ridge Business Development Center 115 Atwood St. Sparta NC 28675 United States;X-APPLE-RADIUS=500;X-TITLE=115 Atwood St.:geo:-81.120053,36.512867
END:VEVENT
BEGIN:VEVENT
DTSTART;TZID=America/Halifax:20160929T180000
DTEND;TZID=America/Halifax:20160929T210000
DTSTAMP:20260421T182952
CREATED:20160912T151209Z
LAST-MODIFIED:20160912T151519Z
UID:10001598-1475172000-1475182800@wpengine.mountainbizworks.org
SUMMARY:Fundamentals of Agribusiness "CrashPad" Workshop
DESCRIPTION:The discussion will focus on visioning your agriculturally based business in a financially sustainable way. Whether you have an idea for a business or want to expand an existing business\, all are welcome to attend. This Crashpad will be facilitated by Carol Coulter\, owner of Heritage Homestead Goat Dairy and executive director of Blue Ridge Women in Agriculture. \nThe course is part of Mountain BizWorks’ 2016-17 High Country training series offered in partnership with Ascent Business Network and with funding support from USDA Rural Development and Appalachian Regional Commission. \nCost: FREE\nWhen: Thursday\, September 29th – 6 pm to 9 pm\nWhere: BREMCO community room\n2375 NC Hwy. 163. West Jefferson\, NC 28694 \nClick here to register
URL:https://wpengine.mountainbizworks.org/event/fundamentals-of-agribusiness-crashpad-workshop/
LOCATION:BREMCO community room\, 2375 NC Hwy. 163\, West Jefferson\, NC\, 28694 \, United States
CATEGORIES:Class,High Country Classes & Workshops,Local Food & Farming Initiatives
GEO:36.376765;-81.472172
X-APPLE-STRUCTURED-LOCATION;VALUE=URI;X-ADDRESS=BREMCO community room 2375 NC Hwy. 163 West Jefferson NC 28694  United States;X-APPLE-RADIUS=500;X-TITLE=2375 NC Hwy. 163:geo:-81.472172,36.376765
END:VEVENT
END:VCALENDAR