BEGIN:VCALENDAR
VERSION:2.0
PRODID:-//Mountain BizWorks - ECPv6.15.20//NONSGML v1.0//EN
CALSCALE:GREGORIAN
METHOD:PUBLISH
X-WR-CALNAME:Mountain BizWorks
X-ORIGINAL-URL:https://wpengine.mountainbizworks.org
X-WR-CALDESC:Events for Mountain BizWorks
REFRESH-INTERVAL;VALUE=DURATION:PT1H
X-Robots-Tag:noindex
X-PUBLISHED-TTL:PT1H
BEGIN:VTIMEZONE
TZID:America/New_York
BEGIN:DAYLIGHT
TZOFFSETFROM:-0500
TZOFFSETTO:-0400
TZNAME:EDT
DTSTART:20220313T070000
END:DAYLIGHT
BEGIN:STANDARD
TZOFFSETFROM:-0400
TZOFFSETTO:-0500
TZNAME:EST
DTSTART:20221106T060000
END:STANDARD
BEGIN:DAYLIGHT
TZOFFSETFROM:-0500
TZOFFSETTO:-0400
TZNAME:EDT
DTSTART:20230312T070000
END:DAYLIGHT
BEGIN:STANDARD
TZOFFSETFROM:-0400
TZOFFSETTO:-0500
TZNAME:EST
DTSTART:20231105T060000
END:STANDARD
BEGIN:DAYLIGHT
TZOFFSETFROM:-0500
TZOFFSETTO:-0400
TZNAME:EDT
DTSTART:20240310T070000
END:DAYLIGHT
BEGIN:STANDARD
TZOFFSETFROM:-0400
TZOFFSETTO:-0500
TZNAME:EST
DTSTART:20241103T060000
END:STANDARD
END:VTIMEZONE
BEGIN:VEVENT
DTSTART;VALUE=DATE:20231103
DTEND;VALUE=DATE:20231106
DTSTAMP:20260425T121144
CREATED:20231010T202627Z
LAST-MODIFIED:20231010T202627Z
UID:10002366-1698969600-1699228799@wpengine.mountainbizworks.org
SUMMARY:AIGA Asheville Design Weekend
DESCRIPTION:Our partners at AIGA Asheville are hosting Asheville Design Weekend in November!  \nJoin us for the second annual AIGA Asheville Design Weekend! We’re celebrating and uplifting Asheville’s talent across all creative disciplines.\nThe event kicks off on Friday\, November 3\, with a kick-off social at Cowork at Center for Craft. On Saturday\, November 4\, we’ll enjoy an amazing lineup of presenters at Mojo Coworking including an awesome workshop hosted by Adobe along with concurrent talks\, panels and workshops throughout the day. Sunday\, November 5\, concludes the event with a collaboration with PechaKucha presentations at Mojo Coworking\, followed by a selection of tours to choose from including beautiful architectural & design spaces\, and street art murals in Downtown Asheville. \n2023 THEME: “The Power of Design”\nDesign has the power to shape the world. It solves problems\, tells stories\, and evokes emotions. Design is more than aesthetics. It’s a means to educate\, to inspire\, to communicate what we believe in. Design has the extraordinary ability to influence perceptions\, challenge possibilities\, and make a lasting impact on the future.
URL:https://wpengine.mountainbizworks.org/event/aiga-asheville-design-weekend/
CATEGORIES:In-Person,Partner Events
END:VEVENT
END:VCALENDAR