BEGIN:VCALENDAR
VERSION:2.0
PRODID:-//Mountain BizWorks - ECPv6.15.20//NONSGML v1.0//EN
CALSCALE:GREGORIAN
METHOD:PUBLISH
X-WR-CALNAME:Mountain BizWorks
X-ORIGINAL-URL:https://wpengine.mountainbizworks.org
X-WR-CALDESC:Events for Mountain BizWorks
REFRESH-INTERVAL;VALUE=DURATION:PT1H
X-Robots-Tag:noindex
X-PUBLISHED-TTL:PT1H
BEGIN:VTIMEZONE
TZID:America/Halifax
BEGIN:DAYLIGHT
TZOFFSETFROM:-0400
TZOFFSETTO:-0300
TZNAME:ADT
DTSTART:20160313T060000
END:DAYLIGHT
BEGIN:STANDARD
TZOFFSETFROM:-0300
TZOFFSETTO:-0400
TZNAME:AST
DTSTART:20161106T050000
END:STANDARD
BEGIN:DAYLIGHT
TZOFFSETFROM:-0400
TZOFFSETTO:-0300
TZNAME:ADT
DTSTART:20170312T060000
END:DAYLIGHT
BEGIN:STANDARD
TZOFFSETFROM:-0300
TZOFFSETTO:-0400
TZNAME:AST
DTSTART:20171105T050000
END:STANDARD
BEGIN:DAYLIGHT
TZOFFSETFROM:-0400
TZOFFSETTO:-0300
TZNAME:ADT
DTSTART:20180311T060000
END:DAYLIGHT
BEGIN:STANDARD
TZOFFSETFROM:-0300
TZOFFSETTO:-0400
TZNAME:AST
DTSTART:20181104T050000
END:STANDARD
END:VTIMEZONE
BEGIN:VEVENT
DTSTART;TZID=America/Halifax:20171114T080000
DTEND;TZID=America/Halifax:20171114T154500
DTSTAMP:20260424T120346
CREATED:20171017T181642Z
LAST-MODIFIED:20171017T181642Z
UID:10001648-1510646400-1510674300@wpengine.mountainbizworks.org
SUMMARY:Start. Grow. Thrive. Conference
DESCRIPTION:This one day conference will include topics such as success stories and tips from local successful entrepreneurs on starting and scaling businesses in WNC; access to capital connections with banks\, investors and small business lenders; snapshots on the state of entrepreneurship from communities across the region; an overview of NC’s new crowdfunding laws and how they can benefit small businesses; and a legal workshop on what type of incorporation to choose for a new business. \nTo read the full press release click here. \nTo register through our partner Blue Ridge Community College: click here to continue to the registration page 
URL:https://wpengine.mountainbizworks.org/event/start-grow-thrive-conference/
CATEGORIES:Class,Mountain BizWorks Event
ATTACH;FMTTYPE=image/png:https://wpengine.mountainbizworks.org/wp-content/uploads/2017/10/Start-Grow-Thrive-logo-e1508263667267.png
ORGANIZER;CN="Ascent Business Network":MAILTO:info@ascentbusinessnetwork.com
END:VEVENT
BEGIN:VEVENT
DTSTART;TZID=America/Halifax:20170912T100000
DTEND;TZID=America/Halifax:20170912T120000
DTSTAMP:20260424T120346
CREATED:20170818T202309Z
LAST-MODIFIED:20170906T150637Z
UID:10001775-1505210400-1505217600@wpengine.mountainbizworks.org
SUMMARY:Work For Yourself @50+ Location: High Country Area Agency on Aging
DESCRIPTION:Have you ever dreamed of being your own boss?  Work for Yourself@50+SM is a program specifically designed to help people 50 and older learn about what it takes to be successfully self-employed in today’s economy.  Join us for an interactive workshop where you’ll learn to:  explore your options\, find your focus\, make a plan\, watch out for trouble\, and connect with resources in your community. \n  \nCall Toll Free 888-339-5617 to register \nDetails: \nWednesday\, September 12th at 10am to 12pm at High Country Area Agency on Aging: 468 New Market Blvd. Boone\, NC 28607
URL:https://wpengine.mountainbizworks.org/event/work-for-yourself-50-location-high-country-area-agency-on-aging/
CATEGORIES:Class,High Country Classes & Workshops
ORGANIZER;CN="Ascent Business Network":MAILTO:info@ascentbusinessnetwork.com
END:VEVENT
BEGIN:VEVENT
DTSTART;TZID=America/Halifax:20170816T100000
DTEND;TZID=America/Halifax:20170816T120000
DTSTAMP:20260424T120346
CREATED:20170808T201755Z
LAST-MODIFIED:20170810T184042Z
UID:10001774-1502877600-1502884800@wpengine.mountainbizworks.org
SUMMARY:Work For Yourself @50+ Location: Council on Aging Hendersonville
DESCRIPTION:Have you ever dreamed of being your own boss?  Work for Yourself@50+SM is a program specifically designed to help people 50 and older learn about what it takes to be successfully self-employed in today’s economy.  Join us for an interactive workshop where you’ll learn to:  explore your options\, find your focus\, make a plan\, watch out for trouble\, and connect with resources in your community. \n  \nCall Toll Free 888-339-5617 to register
URL:https://wpengine.mountainbizworks.org/event/work-for-yourself-50-location-council-on-aging-hendersonville/
LOCATION:Council on Aging Hendersonville Board Room\, 105 King Creek Blvd\, Hendersonville\, NC\, 28792\, United States
CATEGORIES:Class
ORGANIZER;CN="Ascent Business Network":MAILTO:info@ascentbusinessnetwork.com
GEO:35.2953251;-82.4354105
X-APPLE-STRUCTURED-LOCATION;VALUE=URI;X-ADDRESS=Council on Aging Hendersonville Board Room 105 King Creek Blvd Hendersonville NC 28792 United States;X-APPLE-RADIUS=500;X-TITLE=105 King Creek Blvd:geo:-82.4354105,35.2953251
END:VEVENT
END:VCALENDAR