BEGIN:VCALENDAR
VERSION:2.0
PRODID:-//Mountain BizWorks - ECPv6.15.20//NONSGML v1.0//EN
CALSCALE:GREGORIAN
METHOD:PUBLISH
X-WR-CALNAME:Mountain BizWorks
X-ORIGINAL-URL:https://wpengine.mountainbizworks.org
X-WR-CALDESC:Events for Mountain BizWorks
REFRESH-INTERVAL;VALUE=DURATION:PT1H
X-Robots-Tag:noindex
X-PUBLISHED-TTL:PT1H
BEGIN:VTIMEZONE
TZID:America/New_York
BEGIN:DAYLIGHT
TZOFFSETFROM:-0500
TZOFFSETTO:-0400
TZNAME:EDT
DTSTART:20240310T070000
END:DAYLIGHT
BEGIN:STANDARD
TZOFFSETFROM:-0400
TZOFFSETTO:-0500
TZNAME:EST
DTSTART:20241103T060000
END:STANDARD
BEGIN:DAYLIGHT
TZOFFSETFROM:-0500
TZOFFSETTO:-0400
TZNAME:EDT
DTSTART:20250309T070000
END:DAYLIGHT
BEGIN:STANDARD
TZOFFSETFROM:-0400
TZOFFSETTO:-0500
TZNAME:EST
DTSTART:20251102T060000
END:STANDARD
BEGIN:DAYLIGHT
TZOFFSETFROM:-0500
TZOFFSETTO:-0400
TZNAME:EDT
DTSTART:20260308T070000
END:DAYLIGHT
BEGIN:STANDARD
TZOFFSETFROM:-0400
TZOFFSETTO:-0500
TZNAME:EST
DTSTART:20261101T060000
END:STANDARD
BEGIN:DAYLIGHT
TZOFFSETFROM:-0500
TZOFFSETTO:-0400
TZNAME:EDT
DTSTART:20270314T070000
END:DAYLIGHT
BEGIN:STANDARD
TZOFFSETFROM:-0400
TZOFFSETTO:-0500
TZNAME:EST
DTSTART:20271107T060000
END:STANDARD
END:VTIMEZONE
BEGIN:VTIMEZONE
TZID:UTC
BEGIN:STANDARD
TZOFFSETFROM:+0000
TZOFFSETTO:+0000
TZNAME:UTC
DTSTART:20250101T000000
END:STANDARD
END:VTIMEZONE
BEGIN:VEVENT
DTSTART;TZID=America/New_York:20250624T173000
DTEND;TZID=America/New_York:20260624T193000
DTSTAMP:20260421T110950
CREATED:20250523T200530Z
LAST-MODIFIED:20250523T200530Z
UID:10002822-1750786200-1782329400@wpengine.mountainbizworks.org
SUMMARY:El Grupo de Crecimiento Catalizador
DESCRIPTION:El Grupo de Crecimiento Catalizador es una forma constructiva de invertir en ti mismo y en tu negocio mediante una búsqueda cohesiva y unificada del éxito. \nEste programa une conocimiento y esfuerzo en un espíritu de armonía entre un grupo de emprendedores que buscan alcanzar una meta definida. \nCon esto en mente\, es importante recordar que este programa se basa en la idea: “¡Cuanto más damos\, más recibimos!” \nPara postularte\, completa la solicitud antes del 9 de junio. \nSi tienes alguna pregunta o inquietud\, no dudes en contactar con la gerente del programa en jenny@mountainbizworks.org.
URL:https://wpengine.mountainbizworks.org/event/el-grupo-de-crecimiento-catalizador/
CATEGORIES:Catalizador,En Espanol
END:VEVENT
BEGIN:VEVENT
DTSTART;TZID=America/New_York:20260202T180000
DTEND;TZID=America/New_York:20260202T190000
DTSTAMP:20260421T110950
CREATED:20251121T221102Z
LAST-MODIFIED:20251121T221151Z
UID:10002887-1770055200-1770058800@wpengine.mountainbizworks.org
SUMMARY:Orientation Session
DESCRIPTION:Join us for an information session to discover what resources are available at Mountain BizWorks that will help you start\, grow\, and thrive in your business. Hosted by our Learning Programs Manager\, Holly Rivers\, this session is a great opportunity to learn more about Mountain BizWorks’ small business lending and learning programs.
URL:https://wpengine.mountainbizworks.org/event/orientation-session-68/
LOCATION:Mountain BizWorks\, 153 S Lexington Ave\, Asheville\, NC\, 28801\, United States
CATEGORIES:Event,In-Person,Learn,Orientation Session
END:VEVENT
BEGIN:VEVENT
DTSTART;TZID=America/New_York:20260203T170000
DTEND;TZID=America/New_York:20260203T190000
DTSTAMP:20260421T110950
CREATED:20251210T194734Z
LAST-MODIFIED:20251210T194734Z
UID:10002895-1770138000-1770145200@wpengine.mountainbizworks.org
SUMMARY:Craft Your Commerce Book Club | Taxes for Humans by Hannah Cole
DESCRIPTION:Join author Hannah Cole for a two-part discussion of her new book\, Taxes for Humans. As both a tax expert and an artist\, Hannah excels at demystifying taxes for anyone\, but especially for creative people. If you’ve ever found yourself wanting a simple\, kind\, and practical explanation of how to handle your taxes as a self-employed person\, this book is for you. \nMeeting dates: \n\nTuesday\, February 3rd\, 5:00-7:00 pm\, in-person at the Center for Craft\nTuesday\, February 24th\, 12:00 – 2:00pm\, virtual via Zoom\n\nAbout the Book: \n“Equal parts empathetic and practical\, Taxes for Humans is a handbook for tackling the tax-season-scaries\, written specifically for people who are self-employed. Provides essential tax education for those pushed to the back of the financial line in America\, including women\, queer people\, and BIPOC folks\, this book provides the practical tools people need to understand their taxes\, conquer their fear of finances\, bulk up on tax benefits\, and end the tax season stronger\, smarter\, and more tax-savvy than ever–without sacrificing their sanity.” \nAbout the Author/Facilitator: \nHannah Cole is a tax expert who specializes in working with creative businesses and mission-driven solopreneurs. A long-time working artist herself\, she’s helped tens of thousands of self-employed people skill up with accessible tax and money education\, through her Money Bootcamp program\, speaking engagements from Florida to Alaska\, and on the Sunlight Tax podcast. She is the founder of Sunlight Tax.
URL:https://wpengine.mountainbizworks.org/event/craft-your-commerce-book-club-taxes-for-humans-by-hannah-cole/
LOCATION:Center for Craft – Michael Sherrill Loft\, 67 Broadway St\, Asheville\, 28801\, United States
CATEGORIES:Class,Craft Your Commerce,In-Person,Learn
END:VEVENT
BEGIN:VEVENT
DTSTART;TZID=America/New_York:20260204T090000
DTEND;TZID=America/New_York:20260204T100000
DTSTAMP:20260421T110950
CREATED:20231207T145656Z
LAST-MODIFIED:20231207T145656Z
UID:10002493-1770195600-1770199200@wpengine.mountainbizworks.org
SUMMARY:1 Million Cups AVL
DESCRIPTION:1 Million Cups is a Kaufman Foundation initiative intended to bring founders together so they can uplift one another\, learn from each other\, and solve problems together. 1 Million Cups AVL is our local chapter\, and Hatch Innovation Hub is its home. It offers an inclusive space for entrepreneurs to connect\, work through challenges\, and help each other grow. \nEvery Wednesday from 9am – 10am\, community members gather in Hatch’s event space for a 6-minute business presentation from a local founder followed by 20 minutes of Q&A. \nWe recommend 1 Million Cups to everyone\, especially those who are new to WNC’s entrepreneurial community.
URL:https://wpengine.mountainbizworks.org/event/1-million-cups-avl/2026-02-04/
LOCATION:Hatch Innovation Hub\, 45 S French Broad Avenue\, Asheville\, 28801\, United States
CATEGORIES:In-Person,Partner Events
END:VEVENT
BEGIN:VEVENT
DTSTART;TZID=America/New_York:20260204T093000
DTEND;TZID=America/New_York:20260204T123000
DTSTAMP:20260421T110950
CREATED:20251117T164935Z
LAST-MODIFIED:20260120T193022Z
UID:10002882-1770197400-1770208200@wpengine.mountainbizworks.org
SUMMARY:FULL - Alpine
DESCRIPTION:The Alpine Course is designed to support founders of businesses that have been operating for at least one year.\n\n\nAlpine will give you the opportunity to explore your options by assessing where you have been through financial\, marketing and customer analytics along with revisiting your mission\, vision\, and values\, as well as peer to peer support. This course will help you ideate new ways of doing business\, create a deep understanding of your financials and what they mean\, and examine your customer segment through a variety of exercises and conversations. We will re-connect with your why and help you imagine new short and long term goals to grow and sustain your business.\n\nDuring this 7-week course\, you will get up and out of your day-to-day operations and regain an aerial perspective of where you have been\, where you are now\, and where your business is headed in a peer-to-peer learning environment.\n\n\nThis course will build on the core concepts of our popular Foundations Business Planning course while also assisting entrepreneurs in determining whether our ScaleUp WNC program may be a good fit for them in the future.
URL:https://wpengine.mountainbizworks.org/event/alpine-9/
LOCATION:Goodwill Workforce Development Center\, 1616 Patton Avenue\, Asheville\, NC\, 28806\, United States
CATEGORIES:Alpine,Class,Course,Learn,Online
END:VEVENT
BEGIN:VEVENT
DTSTART;TZID=America/New_York:20260211T090000
DTEND;TZID=America/New_York:20260211T100000
DTSTAMP:20260421T110950
CREATED:20231207T145656Z
LAST-MODIFIED:20231207T145656Z
UID:10002494-1770800400-1770804000@wpengine.mountainbizworks.org
SUMMARY:1 Million Cups AVL
DESCRIPTION:1 Million Cups is a Kaufman Foundation initiative intended to bring founders together so they can uplift one another\, learn from each other\, and solve problems together. 1 Million Cups AVL is our local chapter\, and Hatch Innovation Hub is its home. It offers an inclusive space for entrepreneurs to connect\, work through challenges\, and help each other grow. \nEvery Wednesday from 9am – 10am\, community members gather in Hatch’s event space for a 6-minute business presentation from a local founder followed by 20 minutes of Q&A. \nWe recommend 1 Million Cups to everyone\, especially those who are new to WNC’s entrepreneurial community.
URL:https://wpengine.mountainbizworks.org/event/1-million-cups-avl/2026-02-11/
LOCATION:Hatch Innovation Hub\, 45 S French Broad Avenue\, Asheville\, 28801\, United States
CATEGORIES:In-Person,Partner Events
END:VEVENT
BEGIN:VEVENT
DTSTART;TZID=UTC:20260212T173000
DTEND;TZID=UTC:20260212T203000
DTSTAMP:20260421T110950
CREATED:20251105T212914Z
LAST-MODIFIED:20260122T224315Z
UID:10002878-1770917400-1770928200@wpengine.mountainbizworks.org
SUMMARY:FULL - Foundations Business Planning Course
DESCRIPTION:Our Foundations business planning course helps guide ideas from concept to reality in a participatory\, supportive learning environment.\nJoin a cohort of aspiring and existing entrepreneurs to gain an aerial perspective of your vision and the comprehensive business skills necessary to help bring your visions into reality. Participants will gain a clear aerial perspective of their business operations\, financials\, research and development\, and marketing strategies. They will leave the course with a comprehensive business plan\, a clear vision for their business\, and concrete tasks for future work. \nThroughout the course\, emphasis will be placed on developing the social capital of the group. Participants will be encouraged to gather feedback from their peers\, creating a strong network of deep support and synergy. For more info\, visit the Foundations Business Planning overview page. \nIf you have any questions please contact our team at classes@mountainbizworks.org. \nRegistration\nComplete our online registration form to hold your seat in the cohort of your choice.  We will follow up with you within a few days. You are welcome to contact us with any follow-up questions or ask about the status of your request. \n 
URL:https://wpengine.mountainbizworks.org/event/foundations-business-planning-course-16/
LOCATION:Mountain BizWorks Asheville Office\, 153 S Lexington Avenue\, Asheville\, NC\, 28801\, United States
CATEGORIES:Course,Foundations Business Planning,Learn
GEO:35.590696;-82.552115
X-APPLE-STRUCTURED-LOCATION;VALUE=URI;X-ADDRESS=Mountain BizWorks Asheville Office 153 S Lexington Avenue Asheville NC 28801 United States;X-APPLE-RADIUS=500;X-TITLE=153 S Lexington Avenue:geo:-82.552115,35.590696
END:VEVENT
BEGIN:VEVENT
DTSTART;TZID=America/New_York:20260213T100000
DTEND;TZID=America/New_York:20260213T123000
DTSTAMP:20260421T110950
CREATED:20251117T165551Z
LAST-MODIFIED:20251216T205915Z
UID:10002883-1770976800-1770985800@wpengine.mountainbizworks.org
SUMMARY:Financial Series
DESCRIPTION:What is covered:\nFinancial Tools – Financial Tools will introduce you to the tools to understand the basics of business finance so you can make informed decisions on how to organize and manage your business finances. Topics discussed are record keeping; bookkeeping; accounting; creating\, understanding and using financial statements and reports. \nAccounting Software – this class uses the accounting platform Quickbooks to provide an overview of online software\, the different subscription levels\, and will teach you how to navigate the dashboard and explore the reporting feature to generate reports that can be customized to your needs. When you complete this class\, you’ll know the best ways to get around\, enter day-to-day transactions\, get the information you need out of accounting software\, and powerful report tools that’ll help your business make good decisions. \nCost: $60 \n 
URL:https://wpengine.mountainbizworks.org/event/financial-series-25/
LOCATION:Virtual\, Online — Zoom\, NC
CATEGORIES:Class,Course,Event,Financial Series,Learn,Online
END:VEVENT
BEGIN:VEVENT
DTSTART;TZID=America/New_York:20260218T090000
DTEND;TZID=America/New_York:20260218T100000
DTSTAMP:20260421T110950
CREATED:20231207T145656Z
LAST-MODIFIED:20231207T145656Z
UID:10002495-1771405200-1771408800@wpengine.mountainbizworks.org
SUMMARY:1 Million Cups AVL
DESCRIPTION:1 Million Cups is a Kaufman Foundation initiative intended to bring founders together so they can uplift one another\, learn from each other\, and solve problems together. 1 Million Cups AVL is our local chapter\, and Hatch Innovation Hub is its home. It offers an inclusive space for entrepreneurs to connect\, work through challenges\, and help each other grow. \nEvery Wednesday from 9am – 10am\, community members gather in Hatch’s event space for a 6-minute business presentation from a local founder followed by 20 minutes of Q&A. \nWe recommend 1 Million Cups to everyone\, especially those who are new to WNC’s entrepreneurial community.
URL:https://wpengine.mountainbizworks.org/event/1-million-cups-avl/2026-02-18/
LOCATION:Hatch Innovation Hub\, 45 S French Broad Avenue\, Asheville\, 28801\, United States
CATEGORIES:In-Person,Partner Events
END:VEVENT
BEGIN:VEVENT
DTSTART;TZID=America/New_York:20260225T090000
DTEND;TZID=America/New_York:20260225T100000
DTSTAMP:20260421T110950
CREATED:20231207T145656Z
LAST-MODIFIED:20231207T145656Z
UID:10002496-1772010000-1772013600@wpengine.mountainbizworks.org
SUMMARY:1 Million Cups AVL
DESCRIPTION:1 Million Cups is a Kaufman Foundation initiative intended to bring founders together so they can uplift one another\, learn from each other\, and solve problems together. 1 Million Cups AVL is our local chapter\, and Hatch Innovation Hub is its home. It offers an inclusive space for entrepreneurs to connect\, work through challenges\, and help each other grow. \nEvery Wednesday from 9am – 10am\, community members gather in Hatch’s event space for a 6-minute business presentation from a local founder followed by 20 minutes of Q&A. \nWe recommend 1 Million Cups to everyone\, especially those who are new to WNC’s entrepreneurial community.
URL:https://wpengine.mountainbizworks.org/event/1-million-cups-avl/2026-02-25/
LOCATION:Hatch Innovation Hub\, 45 S French Broad Avenue\, Asheville\, 28801\, United States
CATEGORIES:In-Person,Partner Events
END:VEVENT
BEGIN:VEVENT
DTSTART;TZID=America/New_York:20260227T110000
DTEND;TZID=America/New_York:20260227T130000
DTSTAMP:20260421T110950
CREATED:20251210T185435Z
LAST-MODIFIED:20251210T193857Z
UID:10002894-1772190000-1772197200@wpengine.mountainbizworks.org
SUMMARY:Craft Your Commerce Connect | The Experimenter's Guide to Goals: Small Shifts\, Real Momentum
DESCRIPTION:Traditional goal-setting rarely fits the creative entrepreneur’s reality. This workshop introduces mindset shifts and practical tools tailored to makers and craft-based business owners. You’ll leave with a menu of small experiments you can put into practice immediately—so you can build momentum in a way that supports both your creativity and your business growth. \nWhat You’ll Gain in This Workshop: \nYou’ll leave with: \n\nMindset shifts that make goals feel energizing\, not overwhelming\nA personalized approach to goal-setting that fits your strengths and season of life\nSmall\, low-stakes experiments to clarify what actually works for you\nTools to overcome internal blocks and build momentum without pressure\nA repeatable process for refining goals with clarity\, intention\, and self-trust\n\nInstructor Bio: \nAnnie Woods is an Immigrant\, Writer\, and Transformational Leadership Coach with 13 years of supporting CEOs. Enneagram certified\, IFS-informed\, and trauma-aware.\nwww.anniepwoods.com\nwww.substack.com/anniepwoods
URL:https://wpengine.mountainbizworks.org/event/craft-your-commerce-connect-the-experimenters-guide-to-goals-small-shifts-real-momentum/
LOCATION:Center for Craft\, 67 Broadway St\, Asheville\, 28801\, United States
CATEGORIES:Class,Craft Your Commerce,In-Person,Learn
END:VEVENT
END:VCALENDAR