BEGIN:VCALENDAR
VERSION:2.0
PRODID:-//Mountain BizWorks - ECPv6.15.20//NONSGML v1.0//EN
CALSCALE:GREGORIAN
METHOD:PUBLISH
X-WR-CALNAME:Mountain BizWorks
X-ORIGINAL-URL:https://wpengine.mountainbizworks.org
X-WR-CALDESC:Events for Mountain BizWorks
REFRESH-INTERVAL;VALUE=DURATION:PT1H
X-Robots-Tag:noindex
X-PUBLISHED-TTL:PT1H
BEGIN:VTIMEZONE
TZID:America/New_York
BEGIN:DAYLIGHT
TZOFFSETFROM:-0500
TZOFFSETTO:-0400
TZNAME:EDT
DTSTART:20190310T070000
END:DAYLIGHT
BEGIN:STANDARD
TZOFFSETFROM:-0400
TZOFFSETTO:-0500
TZNAME:EST
DTSTART:20191103T060000
END:STANDARD
BEGIN:DAYLIGHT
TZOFFSETFROM:-0500
TZOFFSETTO:-0400
TZNAME:EDT
DTSTART:20200308T070000
END:DAYLIGHT
BEGIN:STANDARD
TZOFFSETFROM:-0400
TZOFFSETTO:-0500
TZNAME:EST
DTSTART:20201101T060000
END:STANDARD
BEGIN:DAYLIGHT
TZOFFSETFROM:-0500
TZOFFSETTO:-0400
TZNAME:EDT
DTSTART:20210314T070000
END:DAYLIGHT
BEGIN:STANDARD
TZOFFSETFROM:-0400
TZOFFSETTO:-0500
TZNAME:EST
DTSTART:20211107T060000
END:STANDARD
END:VTIMEZONE
BEGIN:VTIMEZONE
TZID:America/Halifax
BEGIN:DAYLIGHT
TZOFFSETFROM:-0400
TZOFFSETTO:-0300
TZNAME:ADT
DTSTART:20180311T060000
END:DAYLIGHT
BEGIN:STANDARD
TZOFFSETFROM:-0300
TZOFFSETTO:-0400
TZNAME:AST
DTSTART:20181104T050000
END:STANDARD
BEGIN:DAYLIGHT
TZOFFSETFROM:-0400
TZOFFSETTO:-0300
TZNAME:ADT
DTSTART:20190310T060000
END:DAYLIGHT
BEGIN:STANDARD
TZOFFSETFROM:-0300
TZOFFSETTO:-0400
TZNAME:AST
DTSTART:20191103T050000
END:STANDARD
BEGIN:DAYLIGHT
TZOFFSETFROM:-0400
TZOFFSETTO:-0300
TZNAME:ADT
DTSTART:20200308T060000
END:DAYLIGHT
BEGIN:STANDARD
TZOFFSETFROM:-0300
TZOFFSETTO:-0400
TZNAME:AST
DTSTART:20201101T050000
END:STANDARD
BEGIN:DAYLIGHT
TZOFFSETFROM:-0400
TZOFFSETTO:-0300
TZNAME:ADT
DTSTART:20210314T060000
END:DAYLIGHT
BEGIN:STANDARD
TZOFFSETFROM:-0300
TZOFFSETTO:-0400
TZNAME:AST
DTSTART:20211107T050000
END:STANDARD
END:VTIMEZONE
BEGIN:VEVENT
DTSTART;TZID=America/New_York:20201111T140000
DTEND;TZID=America/New_York:20201111T150000
DTSTAMP:20260424T080558
CREATED:20201013T213752Z
LAST-MODIFIED:20201026T141643Z
UID:10001873-1605103200-1605106800@wpengine.mountainbizworks.org
SUMMARY:Legal Webinar: Employment Law 101
DESCRIPTION:The COVID-19 pandemic has highlighted the importance of understanding the legal parameters surrounding the employee/employer relationship.  This webinar will provide an overview of the most relevant employment laws every employer should be familiar with.  No matter your size\, every business needs to understand the basics of leave laws\, the American’s with Disabilities Act\, the Fair Labor Standards Act\, and the difference between an employee and independent contractor.  Participants will come away from this webinar with the tools needed navigate the trickiest employment laws. \nThis webinar is hosted in partnership with NC LEAP. \nRegister for this free webinar here.
URL:https://wpengine.mountainbizworks.org/event/webinar-employment-law-101/
LOCATION:153 South Lexington Ave\, Asheville\, NC\, 28801\, United States
CATEGORIES:Class,Legal Workshop
END:VEVENT
BEGIN:VEVENT
DTSTART;TZID=America/Halifax:20200820T180000
DTEND;TZID=America/Halifax:20200820T190000
DTSTAMP:20260424T080558
CREATED:20200710T202929Z
LAST-MODIFIED:20201218T232854Z
UID:10002115-1597946400-1597950000@wpengine.mountainbizworks.org
SUMMARY:Taller Virtual- ¿Qué Estructura Legal es la Mejor Opción para mi Negocio? – En Colaboración con Pisgah Legal Services
DESCRIPTION:Al iniciar un negocio\, la decisión más importante relacionada a cómo hacer  impuestos es el tipo de estructura legal que escoja para su negocio. \nEsta decisión no solo tendrá un impacto en la cantidad que paga en impuestos\, sino que afectará la cantidad de papeleo que debe hacer su negocio\, la responsabilidad personal que enfrenta y su capacidad para recaudar dinero. \nA continuación te presentamos los principales tipos de sociedades en Estados Unidos para que sepas cuál es más conveniente a la hora de hacer negocios en el país: \n\nSole proprietorship/Propietario Individual\nPartnership/Sociedad limitada\nLimited Liability Company /Sociedad de responsabilidad limitada\nCorporation/ Corporación\n\nÚnase a nosotros para esta sesión informativa GRATUITA de una hora con Justin Edge\, abogado de los Servicios Legales de Pisgah para obtener una visión general de los diferentes tipos de entidades legales y determinar cuál es el adecuado para su negocio. \nEste evento es solo para fines informativos generales y no constituye asesoramiento legal. \n\nRegistrarse Aquí\n \nEl evento se llevará a cabo virtualmente\, a través de la plataforma de videoconferencia Zoom. Recibirá información sobre cómo unirse al evento después de registrarse. Para más información\, contacte a Jenny Forero en jenny@mountainbizworks.org o llama al numero (828) 513-3767\n\n \n\n\n\n\n \n\n\n\n\n 
URL:https://wpengine.mountainbizworks.org/event/taller-legal-en-asociacion-con-servicios-legales-de-pisgah/
LOCATION:153 South Lexington Ave\, Asheville\, NC\, 28801\, United States
CATEGORIES:Class,En Espanol,Legal Workshop
GEO:35.7595731;-79.0192997
X-APPLE-STRUCTURED-LOCATION;VALUE=URI;X-ADDRESS=153 South Lexington Ave Asheville NC 28801 United States;X-APPLE-RADIUS=500;X-TITLE=153 South Lexington Ave:geo:-79.0192997,35.7595731
END:VEVENT
BEGIN:VEVENT
DTSTART;TZID=America/Halifax:20200819T150000
DTEND;TZID=America/Halifax:20200819T160000
DTSTAMP:20260424T080558
CREATED:20200709T222802Z
LAST-MODIFIED:20200721T184112Z
UID:10001861-1597849200-1597852800@wpengine.mountainbizworks.org
SUMMARY:Legal Entity Workshop with Pisgah Legal Services (Virtual Workshop)
DESCRIPTION:When starting a business\, the most important decision relating to taxes is the type of legal structure you select for your company. \nNot only will this decision impact how much you pay in taxes\, but also the amount of paperwork your business is required to do\, the personal liability you face\, and your ability to raise money. \nThe most common forms of business are sole proprietorships\, partnerships\, corporations and S corporations. A more recent development to these forms of business is the limited liability company (LLC) and the limited liability partnership (LLP). Because each business form comes with different tax consequences\, you will want to make your selection wisely and choose the structure that most closely matches your business’s needs. \nJoin us for this FREE one hour informational session with Justin Edge\, attorney from Pisgah Legal Services to get an overview of the different types of legal entities and determine which one is right for your business. \nThis event is intended for general informational purposes only and does not constitute legal advice. \nRegister here.  \nThe event will be held virtually\, via the videoconferencing platform Zoom. You will receive information on how to join the event after registering.
URL:https://wpengine.mountainbizworks.org/event/virtual-legal-workshop-in-partnership-with-pisgah-legal/
LOCATION:153 South Lexington Ave\, Asheville\, NC\, 28801\, United States
CATEGORIES:Class,Legal Workshop
END:VEVENT
BEGIN:VEVENT
DTSTART;TZID=America/Halifax:20200408T110000
DTEND;TZID=America/Halifax:20200408T130000
DTSTAMP:20260424T080558
CREATED:20200402T201039Z
LAST-MODIFIED:20200407T202652Z
UID:10002078-1586343600-1586350800@wpengine.mountainbizworks.org
SUMMARY:Registration CLOSED: Virtual Legal Clinic
DESCRIPTION:In this virtual Legal Clinic\, pro-bono attorneys will be offering free\, one-on-one consultations to small business owners who have legal questions related to navigating the impacts of coronavirus on their business. \nThe consultation will be 25 minutes per business\, first come\, first serve. Entrepreneurs will have the opportunity to consult with a volunteer business attorney at no cost to ask questions around the topics of funding/financing for businesses\, employment law\, tax law\, and other general business considerations. \nRegistration is required. Due to the limited capacity of the clinic\, we are prioritizing current small business owners who have questions related to the impact of COVID-19 on their business.   \nPlease hold the time 11am – 2pm open until we notify you to confirm your attendance and the specific time of your appointment.  \nRegistration for this event is now closed.
URL:https://wpengine.mountainbizworks.org/event/virtual-legal-clinic/
LOCATION:NC\, United States
CATEGORIES:Class,Coronavirus Response,Legal Workshop
END:VEVENT
BEGIN:VEVENT
DTSTART;TZID=America/Halifax:20200331T130000
DTEND;TZID=America/Halifax:20200331T143000
DTSTAMP:20260424T080558
CREATED:20200326T163905Z
LAST-MODIFIED:20200326T234951Z
UID:10001828-1585659600-1585665000@wpengine.mountainbizworks.org
SUMMARY:Webinar: Coronavirus and Employment Law – What Small Business Owners Need to Know
DESCRIPTION:During this interactive webinar\, Murphy Fletcher\, a labor and employment attorney with McGuire\, Wood & Bissette\, will discuss COVID-19 issues affecting employers and their workforce\, including changes to the unemployment system\, legal concerns surrounding employee layoffs\, and the management of COVID-19 risks in the workplace. The webinar will also address the legislative changes included in the Families First Coronavirus Response Act\, such as paid emergency sick leave and expanded family and medical leave. \n \nMurphy H. Fletcher is an attorney with McGuire\, Wood & Bissette\, P.A.\, in Asheville\, North Carolina. Murphy focuses on helping businesses navigate state and federal regulatory issues in the areas of employment and tax. Murphy advises employers on human resources issues; drafts employment policies and agreements; and represents businesses before government agencies and in state and federal court. In addition to human resources issues\, Murphy assists employers with state and federal tax issues\, including representation before the Internal Revenue Service and the North Carolina Department of Revenue. She also advises employers on the development\, implementation\, and maintenance of compliant employee benefits plans. \nMurphy received her B.S. degree\, magna cum laude\, from Sweet Briar College in 2009 and her J.D. from Wake Forest University School of Law in 2012. \nContinue to the Webinar Registration Form »
URL:https://wpengine.mountainbizworks.org/event/webinar-coronavirus-and-employment-law-what-small-business-owners-need-to-know/
LOCATION:NC\, United States
CATEGORIES:Class,Coronavirus Response,Legal Workshop
END:VEVENT
BEGIN:VEVENT
DTSTART;TZID=America/Halifax:20200327T110000
DTEND;TZID=America/Halifax:20200327T140000
DTSTAMP:20260424T080558
CREATED:20191211T155530Z
LAST-MODIFIED:20200319T145209Z
UID:10002040-1585306800-1585317600@wpengine.mountainbizworks.org
SUMMARY:Postponed: Free Legal Clinic for Entrepreneurs (FULL - Waitlist Available)
DESCRIPTION:This event has been postponed until a later date. \n**Please note that the Legal Clinic is full. Sign up below to get on the Waitlist.** \nIn partnership with the NC Bar Foundation’s NC LEAP Program and volunteers from the NC Bar Association\, we are offering free one-on-one attorney consultations to entrepreneurs who have legal questions related to their start-up or existing businesses.  \nThe consultation will be 30 minutes per business\, first come\, first serve. Entrepreneurs will have the opportunity to consult with a volunteer business attorney at no cost to ask questions around: \n\nBusiness Entity Formation\nGeneral Business Advice\nContract Drafting/Review\nEmployment Advice\nReal Estate/Commercial Leasing\n\nRegistration is required.  \nPlease hold the time 11am – 2pm open until we notify you to confirm your attendance and the specific time of your appointment.  \nGet On The Waitlist
URL:https://wpengine.mountainbizworks.org/event/free-legal-clinic-for-entrepreneurs-3/
LOCATION:Mountain BizWorks Asheville Office\, 153 S Lexington Avenue\, Asheville\, NC\, 28801\, United States
CATEGORIES:Class,Legal Workshop
GEO:35.590696;-82.552115
X-APPLE-STRUCTURED-LOCATION;VALUE=URI;X-ADDRESS=Mountain BizWorks Asheville Office 153 S Lexington Avenue Asheville NC 28801 United States;X-APPLE-RADIUS=500;X-TITLE=153 S Lexington Avenue:geo:-82.552115,35.590696
END:VEVENT
BEGIN:VEVENT
DTSTART;TZID=America/Halifax:20191108T110000
DTEND;TZID=America/Halifax:20191108T130000
DTSTAMP:20260424T080558
CREATED:20190815T134602Z
LAST-MODIFIED:20191029T145623Z
UID:10001787-1573210800-1573218000@wpengine.mountainbizworks.org
SUMMARY:Free Legal Clinic for Entrepreneurs (FULL - Waitlist Available)
DESCRIPTION:**Please note that the Legal Clinic is full. Sign up below to get on the Waitlist.** \nIn partnership with the NC Bar Foundation’s NC LEAP Program and volunteers from the NC Bar Association\, we are offering free one-on-one attorney consultations to entrepreneurs who have legal questions related to their start-up or existing businesses.  \nThe consultation will be 30 minutes per business\, first come\, first serve. Entrepreneurs will have the opportunity to consult with a volunteer business attorney at no cost to ask questions around: \n\nBusiness Entity Formation\nGeneral Business Advice\nContract Drafting/Review\nEmployment Advice\nReal Estate/Commercial Leasing\n\nRegistration is required.  \nPlease hold the time 11am – 1pm open until we notify you to confirm your attendance and the specific time of your appointment.  \nGet On The Waitlist
URL:https://wpengine.mountainbizworks.org/event/free-legal-clinic-for-entrepreneurs-2/
LOCATION:Mountain BizWorks Asheville Office\, 153 S Lexington Avenue\, Asheville\, NC\, 28801\, United States
CATEGORIES:Class,Legal Workshop
GEO:35.590696;-82.552115
X-APPLE-STRUCTURED-LOCATION;VALUE=URI;X-ADDRESS=Mountain BizWorks Asheville Office 153 S Lexington Avenue Asheville NC 28801 United States;X-APPLE-RADIUS=500;X-TITLE=153 S Lexington Avenue:geo:-82.552115,35.590696
END:VEVENT
BEGIN:VEVENT
DTSTART;TZID=America/Halifax:20190809T110000
DTEND;TZID=America/Halifax:20190809T140000
DTSTAMP:20260424T080558
CREATED:20190620T213738Z
LAST-MODIFIED:20190726T163738Z
UID:10001987-1565348400-1565359200@wpengine.mountainbizworks.org
SUMMARY:Free Legal Clinic for Entrepreneurs (FULL - Waitlist Available)
DESCRIPTION:**Please note that the Legal Clinic is full. Sign up below to get on the Waitlist.** \nIn partnership with the NC Bar Foundation’s NC LEAP Program and volunteers from the NC Bar Association\, we are offering free one-on-one attorney consultations to entrepreneurs who have legal questions related to their start-up or existing businesses.  \nThe consultation will be 1 hour per business. First come\, first serve. Entrepreneurs will have the opportunity to consult with a volunteer business attorney at no cost to ask questions around: \n\nBusiness Entity Formation\nGeneral Business Advice\nContract Drafting/Review\nPatent\nCopyright/Trademark/Trade Secrets\nEmployment Advice\nReal Estate/Commercial Leasing\n\nRegistration is required. Deadline to Register is July 31. \nPlease hold the time 11am – 2pm open until we notify you to confirm your attendance and the specific hour of your appointment.  \nGet On The Waitlist
URL:https://wpengine.mountainbizworks.org/event/free-legal-clinic-for-entrepreneurs/
LOCATION:Mountain BizWorks Asheville Office\, 153 S Lexington Avenue\, Asheville\, NC\, 28801\, United States
CATEGORIES:Class,Legal Workshop
GEO:35.590696;-82.552115
X-APPLE-STRUCTURED-LOCATION;VALUE=URI;X-ADDRESS=Mountain BizWorks Asheville Office 153 S Lexington Avenue Asheville NC 28801 United States;X-APPLE-RADIUS=500;X-TITLE=153 S Lexington Avenue:geo:-82.552115,35.590696
END:VEVENT
END:VCALENDAR